BEGIN:VCALENDAR
VERSION:2.0
PRODID:-//La Solid&#039; - ECPv6.13.2.1//NONSGML v1.0//EN
CALSCALE:GREGORIAN
METHOD:PUBLISH
X-WR-CALNAME:La Solid&#039;
X-ORIGINAL-URL:https://www.lasolid.fr
X-WR-CALDESC:Évènements pour La Solid&#039;
REFRESH-INTERVAL;VALUE=DURATION:PT1H
X-Robots-Tag:noindex
X-PUBLISHED-TTL:PT1H
BEGIN:VTIMEZONE
TZID:Europe/Paris
BEGIN:DAYLIGHT
TZOFFSETFROM:+0100
TZOFFSETTO:+0200
TZNAME:CEST
DTSTART:20260329T010000
END:DAYLIGHT
BEGIN:STANDARD
TZOFFSETFROM:+0200
TZOFFSETTO:+0100
TZNAME:CET
DTSTART:20261025T010000
END:STANDARD
END:VTIMEZONE
BEGIN:VEVENT
DTSTART;TZID=Europe/Paris:20260603T140000
DTEND;TZID=Europe/Paris:20260603T190000
DTSTAMP:20260419T152904
CREATED:20230619T120254Z
LAST-MODIFIED:20240820T225100Z
UID:10001456-1780495200-1780513200@www.lasolid.fr
SUMMARY:Atelier vélo Good’Huile + vente de vélos d'occasion
DESCRIPTION:L’atelier Good’huile est un atelier vélo coopératif et solidaire\, membre du réseau L’Heureux Cyclage.\nNotre équipe bénévole et salariée vous accueille tous les mercredis de 14h à 19h !\n\nNous vous accompagnons dans vos réparations de vélos : nous faisons avec vous et non pas pour vous ! La philosophie de notre atelier est que vous repartiez non seulement avec un vélo réparé mais également avec des connaissances en mécanique !\n\nL’atelier Good’huile est ouvert aux personnes adhérentes de la Solid’ sans prise de rdv. Vous pouvez venir quand vous voulez sur les horaires de la permanence\, nous vous accueillerons en fonction de nos capacités et de l’affluence !\nVous pouvez prendre votre adhésion lors de votre première venue à l’atelier.\nTout est possible chez Good’huile ! Apprendre à réparer ce dérailleur dont les vitesses passent mal\, régler ces freins récalcitrants\, changer une chambre à air\, acheter et installer un porte-bagages…\n\nLes pièces détachées neuves et d’occasion sont en vente à prix fixe\, l’accompagnement technique et la formation à la mécanique sont à prix libre : vous donnez ce que vous pouvez pour aider l’atelier à continuer son bout de chemin !\n\nVous pouvez aussi acheter ou troquer un vélo issu de notre atelier\, nous en avons pour tous les gouts : vélo enfant\, VTT ado/adulte\, VTC\, vélo de ville\, BMX…\n\nL’atelier se trouve au 1 rue des Filatures à Clisson\, derrière la Maison de la Solidarité. Plus d’informations auprès d’Arnaud au 0649762227 et à velo@lasolid.fr.
URL:https://www.lasolid.fr/evenement/atelier-velo-goodhuile-vente-velos/2026-06-03/
LOCATION:Maison de la solidarité\, 1 rue des filatures\, Clisson\, 44190\, France
CATEGORIES:Tiers Lieu Ateliers Solidaires,Vélo
ATTACH;FMTTYPE=image/jpeg:https://www.lasolid.fr/wp-content/uploads/445186160_840457078114807_5486995695168866769_n-1.jpg
ORGANIZER;CN="La Solid'":MAILTO:asso@lasolid.fr
END:VEVENT
BEGIN:VEVENT
DTSTART;TZID=Europe/Paris:20260606T140000
DTEND;TZID=Europe/Paris:20260606T173000
DTSTAMP:20260419T152904
CREATED:20260327T004837Z
LAST-MODIFIED:20260327T004933Z
UID:10002297-1780754400-1780767000@www.lasolid.fr
SUMMARY:Portes ouvertes et forum des assos solidaires
DESCRIPTION:14h-17h30 \nPlus d’infos bientôt !
URL:https://www.lasolid.fr/evenement/portes-ouvertes-et-forum-des-assos-solidaires/
LOCATION:Maison de la solidarité\, 1 rue des filatures\, Clisson\, 44190\, France
CATEGORIES:Autres,Environnement - Biodiversité,Réunions,Tiers Lieu Ateliers Solidaires,Vélo
ORGANIZER;CN="La Solid'":MAILTO:asso@lasolid.fr
END:VEVENT
BEGIN:VEVENT
DTSTART;TZID=Europe/Paris:20260606T180000
DTEND;TZID=Europe/Paris:20260606T200000
DTSTAMP:20260419T152904
CREATED:20251101T204355Z
LAST-MODIFIED:20260327T004723Z
UID:10002117-1780768800-1780776000@www.lasolid.fr
SUMMARY:Assemblée générale festive
DESCRIPTION:La Solid’ propose 2 assemblées générales publiques\, ouvertes à toutes et tous : \n– une en début d’année civile pour valider les comptes de l’année écoulée et le budget de l’ann6e’ cours \n– une en fin d’année scolaire\, en juin\, plus centrée sur les activités\, pour faire le bilan d’activités et préparer les projets de la rentrée… Et nous célébrer en faisant la fête ensemble ! \nIl est possible lors de chacune de ces AG de proposer sa candidature comme bénévole au bureau collégial\, ou de devenir coréférent-e d’une activité. Plus d’infos : asso@lasolid.fr ou 0633562056. \nOrdre du jour envoyé par email aux adhérent·es à jour de leur cotisation. \nPossibilité d’adhérer sur place pour 2026-2027. \nAG suivie d’un repas offert et d’une soirée où on va s’amuser\, jouer\, danser… C’est ouvert à tou·tes ! Bienvenue ! C’est mieux de prévenir pour le repas\, merci !
URL:https://www.lasolid.fr/evenement/assemblee-generale-3/
LOCATION:Maison de la solidarité\, 1 rue des filatures\, Clisson\, 44190\, France
CATEGORIES:Environnement - Biodiversité,Réunions,Tiers Lieu Ateliers Solidaires,Vélo
ATTACH;FMTTYPE=image/jpeg:https://www.lasolid.fr/wp-content/uploads/IMG20210830191728-1-scaled.jpg
ORGANIZER;CN="La Solid'":MAILTO:asso@lasolid.fr
END:VEVENT
BEGIN:VEVENT
DTSTART;TZID=Europe/Paris:20260610T140000
DTEND;TZID=Europe/Paris:20260610T190000
DTSTAMP:20260419T152904
CREATED:20230619T120254Z
LAST-MODIFIED:20240820T225100Z
UID:10001457-1781100000-1781118000@www.lasolid.fr
SUMMARY:Atelier vélo Good’Huile + vente de vélos d'occasion
DESCRIPTION:L’atelier Good’huile est un atelier vélo coopératif et solidaire\, membre du réseau L’Heureux Cyclage.\nNotre équipe bénévole et salariée vous accueille tous les mercredis de 14h à 19h !\n\nNous vous accompagnons dans vos réparations de vélos : nous faisons avec vous et non pas pour vous ! La philosophie de notre atelier est que vous repartiez non seulement avec un vélo réparé mais également avec des connaissances en mécanique !\n\nL’atelier Good’huile est ouvert aux personnes adhérentes de la Solid’ sans prise de rdv. Vous pouvez venir quand vous voulez sur les horaires de la permanence\, nous vous accueillerons en fonction de nos capacités et de l’affluence !\nVous pouvez prendre votre adhésion lors de votre première venue à l’atelier.\nTout est possible chez Good’huile ! Apprendre à réparer ce dérailleur dont les vitesses passent mal\, régler ces freins récalcitrants\, changer une chambre à air\, acheter et installer un porte-bagages…\n\nLes pièces détachées neuves et d’occasion sont en vente à prix fixe\, l’accompagnement technique et la formation à la mécanique sont à prix libre : vous donnez ce que vous pouvez pour aider l’atelier à continuer son bout de chemin !\n\nVous pouvez aussi acheter ou troquer un vélo issu de notre atelier\, nous en avons pour tous les gouts : vélo enfant\, VTT ado/adulte\, VTC\, vélo de ville\, BMX…\n\nL’atelier se trouve au 1 rue des Filatures à Clisson\, derrière la Maison de la Solidarité. Plus d’informations auprès d’Arnaud au 0649762227 et à velo@lasolid.fr.
URL:https://www.lasolid.fr/evenement/atelier-velo-goodhuile-vente-velos/2026-06-10/
LOCATION:Maison de la solidarité\, 1 rue des filatures\, Clisson\, 44190\, France
CATEGORIES:Tiers Lieu Ateliers Solidaires,Vélo
ATTACH;FMTTYPE=image/jpeg:https://www.lasolid.fr/wp-content/uploads/445186160_840457078114807_5486995695168866769_n-1.jpg
ORGANIZER;CN="La Solid'":MAILTO:asso@lasolid.fr
END:VEVENT
BEGIN:VEVENT
DTSTART;TZID=Europe/Paris:20260617T140000
DTEND;TZID=Europe/Paris:20260617T190000
DTSTAMP:20260419T152904
CREATED:20230619T120254Z
LAST-MODIFIED:20240820T225100Z
UID:10001458-1781704800-1781722800@www.lasolid.fr
SUMMARY:Atelier vélo Good’Huile + vente de vélos d'occasion
DESCRIPTION:L’atelier Good’huile est un atelier vélo coopératif et solidaire\, membre du réseau L’Heureux Cyclage.\nNotre équipe bénévole et salariée vous accueille tous les mercredis de 14h à 19h !\n\nNous vous accompagnons dans vos réparations de vélos : nous faisons avec vous et non pas pour vous ! La philosophie de notre atelier est que vous repartiez non seulement avec un vélo réparé mais également avec des connaissances en mécanique !\n\nL’atelier Good’huile est ouvert aux personnes adhérentes de la Solid’ sans prise de rdv. Vous pouvez venir quand vous voulez sur les horaires de la permanence\, nous vous accueillerons en fonction de nos capacités et de l’affluence !\nVous pouvez prendre votre adhésion lors de votre première venue à l’atelier.\nTout est possible chez Good’huile ! Apprendre à réparer ce dérailleur dont les vitesses passent mal\, régler ces freins récalcitrants\, changer une chambre à air\, acheter et installer un porte-bagages…\n\nLes pièces détachées neuves et d’occasion sont en vente à prix fixe\, l’accompagnement technique et la formation à la mécanique sont à prix libre : vous donnez ce que vous pouvez pour aider l’atelier à continuer son bout de chemin !\n\nVous pouvez aussi acheter ou troquer un vélo issu de notre atelier\, nous en avons pour tous les gouts : vélo enfant\, VTT ado/adulte\, VTC\, vélo de ville\, BMX…\n\nL’atelier se trouve au 1 rue des Filatures à Clisson\, derrière la Maison de la Solidarité. Plus d’informations auprès d’Arnaud au 0649762227 et à velo@lasolid.fr.
URL:https://www.lasolid.fr/evenement/atelier-velo-goodhuile-vente-velos/2026-06-17/
LOCATION:Maison de la solidarité\, 1 rue des filatures\, Clisson\, 44190\, France
CATEGORIES:Tiers Lieu Ateliers Solidaires,Vélo
ATTACH;FMTTYPE=image/jpeg:https://www.lasolid.fr/wp-content/uploads/445186160_840457078114807_5486995695168866769_n-1.jpg
ORGANIZER;CN="La Solid'":MAILTO:asso@lasolid.fr
END:VEVENT
BEGIN:VEVENT
DTSTART;TZID=Europe/Paris:20260624T140000
DTEND;TZID=Europe/Paris:20260624T190000
DTSTAMP:20260419T152904
CREATED:20230619T120254Z
LAST-MODIFIED:20240820T225100Z
UID:10001459-1782309600-1782327600@www.lasolid.fr
SUMMARY:Atelier vélo Good’Huile + vente de vélos d'occasion
DESCRIPTION:L’atelier Good’huile est un atelier vélo coopératif et solidaire\, membre du réseau L’Heureux Cyclage.\nNotre équipe bénévole et salariée vous accueille tous les mercredis de 14h à 19h !\n\nNous vous accompagnons dans vos réparations de vélos : nous faisons avec vous et non pas pour vous ! La philosophie de notre atelier est que vous repartiez non seulement avec un vélo réparé mais également avec des connaissances en mécanique !\n\nL’atelier Good’huile est ouvert aux personnes adhérentes de la Solid’ sans prise de rdv. Vous pouvez venir quand vous voulez sur les horaires de la permanence\, nous vous accueillerons en fonction de nos capacités et de l’affluence !\nVous pouvez prendre votre adhésion lors de votre première venue à l’atelier.\nTout est possible chez Good’huile ! Apprendre à réparer ce dérailleur dont les vitesses passent mal\, régler ces freins récalcitrants\, changer une chambre à air\, acheter et installer un porte-bagages…\n\nLes pièces détachées neuves et d’occasion sont en vente à prix fixe\, l’accompagnement technique et la formation à la mécanique sont à prix libre : vous donnez ce que vous pouvez pour aider l’atelier à continuer son bout de chemin !\n\nVous pouvez aussi acheter ou troquer un vélo issu de notre atelier\, nous en avons pour tous les gouts : vélo enfant\, VTT ado/adulte\, VTC\, vélo de ville\, BMX…\n\nL’atelier se trouve au 1 rue des Filatures à Clisson\, derrière la Maison de la Solidarité. Plus d’informations auprès d’Arnaud au 0649762227 et à velo@lasolid.fr.
URL:https://www.lasolid.fr/evenement/atelier-velo-goodhuile-vente-velos/2026-06-24/
LOCATION:Maison de la solidarité\, 1 rue des filatures\, Clisson\, 44190\, France
CATEGORIES:Tiers Lieu Ateliers Solidaires,Vélo
ATTACH;FMTTYPE=image/jpeg:https://www.lasolid.fr/wp-content/uploads/445186160_840457078114807_5486995695168866769_n-1.jpg
ORGANIZER;CN="La Solid'":MAILTO:asso@lasolid.fr
END:VEVENT
BEGIN:VEVENT
DTSTART;TZID=Europe/Paris:20260627T140000
DTEND;TZID=Europe/Paris:20260627T180000
DTSTAMP:20260419T152904
CREATED:20260408T231846Z
LAST-MODIFIED:20260409T002620Z
UID:10002293-1782568800-1782583200@www.lasolid.fr
SUMMARY:REPORTÉ / Atelier mécanique vélo pour femmes et minorités de genre
DESCRIPTION:A PARTIR DE SEPTEMBRE\, RETROUVE L’ATELIER VÉLO EN MIXITÉ CHOISIE LES PREMIERS SAMEDIS DE CHAQUE MOIS ! \nAvec les Super Féministes de La Solid’ : atelier d’apprentissage de la réparation de vélos pour les femmes et minorités de genres. \nApprends à réparer et entretenir ton vélo ! Atelier pédagogique ouvert aux femmes et minorités de genres à La Solid’\, à prix libre. Une question ? Envoie un SMS à Marie : 06 33 38 35 47. \nClaire ou Marie t’attendent avec ou sans vélo. Changer ta chaîne\, régler ton dérailleur\, aider un.e camarade à dévoiler sa roue\, tu peux le faire. Si tu n’y arrives pas\, si tu fais des bêtises\, pas de souci\, c’est comme ça qu’on apprend ! \nEntraide\, bienveillance\, convivialité sont de mise lors de ces ateliers entre femmes et minorités de genre. \nPièces d’usure et pièces d’occasion à petit prix en vente sur place. Tu peux aussi venir avec tes pièces à changer. Pense à apporter de la monnaie pour le prix libre et mettre ton adhésion à jour. \n*Meufs\, Intersexes\, Non-Binaires et Trans
URL:https://www.lasolid.fr/evenement/atelier-mecanique-velo-pour-femmes-et-minorites-de-genre-2-2/
LOCATION:Maison de la solidarité\, 1 rue des filatures\, Clisson\, 44190\, France
CATEGORIES:Rdv des Super Féministes,Tiers Lieu Ateliers Solidaires,Vélo
ATTACH;FMTTYPE=image/jpeg:https://www.lasolid.fr/wp-content/uploads/Modeles-daffiches-Velo6.jpg
ORGANIZER;CN="La Solid'":MAILTO:asso@lasolid.fr
END:VEVENT
END:VCALENDAR