BEGIN:VCALENDAR
VERSION:2.0
PRODID:-//La Solid&#039; - ECPv6.13.2.1//NONSGML v1.0//EN
CALSCALE:GREGORIAN
METHOD:PUBLISH
X-ORIGINAL-URL:https://www.lasolid.fr
X-WR-CALDESC:Évènements pour La Solid&#039;
REFRESH-INTERVAL;VALUE=DURATION:PT1H
X-Robots-Tag:noindex
X-PUBLISHED-TTL:PT1H
BEGIN:VTIMEZONE
TZID:Europe/Paris
BEGIN:DAYLIGHT
TZOFFSETFROM:+0100
TZOFFSETTO:+0200
TZNAME:CEST
DTSTART:20250330T010000
END:DAYLIGHT
BEGIN:STANDARD
TZOFFSETFROM:+0200
TZOFFSETTO:+0100
TZNAME:CET
DTSTART:20251026T010000
END:STANDARD
END:VTIMEZONE
BEGIN:VEVENT
DTSTART;TZID=Europe/Paris:20250903T140000
DTEND;TZID=Europe/Paris:20250903T190000
DTSTAMP:20260419T190125
CREATED:20230619T120254Z
LAST-MODIFIED:20240820T225100Z
UID:10001417-1756908000-1756926000@www.lasolid.fr
SUMMARY:Atelier vélo Good’Huile + vente de vélos d'occasion
DESCRIPTION:L’atelier Good’huile est un atelier vélo coopératif et solidaire\, membre du réseau L’Heureux Cyclage.\nNotre équipe bénévole et salariée vous accueille tous les mercredis de 14h à 19h !\n\nNous vous accompagnons dans vos réparations de vélos : nous faisons avec vous et non pas pour vous ! La philosophie de notre atelier est que vous repartiez non seulement avec un vélo réparé mais également avec des connaissances en mécanique !\n\nL’atelier Good’huile est ouvert aux personnes adhérentes de la Solid’ sans prise de rdv. Vous pouvez venir quand vous voulez sur les horaires de la permanence\, nous vous accueillerons en fonction de nos capacités et de l’affluence !\nVous pouvez prendre votre adhésion lors de votre première venue à l’atelier.\nTout est possible chez Good’huile ! Apprendre à réparer ce dérailleur dont les vitesses passent mal\, régler ces freins récalcitrants\, changer une chambre à air\, acheter et installer un porte-bagages…\n\nLes pièces détachées neuves et d’occasion sont en vente à prix fixe\, l’accompagnement technique et la formation à la mécanique sont à prix libre : vous donnez ce que vous pouvez pour aider l’atelier à continuer son bout de chemin !\n\nVous pouvez aussi acheter ou troquer un vélo issu de notre atelier\, nous en avons pour tous les gouts : vélo enfant\, VTT ado/adulte\, VTC\, vélo de ville\, BMX…\n\nL’atelier se trouve au 1 rue des Filatures à Clisson\, derrière la Maison de la Solidarité. Plus d’informations auprès d’Arnaud au 0649762227 et à velo@lasolid.fr.
URL:https://www.lasolid.fr/evenement/atelier-velo-goodhuile-vente-velos/2025-09-03/
LOCATION:Maison de la solidarité\, 1 rue des filatures\, Clisson\, 44190\, France
CATEGORIES:Tiers Lieu Ateliers Solidaires,Vélo
ATTACH;FMTTYPE=image/jpeg:https://www.lasolid.fr/wp-content/uploads/445186160_840457078114807_5486995695168866769_n-1.jpg
ORGANIZER;CN="La Solid'":MAILTO:asso@lasolid.fr
END:VEVENT
BEGIN:VEVENT
DTSTART;TZID=Europe/Paris:20250910T140000
DTEND;TZID=Europe/Paris:20250910T190000
DTSTAMP:20260419T190125
CREATED:20230619T120254Z
LAST-MODIFIED:20240820T225100Z
UID:10001418-1757512800-1757530800@www.lasolid.fr
SUMMARY:Atelier vélo Good’Huile + vente de vélos d'occasion
DESCRIPTION:L’atelier Good’huile est un atelier vélo coopératif et solidaire\, membre du réseau L’Heureux Cyclage.\nNotre équipe bénévole et salariée vous accueille tous les mercredis de 14h à 19h !\n\nNous vous accompagnons dans vos réparations de vélos : nous faisons avec vous et non pas pour vous ! La philosophie de notre atelier est que vous repartiez non seulement avec un vélo réparé mais également avec des connaissances en mécanique !\n\nL’atelier Good’huile est ouvert aux personnes adhérentes de la Solid’ sans prise de rdv. Vous pouvez venir quand vous voulez sur les horaires de la permanence\, nous vous accueillerons en fonction de nos capacités et de l’affluence !\nVous pouvez prendre votre adhésion lors de votre première venue à l’atelier.\nTout est possible chez Good’huile ! Apprendre à réparer ce dérailleur dont les vitesses passent mal\, régler ces freins récalcitrants\, changer une chambre à air\, acheter et installer un porte-bagages…\n\nLes pièces détachées neuves et d’occasion sont en vente à prix fixe\, l’accompagnement technique et la formation à la mécanique sont à prix libre : vous donnez ce que vous pouvez pour aider l’atelier à continuer son bout de chemin !\n\nVous pouvez aussi acheter ou troquer un vélo issu de notre atelier\, nous en avons pour tous les gouts : vélo enfant\, VTT ado/adulte\, VTC\, vélo de ville\, BMX…\n\nL’atelier se trouve au 1 rue des Filatures à Clisson\, derrière la Maison de la Solidarité. Plus d’informations auprès d’Arnaud au 0649762227 et à velo@lasolid.fr.
URL:https://www.lasolid.fr/evenement/atelier-velo-goodhuile-vente-velos/2025-09-10/
LOCATION:Maison de la solidarité\, 1 rue des filatures\, Clisson\, 44190\, France
CATEGORIES:Tiers Lieu Ateliers Solidaires,Vélo
ATTACH;FMTTYPE=image/jpeg:https://www.lasolid.fr/wp-content/uploads/445186160_840457078114807_5486995695168866769_n-1.jpg
ORGANIZER;CN="La Solid'":MAILTO:asso@lasolid.fr
END:VEVENT
BEGIN:VEVENT
DTSTART;TZID=Europe/Paris:20250910T170000
DTEND;TZID=Europe/Paris:20250910T200000
DTSTAMP:20260419T190125
CREATED:20250918T135433Z
LAST-MODIFIED:20250918T135434Z
UID:10002066-1757523600-1757534400@www.lasolid.fr
SUMMARY:Atelier vélo pour femmes et minorités de genre
DESCRIPTION:Un jeudi soir par mois\, viens entretenir ton vélo et/ou apprendre la mécanique cycle en petit groupe\, sans stress\, sans jugement. \nA partir de 17:00\, Marie t’attend avec ou sans vélo. Changer ta chaîne\, régler ton dérailleur\, aider un.e camarade à dévoiler sa roue\, tu peux le faire. Si tu n’y arrives pas\, si tu fais des bêtises\, pas de souci\, c’est comme ça qu’on apprend ! \nEntraide\, bienveillance\, convivialité sont de mise lors de ces soirées entre femmes et minorités de genre. \nPièces d’usure et pièces d’occasion à petit prix en vente sur place. Tu peux aussi venir avec tes pièces à changer. \nPense à apporter de la monnaie pour le prix libre et mettre ton adhésion à jour. \nJeudis soirs : 10/09\, 09/10\, 06/11\, 04/12 \nRéservation obligatoire : 06 33 38 35 47
URL:https://www.lasolid.fr/evenement/atelier-velo-pour-femmes-et-minorites-de-genre-2/2025-09-10/
LOCATION:Maison de la solidarité\, 1 rue des filatures\, Clisson\, 44190\, France
CATEGORIES:Rdv des Super Féministes,Vélo
ATTACH;FMTTYPE=image/png:https://www.lasolid.fr/wp-content/uploads/meca-meuf-sept-dec-2025.png
ORGANIZER;CN="La Solid'":MAILTO:asso@lasolid.fr
END:VEVENT
BEGIN:VEVENT
DTSTART;TZID=Europe/Paris:20250911T170000
DTEND;TZID=Europe/Paris:20250911T200000
DTSTAMP:20260419T190125
CREATED:20250515T201447Z
LAST-MODIFIED:20250901T191936Z
UID:10001986-1757610000-1757620800@www.lasolid.fr
SUMMARY:Atelier vélo pour femmes et minorités de genre
DESCRIPTION:Un jeudi soir par mois\, viens entretenir ton vélo et/ou apprendre la mécanique cycle en petit groupe\, sans stress\, sans jugement. \nA partir de 17:00\, Marie t’attend avec ou sans vélo. Changer ta chaîne\, régler ton dérailleur\, aider un.e camarade à dévoiler sa roue\, tu peux le faire. Si tu n’y arrives pas\, si tu fais des bêtises\, pas de souci\, c’est comme ça qu’on apprend ! \nEntraide\, bienveillance\, convivialité sont de mise lors de ces soirées entre femmes et minorités de genre. \nPièces d’usure et pièces d’occasion à petit prix en vente sur place. Tu peux aussi venir avec tes pièces à changer. \nPense à apporter de la monnaie pour le prix libre et mettre ton adhésion à jour. \nJeudis soirs : 10/09\, 09/10\, 06/11\, 04/12
URL:https://www.lasolid.fr/evenement/atelier-velo-pour-femmes-et-minorites-de-genre/
LOCATION:Maison de la solidarité\, 1 rue des filatures\, Clisson\, 44190\, France
CATEGORIES:Rdv des Super Féministes,Vélo
ATTACH;FMTTYPE=image/png:https://www.lasolid.fr/wp-content/uploads/meca-meuf-sept-dec-2025.png
ORGANIZER;CN="La Solid'":MAILTO:asso@lasolid.fr
END:VEVENT
BEGIN:VEVENT
DTSTART;TZID=Europe/Paris:20250917T140000
DTEND;TZID=Europe/Paris:20250917T190000
DTSTAMP:20260419T190125
CREATED:20230619T120254Z
LAST-MODIFIED:20240820T225100Z
UID:10001419-1758117600-1758135600@www.lasolid.fr
SUMMARY:Atelier vélo Good’Huile + vente de vélos d'occasion
DESCRIPTION:L’atelier Good’huile est un atelier vélo coopératif et solidaire\, membre du réseau L’Heureux Cyclage.\nNotre équipe bénévole et salariée vous accueille tous les mercredis de 14h à 19h !\n\nNous vous accompagnons dans vos réparations de vélos : nous faisons avec vous et non pas pour vous ! La philosophie de notre atelier est que vous repartiez non seulement avec un vélo réparé mais également avec des connaissances en mécanique !\n\nL’atelier Good’huile est ouvert aux personnes adhérentes de la Solid’ sans prise de rdv. Vous pouvez venir quand vous voulez sur les horaires de la permanence\, nous vous accueillerons en fonction de nos capacités et de l’affluence !\nVous pouvez prendre votre adhésion lors de votre première venue à l’atelier.\nTout est possible chez Good’huile ! Apprendre à réparer ce dérailleur dont les vitesses passent mal\, régler ces freins récalcitrants\, changer une chambre à air\, acheter et installer un porte-bagages…\n\nLes pièces détachées neuves et d’occasion sont en vente à prix fixe\, l’accompagnement technique et la formation à la mécanique sont à prix libre : vous donnez ce que vous pouvez pour aider l’atelier à continuer son bout de chemin !\n\nVous pouvez aussi acheter ou troquer un vélo issu de notre atelier\, nous en avons pour tous les gouts : vélo enfant\, VTT ado/adulte\, VTC\, vélo de ville\, BMX…\n\nL’atelier se trouve au 1 rue des Filatures à Clisson\, derrière la Maison de la Solidarité. Plus d’informations auprès d’Arnaud au 0649762227 et à velo@lasolid.fr.
URL:https://www.lasolid.fr/evenement/atelier-velo-goodhuile-vente-velos/2025-09-17/
LOCATION:Maison de la solidarité\, 1 rue des filatures\, Clisson\, 44190\, France
CATEGORIES:Tiers Lieu Ateliers Solidaires,Vélo
ATTACH;FMTTYPE=image/jpeg:https://www.lasolid.fr/wp-content/uploads/445186160_840457078114807_5486995695168866769_n-1.jpg
ORGANIZER;CN="La Solid'":MAILTO:asso@lasolid.fr
END:VEVENT
BEGIN:VEVENT
DTSTART;TZID=Europe/Paris:20250920T100000
DTEND;TZID=Europe/Paris:20250920T180000
DTSTAMP:20260419T190125
CREATED:20250515T201621Z
LAST-MODIFIED:20250515T201621Z
UID:10001988-1758362400-1758391200@www.lasolid.fr
SUMMARY:Sortie vélo avec les Super Féministes
DESCRIPTION:Sortie vélo des Super Féministes de La Solid’ : \nsamedi 20/09 de 10:00 à 18:00 \nEn route vers une destination inconnue ! \nAu départ de la Solid’\, apporte ton vélo et un pique-nique. \nMixte. Prix libre. inscription sur www.lasolid.fr.
URL:https://www.lasolid.fr/evenement/sortie-velo-avec-les-super-feministes/
LOCATION:Maison de la solidarité\, 1 rue des filatures\, Clisson\, 44190\, France
CATEGORIES:Autres,Rdv des Super Féministes,Vélo
ATTACH;FMTTYPE=image/png:https://www.lasolid.fr/wp-content/uploads/super-feministes-solid-transparent.png
ORGANIZER;CN="La Solid'":MAILTO:asso@lasolid.fr
END:VEVENT
BEGIN:VEVENT
DTSTART;TZID=Europe/Paris:20250924T140000
DTEND;TZID=Europe/Paris:20250924T190000
DTSTAMP:20260419T190125
CREATED:20230619T120254Z
LAST-MODIFIED:20240820T225100Z
UID:10001420-1758722400-1758740400@www.lasolid.fr
SUMMARY:Atelier vélo Good’Huile + vente de vélos d'occasion
DESCRIPTION:L’atelier Good’huile est un atelier vélo coopératif et solidaire\, membre du réseau L’Heureux Cyclage.\nNotre équipe bénévole et salariée vous accueille tous les mercredis de 14h à 19h !\n\nNous vous accompagnons dans vos réparations de vélos : nous faisons avec vous et non pas pour vous ! La philosophie de notre atelier est que vous repartiez non seulement avec un vélo réparé mais également avec des connaissances en mécanique !\n\nL’atelier Good’huile est ouvert aux personnes adhérentes de la Solid’ sans prise de rdv. Vous pouvez venir quand vous voulez sur les horaires de la permanence\, nous vous accueillerons en fonction de nos capacités et de l’affluence !\nVous pouvez prendre votre adhésion lors de votre première venue à l’atelier.\nTout est possible chez Good’huile ! Apprendre à réparer ce dérailleur dont les vitesses passent mal\, régler ces freins récalcitrants\, changer une chambre à air\, acheter et installer un porte-bagages…\n\nLes pièces détachées neuves et d’occasion sont en vente à prix fixe\, l’accompagnement technique et la formation à la mécanique sont à prix libre : vous donnez ce que vous pouvez pour aider l’atelier à continuer son bout de chemin !\n\nVous pouvez aussi acheter ou troquer un vélo issu de notre atelier\, nous en avons pour tous les gouts : vélo enfant\, VTT ado/adulte\, VTC\, vélo de ville\, BMX…\n\nL’atelier se trouve au 1 rue des Filatures à Clisson\, derrière la Maison de la Solidarité. Plus d’informations auprès d’Arnaud au 0649762227 et à velo@lasolid.fr.
URL:https://www.lasolid.fr/evenement/atelier-velo-goodhuile-vente-velos/2025-09-24/
LOCATION:Maison de la solidarité\, 1 rue des filatures\, Clisson\, 44190\, France
CATEGORIES:Tiers Lieu Ateliers Solidaires,Vélo
ATTACH;FMTTYPE=image/jpeg:https://www.lasolid.fr/wp-content/uploads/445186160_840457078114807_5486995695168866769_n-1.jpg
ORGANIZER;CN="La Solid'":MAILTO:asso@lasolid.fr
END:VEVENT
BEGIN:VEVENT
DTSTART;TZID=Europe/Paris:20250926T180000
DTEND;TZID=Europe/Paris:20250926T230000
DTSTAMP:20260419T190125
CREATED:20250717T160941Z
LAST-MODIFIED:20250717T160941Z
UID:10002036-1758909600-1758927600@www.lasolid.fr
SUMMARY:Conseil associatif de rentrée et Karaoké
DESCRIPTION:Soirée de rentrée ouverte à tou·tes les adhérent·es. \n\nKaraoké d’échauffement de 18h à 19h\nConseil Associatif de rentrée de 19h à 21h : ordre du soir transmis par email\nRe-karaoké échauffé de 21h à 23h\n\nRepas en mode auberge espagnole.
URL:https://www.lasolid.fr/evenement/conseil-associatif-de-rentree-et-karaoke/
LOCATION:Maison de la solidarité\, 1 rue des filatures\, Clisson\, 44190\, France
CATEGORIES:Autres,Environnement - Biodiversité,Réunions,Tiers Lieu Ateliers Solidaires,Vélo
ATTACH;FMTTYPE=image/jpeg:https://www.lasolid.fr/wp-content/uploads/la-solid-clisson-association.jpg
ORGANIZER;CN="La Solid'":MAILTO:asso@lasolid.fr
END:VEVENT
BEGIN:VEVENT
DTSTART;TZID=Europe/Paris:20250927T150000
DTEND;TZID=Europe/Paris:20250927T180000
DTSTAMP:20260419T190125
CREATED:20250717T161159Z
LAST-MODIFIED:20250918T143321Z
UID:10002037-1758985200-1758996000@www.lasolid.fr
SUMMARY:Portes ouvertes de la Solid'
DESCRIPTION:Bienvenue pour découvrir nos activités\, poser toutes tes questions\, rencontrer notre équipe\, t’inscrire aux ateliers… Ou juste par curiosité ! \nAteliers ouverts à tou·tes à tout moment de 15h à 18h. \nPrise d’adhésion possible sur place. \nLa Solid’ ouvre grand les portes des ses ateliers coopératifs : vélo\, bois\, soudure\, couture\, ateliers des savoirs\, super féministes..; venez découvrir les actions de l’association\, rencontrer l’équipe\, vous inscrire aux activités et ateliers\, répondre à toutes vos questions sur comment s’engager ou participer à l’association
URL:https://www.lasolid.fr/evenement/portes-ouverte/
LOCATION:Maison de la solidarité\, 1 rue des filatures\, Clisson\, 44190\, France
CATEGORIES:Atelier des savoirs,Autres,Environnement - Biodiversité,Fil Good,Good Steel,Good Wood,Rdv des Super Féministes,Tiers Lieu Ateliers Solidaires,Vélo
ATTACH;FMTTYPE=image/jpeg:https://www.lasolid.fr/wp-content/uploads/AG-Inauguration2023-scaled.jpg
ORGANIZER;CN="La Solid'":MAILTO:asso@lasolid.fr
END:VEVENT
END:VCALENDAR