BEGIN:VCALENDAR
VERSION:2.0
PRODID:-//La Solid&#039; - ECPv6.13.2.1//NONSGML v1.0//EN
CALSCALE:GREGORIAN
METHOD:PUBLISH
X-WR-CALNAME:La Solid&#039;
X-ORIGINAL-URL:https://www.lasolid.fr
X-WR-CALDESC:Évènements pour La Solid&#039;
REFRESH-INTERVAL;VALUE=DURATION:PT1H
X-Robots-Tag:noindex
X-PUBLISHED-TTL:PT1H
BEGIN:VTIMEZONE
TZID:Europe/Paris
BEGIN:DAYLIGHT
TZOFFSETFROM:+0100
TZOFFSETTO:+0200
TZNAME:CEST
DTSTART:20250330T010000
END:DAYLIGHT
BEGIN:STANDARD
TZOFFSETFROM:+0200
TZOFFSETTO:+0100
TZNAME:CET
DTSTART:20251026T010000
END:STANDARD
END:VTIMEZONE
BEGIN:VEVENT
DTSTART;TZID=Europe/Paris:20250604T140000
DTEND;TZID=Europe/Paris:20250604T190000
DTSTAMP:20260420T035043
CREATED:20230619T120254Z
LAST-MODIFIED:20240820T225100Z
UID:10001404-1749045600-1749063600@www.lasolid.fr
SUMMARY:Atelier vélo Good’Huile + vente de vélos d'occasion
DESCRIPTION:L’atelier Good’huile est un atelier vélo coopératif et solidaire\, membre du réseau L’Heureux Cyclage.\nNotre équipe bénévole et salariée vous accueille tous les mercredis de 14h à 19h !\n\nNous vous accompagnons dans vos réparations de vélos : nous faisons avec vous et non pas pour vous ! La philosophie de notre atelier est que vous repartiez non seulement avec un vélo réparé mais également avec des connaissances en mécanique !\n\nL’atelier Good’huile est ouvert aux personnes adhérentes de la Solid’ sans prise de rdv. Vous pouvez venir quand vous voulez sur les horaires de la permanence\, nous vous accueillerons en fonction de nos capacités et de l’affluence !\nVous pouvez prendre votre adhésion lors de votre première venue à l’atelier.\nTout est possible chez Good’huile ! Apprendre à réparer ce dérailleur dont les vitesses passent mal\, régler ces freins récalcitrants\, changer une chambre à air\, acheter et installer un porte-bagages…\n\nLes pièces détachées neuves et d’occasion sont en vente à prix fixe\, l’accompagnement technique et la formation à la mécanique sont à prix libre : vous donnez ce que vous pouvez pour aider l’atelier à continuer son bout de chemin !\n\nVous pouvez aussi acheter ou troquer un vélo issu de notre atelier\, nous en avons pour tous les gouts : vélo enfant\, VTT ado/adulte\, VTC\, vélo de ville\, BMX…\n\nL’atelier se trouve au 1 rue des Filatures à Clisson\, derrière la Maison de la Solidarité. Plus d’informations auprès d’Arnaud au 0649762227 et à velo@lasolid.fr.
URL:https://www.lasolid.fr/evenement/atelier-velo-goodhuile-vente-velos/2025-06-04/
LOCATION:Maison de la solidarité\, 1 rue des filatures\, Clisson\, 44190\, France
CATEGORIES:Tiers Lieu Ateliers Solidaires,Vélo
ATTACH;FMTTYPE=image/jpeg:https://www.lasolid.fr/wp-content/uploads/445186160_840457078114807_5486995695168866769_n-1.jpg
ORGANIZER;CN="La Solid'":MAILTO:asso@lasolid.fr
END:VEVENT
BEGIN:VEVENT
DTSTART;TZID=Europe/Paris:20250605T170000
DTEND;TZID=Europe/Paris:20250605T200000
DTSTAMP:20260420T035043
CREATED:20250320T222227Z
LAST-MODIFIED:20250323T012516Z
UID:10001946-1749142800-1749153600@www.lasolid.fr
SUMMARY:Atelier mécanique vélo en mixité choisie MINT*
DESCRIPTION:Avec les Super Féministes de La Solid’ : atelier d’apprentissage de la réparation de vélos pour les femmes et minorités de genres. \nApprends à réparer ton vélo ! Atelier pédagogique ouvert aux femmes et minorités de genres à La Solid’\, à prix libre. Inscription obligatoire par sms. \nMarie : veloegaux@lasolid.fr / 06 33 38 35 47 \n*Meufs\, Intersexes\, Non-Binaires et Trans \n 
URL:https://www.lasolid.fr/evenement/atelier-mecanique-velo-en-mixite-choisie-mint-2/2025-06-05/
LOCATION:Maison de la solidarité\, 1 rue des filatures\, Clisson\, 44190\, France
CATEGORIES:Rdv des Super Féministes,Tiers Lieu Ateliers Solidaires,Vélo
ATTACH;FMTTYPE=image/png:https://www.lasolid.fr/wp-content/uploads/meca-meufs-avril-juin-2025-affiche.png
ORGANIZER;CN="La Solid'":MAILTO:asso@lasolid.fr
END:VEVENT
BEGIN:VEVENT
DTSTART;TZID=Europe/Paris:20250611T140000
DTEND;TZID=Europe/Paris:20250611T170000
DTSTAMP:20260420T035043
CREATED:20250604T111556Z
LAST-MODIFIED:20250604T111559Z
UID:10001405-1749650400-1749661200@www.lasolid.fr
SUMMARY:Atelier vélo Good’Huile + vente de vélos d'occasion
DESCRIPTION:FERMETURE EXCEPTIONNELLE DE L’ATELIER À 17H\nEN RAISON DE LA PRÉPARATION DES 25 ANS DE LA SOLID’\nMERCI POUR VOTRE COMPRÉHENSION\n\n\nAtelier vélo coopératif et solidaire\, membre du réseau L’Heureux Cyclage.\nNotre équipe bénévole et salariée vous accueille tous les mercredis de 14h à 19h !\n\nNous vous accompagnons dans vos réparations de vélos : nous faisons avec vous et non pas pour vous ! La philosophie de notre atelier est que vous repartiez non seulement avec un vélo réparé mais également avec des connaissances en mécanique !\n\nL’atelier Good’huile est ouvert aux personnes adhérentes de la Solid’ sans prise de rdv. Vous pouvez venir quand vous voulez sur les horaires de la permanence\, nous vous accueillerons en fonction de nos capacités et de l’affluence !\nVous pouvez prendre votre adhésion lors de votre première venue à l’atelier.\nTout est possible chez Good’huile ! Apprendre à réparer ce dérailleur dont les vitesses passent mal\, régler ces freins récalcitrants\, changer une chambre à air\, acheter et installer un porte-bagages…\n\nLes pièces détachées neuves et d’occasion sont en vente à prix fixe\, l’accompagnement technique et la formation à la mécanique sont à prix libre : vous donnez ce que vous pouvez pour aider l’atelier à continuer son bout de chemin !\n\nVous pouvez aussi acheter ou troquer un vélo issu de notre atelier\, nous en avons pour tous les gouts : vélo enfant\, VTT ado/adulte\, VTC\, vélo de ville\, BMX…\n\nL’atelier se trouve au 1 rue des Filatures à Clisson\, derrière la Maison de la Solidarité. Plus d’informations auprès d’Arnaud au 0649762227 et à velo@lasolid.fr.
URL:https://www.lasolid.fr/evenement/atelier-velo-goodhuile-vente-velos-11/
LOCATION:Maison de la solidarité\, 1 rue des filatures\, Clisson\, 44190\, France
CATEGORIES:Tiers Lieu Ateliers Solidaires,Vélo
ATTACH;FMTTYPE=image/jpeg:https://www.lasolid.fr/wp-content/uploads/445186160_840457078114807_5486995695168866769_n-1.jpg
ORGANIZER;CN="La Solid'":MAILTO:asso@lasolid.fr
END:VEVENT
BEGIN:VEVENT
DTSTART;TZID=Europe/Paris:20250611T170000
DTEND;TZID=Europe/Paris:20250611T200000
DTSTAMP:20260420T035043
CREATED:20250918T135433Z
LAST-MODIFIED:20250918T135434Z
UID:10002065-1749661200-1749672000@www.lasolid.fr
SUMMARY:Atelier vélo pour femmes et minorités de genre
DESCRIPTION:Un jeudi soir par mois\, viens entretenir ton vélo et/ou apprendre la mécanique cycle en petit groupe\, sans stress\, sans jugement. \nA partir de 17:00\, Marie t’attend avec ou sans vélo. Changer ta chaîne\, régler ton dérailleur\, aider un.e camarade à dévoiler sa roue\, tu peux le faire. Si tu n’y arrives pas\, si tu fais des bêtises\, pas de souci\, c’est comme ça qu’on apprend ! \nEntraide\, bienveillance\, convivialité sont de mise lors de ces soirées entre femmes et minorités de genre. \nPièces d’usure et pièces d’occasion à petit prix en vente sur place. Tu peux aussi venir avec tes pièces à changer. \nPense à apporter de la monnaie pour le prix libre et mettre ton adhésion à jour. \nJeudis soirs : 10/09\, 09/10\, 06/11\, 04/12 \nRéservation obligatoire : 06 33 38 35 47
URL:https://www.lasolid.fr/evenement/atelier-velo-pour-femmes-et-minorites-de-genre-2/2025-06-11/
LOCATION:Maison de la solidarité\, 1 rue des filatures\, Clisson\, 44190\, France
CATEGORIES:Rdv des Super Féministes,Vélo
ATTACH;FMTTYPE=image/png:https://www.lasolid.fr/wp-content/uploads/meca-meuf-sept-dec-2025.png
ORGANIZER;CN="La Solid'":MAILTO:asso@lasolid.fr
END:VEVENT
BEGIN:VEVENT
DTSTART;TZID=Europe/Paris:20250612T100000
DTEND;TZID=Europe/Paris:20250612T190000
DTSTAMP:20260420T035043
CREATED:20250610T140008Z
LAST-MODIFIED:20250610T140008Z
UID:10002027-1749722400-1749754800@www.lasolid.fr
SUMMARY:Chantier participatif
DESCRIPTION:Viens à tout moment\, une heure ou plus\, entre 10h et 19h nous aider à préparer les portes ouvertes et fête du lendemain !\nInfos : 06 33 56 20 56. \nInscription comme bénévole possible ici :https://kdrive.infomaniak.com/app/share/718682/603618b0-c986-4a8b-91d1-d661243fd30a \nSinon on aime bien aussi les surprises !\nMerci d’avance !
URL:https://www.lasolid.fr/evenement/chantier-participatif/
LOCATION:Maison de la solidarité\, 1 rue des filatures\, Clisson\, 44190\, France
CATEGORIES:Autres,Environnement - Biodiversité,Tiers Lieu Ateliers Solidaires,Vélo
ATTACH;FMTTYPE=image/jpeg:https://www.lasolid.fr/wp-content/uploads/les-ptits-gars-du-verger-4.jpg
ORGANIZER;CN="La Solid'":MAILTO:asso@lasolid.fr
END:VEVENT
BEGIN:VEVENT
DTSTART;TZID=Europe/Paris:20250613T170000
DTEND;TZID=Europe/Paris:20250613T230000
DTSTAMP:20260420T035043
CREATED:20250218T121755Z
LAST-MODIFIED:20250531T002944Z
UID:10001927-1749834000-1749855600@www.lasolid.fr
SUMMARY:Portes ouvertes + AG + 25 ans - concert Lechapus
DESCRIPTION:Les ateliers de La Solid’ ouvrent leurs portes en grand\, à tout moment de la journée\, et après l’école pour un goûter zéro déchets et des animations pour petit·es et grand·es. Visite\, démonstrations\, catapulte (eh oui !) rencontres\, échanges\, présentation de Véloégaux… \nPuis Assemblée Générale publique à 18h (éléments envoyé par mail aux adhérent·es). \nEntre 18h et 20h\, Jacky\, éducateur en environnement pourra proposer des animations gratuites aux enfants pour que les parentes participent à l’AG. \nA partir de 20h : soirée festive ouverte à tou·tes ! Repas offert aux membres de la Solid’ (prix libre pour les autres). Atelier de sérigraphie Kraken (viens avec ton vêtement à sérigraphier). Vers 21h30 : concert de LECHAPUS\, Plastic Party. \nPour participer comme bénévole une heure ou plus\, tu peux t »inscrire ici. Merci ! \nBienvenue !
URL:https://www.lasolid.fr/evenement/portes-ouvertes-ag-soiree-festive/
LOCATION:Maison de la solidarité\, 1 rue des filatures\, Clisson\, 44190\, France
CATEGORIES:Autres,Environnement - Biodiversité,Réunions,Tiers Lieu Ateliers Solidaires,Vélo
ATTACH;FMTTYPE=image/jpeg:https://www.lasolid.fr/wp-content/uploads/25-ans-13-juin-20253.jpg
ORGANIZER;CN="La Solid'":MAILTO:asso@lasolid.fr
END:VEVENT
BEGIN:VEVENT
DTSTART;TZID=Europe/Paris:20250618T140000
DTEND;TZID=Europe/Paris:20250618T190000
DTSTAMP:20260420T035043
CREATED:20230619T120254Z
LAST-MODIFIED:20240820T225100Z
UID:10001406-1750255200-1750273200@www.lasolid.fr
SUMMARY:Atelier vélo Good’Huile + vente de vélos d'occasion
DESCRIPTION:L’atelier Good’huile est un atelier vélo coopératif et solidaire\, membre du réseau L’Heureux Cyclage.\nNotre équipe bénévole et salariée vous accueille tous les mercredis de 14h à 19h !\n\nNous vous accompagnons dans vos réparations de vélos : nous faisons avec vous et non pas pour vous ! La philosophie de notre atelier est que vous repartiez non seulement avec un vélo réparé mais également avec des connaissances en mécanique !\n\nL’atelier Good’huile est ouvert aux personnes adhérentes de la Solid’ sans prise de rdv. Vous pouvez venir quand vous voulez sur les horaires de la permanence\, nous vous accueillerons en fonction de nos capacités et de l’affluence !\nVous pouvez prendre votre adhésion lors de votre première venue à l’atelier.\nTout est possible chez Good’huile ! Apprendre à réparer ce dérailleur dont les vitesses passent mal\, régler ces freins récalcitrants\, changer une chambre à air\, acheter et installer un porte-bagages…\n\nLes pièces détachées neuves et d’occasion sont en vente à prix fixe\, l’accompagnement technique et la formation à la mécanique sont à prix libre : vous donnez ce que vous pouvez pour aider l’atelier à continuer son bout de chemin !\n\nVous pouvez aussi acheter ou troquer un vélo issu de notre atelier\, nous en avons pour tous les gouts : vélo enfant\, VTT ado/adulte\, VTC\, vélo de ville\, BMX…\n\nL’atelier se trouve au 1 rue des Filatures à Clisson\, derrière la Maison de la Solidarité. Plus d’informations auprès d’Arnaud au 0649762227 et à velo@lasolid.fr.
URL:https://www.lasolid.fr/evenement/atelier-velo-goodhuile-vente-velos/2025-06-18/
LOCATION:Maison de la solidarité\, 1 rue des filatures\, Clisson\, 44190\, France
CATEGORIES:Tiers Lieu Ateliers Solidaires,Vélo
ATTACH;FMTTYPE=image/jpeg:https://www.lasolid.fr/wp-content/uploads/445186160_840457078114807_5486995695168866769_n-1.jpg
ORGANIZER;CN="La Solid'":MAILTO:asso@lasolid.fr
END:VEVENT
BEGIN:VEVENT
DTSTART;TZID=Europe/Paris:20250625T140000
DTEND;TZID=Europe/Paris:20250625T190000
DTSTAMP:20260420T035043
CREATED:20230619T120254Z
LAST-MODIFIED:20240820T225100Z
UID:10001407-1750860000-1750878000@www.lasolid.fr
SUMMARY:Atelier vélo Good’Huile + vente de vélos d'occasion
DESCRIPTION:L’atelier Good’huile est un atelier vélo coopératif et solidaire\, membre du réseau L’Heureux Cyclage.\nNotre équipe bénévole et salariée vous accueille tous les mercredis de 14h à 19h !\n\nNous vous accompagnons dans vos réparations de vélos : nous faisons avec vous et non pas pour vous ! La philosophie de notre atelier est que vous repartiez non seulement avec un vélo réparé mais également avec des connaissances en mécanique !\n\nL’atelier Good’huile est ouvert aux personnes adhérentes de la Solid’ sans prise de rdv. Vous pouvez venir quand vous voulez sur les horaires de la permanence\, nous vous accueillerons en fonction de nos capacités et de l’affluence !\nVous pouvez prendre votre adhésion lors de votre première venue à l’atelier.\nTout est possible chez Good’huile ! Apprendre à réparer ce dérailleur dont les vitesses passent mal\, régler ces freins récalcitrants\, changer une chambre à air\, acheter et installer un porte-bagages…\n\nLes pièces détachées neuves et d’occasion sont en vente à prix fixe\, l’accompagnement technique et la formation à la mécanique sont à prix libre : vous donnez ce que vous pouvez pour aider l’atelier à continuer son bout de chemin !\n\nVous pouvez aussi acheter ou troquer un vélo issu de notre atelier\, nous en avons pour tous les gouts : vélo enfant\, VTT ado/adulte\, VTC\, vélo de ville\, BMX…\n\nL’atelier se trouve au 1 rue des Filatures à Clisson\, derrière la Maison de la Solidarité. Plus d’informations auprès d’Arnaud au 0649762227 et à velo@lasolid.fr.
URL:https://www.lasolid.fr/evenement/atelier-velo-goodhuile-vente-velos/2025-06-25/
LOCATION:Maison de la solidarité\, 1 rue des filatures\, Clisson\, 44190\, France
CATEGORIES:Tiers Lieu Ateliers Solidaires,Vélo
ATTACH;FMTTYPE=image/jpeg:https://www.lasolid.fr/wp-content/uploads/445186160_840457078114807_5486995695168866769_n-1.jpg
ORGANIZER;CN="La Solid'":MAILTO:asso@lasolid.fr
END:VEVENT
END:VCALENDAR