BEGIN:VCALENDAR
VERSION:2.0
PRODID:-//La Solid&#039; - ECPv6.13.2.1//NONSGML v1.0//EN
CALSCALE:GREGORIAN
METHOD:PUBLISH
X-WR-CALNAME:La Solid&#039;
X-ORIGINAL-URL:https://www.lasolid.fr
X-WR-CALDESC:Évènements pour La Solid&#039;
REFRESH-INTERVAL;VALUE=DURATION:PT1H
X-Robots-Tag:noindex
X-PUBLISHED-TTL:PT1H
BEGIN:VTIMEZONE
TZID:Europe/Paris
BEGIN:DAYLIGHT
TZOFFSETFROM:+0100
TZOFFSETTO:+0200
TZNAME:CEST
DTSTART:20250330T010000
END:DAYLIGHT
BEGIN:STANDARD
TZOFFSETFROM:+0200
TZOFFSETTO:+0100
TZNAME:CET
DTSTART:20251026T010000
END:STANDARD
END:VTIMEZONE
BEGIN:VEVENT
DTSTART;TZID=Europe/Paris:20250822T190000
DTEND;TZID=Europe/Paris:20250822T210000
DTSTAMP:20260419T224738
CREATED:20250711T121233Z
LAST-MODIFIED:20250711T121305Z
UID:10002035-1755889200-1755896400@www.lasolid.fr
SUMMARY:Assemblée sauvage et Café Jardin chez les Rouges Gorges
DESCRIPTION:On se retrouve dans le jardin collectif et le verger des Rouges-Gorges (4 le marais à Gorges) \npour un Café Jardin de retrouvailles\net préparer la saison à venir aux jardins\, chez les potes âgés et au verger du nid d'oie.\nSoirée ouverte à tou-tes\, gratuite. Breuvages et grignotages en partage bienvenus !
URL:https://www.lasolid.fr/evenement/assemblee-sauvage-et-cafe-jardin-chez-les-rouges-gorges/
LOCATION:Rouges Gorges\, 4 le marais\, Gorges
CATEGORIES:Café jardin,Environnement - Biodiversité,Pote Âgé,Réunions,Verger
ATTACH;FMTTYPE=image/png:https://www.lasolid.fr/wp-content/uploads/Capture-decran-2024-08-02-a-15.21.12.png
ORGANIZER;CN="La Solid'":MAILTO:asso@lasolid.fr
END:VEVENT
END:VCALENDAR