BEGIN:VCALENDAR
VERSION:2.0
PRODID:-//La Solid&#039; - ECPv6.13.2.1//NONSGML v1.0//EN
CALSCALE:GREGORIAN
METHOD:PUBLISH
X-WR-CALNAME:La Solid&#039;
X-ORIGINAL-URL:https://www.lasolid.fr
X-WR-CALDESC:Évènements pour La Solid&#039;
REFRESH-INTERVAL;VALUE=DURATION:PT1H
X-Robots-Tag:noindex
X-PUBLISHED-TTL:PT1H
BEGIN:VTIMEZONE
TZID:Europe/Paris
BEGIN:DAYLIGHT
TZOFFSETFROM:+0100
TZOFFSETTO:+0200
TZNAME:CEST
DTSTART:20250330T010000
END:DAYLIGHT
BEGIN:STANDARD
TZOFFSETFROM:+0200
TZOFFSETTO:+0100
TZNAME:CET
DTSTART:20251026T010000
END:STANDARD
END:VTIMEZONE
BEGIN:VEVENT
DTSTART;TZID=Europe/Paris:20250131T183000
DTEND;TZID=Europe/Paris:20250131T183000
DTSTAMP:20260420T085442
CREATED:20241106T221256Z
LAST-MODIFIED:20250127T172758Z
UID:10001802-1738348200-1738348200@www.lasolid.fr
SUMMARY:Conseil Associatif + Karaoké avec les Super Féministes
DESCRIPTION:18h30 : Conseil associatif ouvert à tou·tes les adhérent·es de La Solid (ordre du jour transmis par email) \n20h30 : repas OFFERT (mais grignotages salés et sucrés et boissons apportées par chacun·e bienvenues ! \n+ karaoké woke (voir la playlist ici) ouvert à tou·tes\, à prix libre
URL:https://www.lasolid.fr/evenement/conseil-associatif-karaoke-avec-les-super-feministes/
LOCATION:Maison de la solidarité\, 1 rue des filatures\, Clisson\, 44190\, France
CATEGORIES:Autres,Rdv des Super Féministes,Réunions,Tiers Lieu Ateliers Solidaires
ATTACH;FMTTYPE=image/png:https://www.lasolid.fr/wp-content/uploads/Affiche-31-janvier-20251.png
ORGANIZER;CN="La Solid'":MAILTO:asso@lasolid.fr
END:VEVENT
END:VCALENDAR