BEGIN:VCALENDAR
VERSION:2.0
PRODID:-//La Solid&#039; - ECPv6.13.2.1//NONSGML v1.0//EN
CALSCALE:GREGORIAN
METHOD:PUBLISH
X-WR-CALNAME:La Solid&#039;
X-ORIGINAL-URL:https://www.lasolid.fr
X-WR-CALDESC:Évènements pour La Solid&#039;
REFRESH-INTERVAL;VALUE=DURATION:PT1H
X-Robots-Tag:noindex
X-PUBLISHED-TTL:PT1H
BEGIN:VTIMEZONE
TZID:Europe/Paris
BEGIN:DAYLIGHT
TZOFFSETFROM:+0100
TZOFFSETTO:+0200
TZNAME:CEST
DTSTART:20240331T010000
END:DAYLIGHT
BEGIN:STANDARD
TZOFFSETFROM:+0200
TZOFFSETTO:+0100
TZNAME:CET
DTSTART:20241027T010000
END:STANDARD
END:VTIMEZONE
BEGIN:VEVENT
DTSTART;TZID=Europe/Paris:20241120T190000
DTEND;TZID=Europe/Paris:20241120T220000
DTSTAMP:20260420T151744
CREATED:20241019T171334Z
LAST-MODIFIED:20241028T134938Z
UID:10001791-1732129200-1732140000@www.lasolid.fr
SUMMARY:Raclette littéraire avec les Super Féministes
DESCRIPTION:Raclette littéraire des Super Féministes\, pour se présenter ses bouquins\, éventuellement se les prêter\, voire se rendre ceux prêtés lors du pic-nic de juillet La Solid’ fait les courses (merci !) et nous remboursons via un prix libre et conscient. \nUne garde d’enfants sera proposée sur place. \nÉvènement mixte ouvert à toustes sur inscription. \nNombre de places limité\, sur réservation en ligne ici.
URL:https://www.lasolid.fr/evenement/raclette-litteraire-avec-les-super-feministes/
LOCATION:Maison de la solidarité\, 1 rue des filatures\, Clisson\, 44190\, France
CATEGORIES:Atelier des savoirs,Rdv des Super Féministes,Réunions
ATTACH;FMTTYPE=image/png:https://www.lasolid.fr/wp-content/uploads/raclette-et-bouquins.png
ORGANIZER;CN="La Solid'":MAILTO:asso@lasolid.fr
END:VEVENT
END:VCALENDAR