BEGIN:VCALENDAR
VERSION:2.0
PRODID:-//La Solid&#039; - ECPv6.13.2.1//NONSGML v1.0//EN
CALSCALE:GREGORIAN
METHOD:PUBLISH
X-ORIGINAL-URL:https://www.lasolid.fr
X-WR-CALDESC:Évènements pour La Solid&#039;
REFRESH-INTERVAL;VALUE=DURATION:PT1H
X-Robots-Tag:noindex
X-PUBLISHED-TTL:PT1H
BEGIN:VTIMEZONE
TZID:Europe/Paris
BEGIN:DAYLIGHT
TZOFFSETFROM:+0100
TZOFFSETTO:+0200
TZNAME:CEST
DTSTART:20240331T010000
END:DAYLIGHT
BEGIN:STANDARD
TZOFFSETFROM:+0200
TZOFFSETTO:+0100
TZNAME:CET
DTSTART:20241027T010000
END:STANDARD
END:VTIMEZONE
BEGIN:VEVENT
DTSTART;TZID=Europe/Paris:20241016T190000
DTEND;TZID=Europe/Paris:20241016T210000
DTSTAMP:20260420T170325
CREATED:20240910T212631Z
LAST-MODIFIED:20240910T212631Z
UID:10001773-1729105200-1729112400@www.lasolid.fr
SUMMARY:Rencontre des Super Féministes
DESCRIPTION:Réunion ouverte aux membres de la Solid’ en phase avec la charte de fonctionnement du groupe\, à lire ici. \nRéunion MIXTE\, pour préparer la suite des actions programmées par le groupe : formations internes\, projections\, poésie\, participation aux Journées Internationales des Droits des Femmes\, papotes thématiques\, ateliers bricolage en mixité choisie\, partage de ressources… \nBienvenue si tu souhaites t’investir dans les actions du groupe ! \nBreuvages et grignotages en partage bienvenus !
URL:https://www.lasolid.fr/evenement/rencontre-des-super-feministes-4/
LOCATION:Maison de la solidarité\, 1 rue des filatures\, Clisson\, 44190\, France
CATEGORIES:Autres,Rdv des Super Féministes,Réunions,Tiers Lieu Ateliers Solidaires
ATTACH;FMTTYPE=image/png:https://www.lasolid.fr/wp-content/uploads/super-feministes-solid-transparent.png
ORGANIZER;CN="La Solid'":MAILTO:asso@lasolid.fr
END:VEVENT
END:VCALENDAR