BEGIN:VCALENDAR
VERSION:2.0
PRODID:-//La Solid&#039; - ECPv6.13.2.1//NONSGML v1.0//EN
CALSCALE:GREGORIAN
METHOD:PUBLISH
X-WR-CALNAME:La Solid&#039;
X-ORIGINAL-URL:https://www.lasolid.fr
X-WR-CALDESC:Évènements pour La Solid&#039;
REFRESH-INTERVAL;VALUE=DURATION:PT1H
X-Robots-Tag:noindex
X-PUBLISHED-TTL:PT1H
BEGIN:VTIMEZONE
TZID:Europe/Paris
BEGIN:DAYLIGHT
TZOFFSETFROM:+0100
TZOFFSETTO:+0200
TZNAME:CEST
DTSTART:20240331T010000
END:DAYLIGHT
BEGIN:STANDARD
TZOFFSETFROM:+0200
TZOFFSETTO:+0100
TZNAME:CET
DTSTART:20241027T010000
END:STANDARD
END:VTIMEZONE
BEGIN:VEVENT
DTSTART;TZID=Europe/Paris:20240608T150000
DTEND;TZID=Europe/Paris:20240608T170000
DTSTAMP:20260420T233033
CREATED:20240215T142220Z
LAST-MODIFIED:20240524T200422Z
UID:10001649-1717858800-1717866000@www.lasolid.fr
SUMMARY:Assemblée Générale
DESCRIPTION:AG ordinaire de la Solid’\, ouverte à tou·tes. Accueil dès 14h45 à la maison de la solidarité de Clisson. \nOrdre du jour : \n– Accueil à 14h45\n \n– Bilan moral\n \n– Bilan d’activités\n \n– Point budget \n– Validation du montant de l’adhésion 2024-2025 \n– Projet associatif : validation des valeurs\, du modèle de gouvernance et du modèle économique (cf travaux réalisés et validés lors du CA du 4 mai).\n \n– Ajustements des statuts et du règlement intérieur\n \n– Élection du bureau collégial 2024-2025 : appel à candidatures\, notamment de femmes !\n \n– Festiverde : validation de la convention inter-associative\, de la programmation du festival et de son budget prévisionnel. \nNos adhérent·es recevront quelques jours avant les éléments détaillés à valider. \nSi tu souhaites présenter ta candidature au bureau collégial\, prends connaissance de ce que ça implique là\, et idéalement prends contact avant avec les bénévoles : bureau@lasolid.fr. \nÀ partir de 17h :  verre de l’amitié offert par La Solid’\, accompagné d’un set musical de JusdeCoco. Histoire de nous échauffer avant la soirée… \nNous invitons nos adhérent·es à poursuivre la soirée à Boussay sur le festival TOPO(S)\, Danses et Paysages\, place de la mairie. Festival programmé par le Quatrain\, gratuit et ouvert à tou·tes.
URL:https://www.lasolid.fr/evenement/assemblee-generale/
LOCATION:Maison de la solidarité\, 1 rue des filatures\, Clisson\, 44190\, France
CATEGORIES:Autres,Environnement - Biodiversité,Réunions,Tiers Lieu Ateliers Solidaires,Vélo
ATTACH;FMTTYPE=image/jpeg:https://www.lasolid.fr/wp-content/uploads/IMG20210830191728-1-scaled.jpg
ORGANIZER;CN="La Solid'":MAILTO:asso@lasolid.fr
END:VEVENT
END:VCALENDAR