BEGIN:VCALENDAR
VERSION:2.0
PRODID:-//La Solid&#039; - ECPv6.13.2.1//NONSGML v1.0//EN
CALSCALE:GREGORIAN
METHOD:PUBLISH
X-ORIGINAL-URL:https://www.lasolid.fr
X-WR-CALDESC:Évènements pour La Solid&#039;
REFRESH-INTERVAL;VALUE=DURATION:PT1H
X-Robots-Tag:noindex
X-PUBLISHED-TTL:PT1H
BEGIN:VTIMEZONE
TZID:Europe/Paris
BEGIN:DAYLIGHT
TZOFFSETFROM:+0100
TZOFFSETTO:+0200
TZNAME:CEST
DTSTART:20240331T010000
END:DAYLIGHT
BEGIN:STANDARD
TZOFFSETFROM:+0200
TZOFFSETTO:+0100
TZNAME:CET
DTSTART:20241027T010000
END:STANDARD
END:VTIMEZONE
BEGIN:VEVENT
DTSTART;TZID=Europe/Paris:20240505T140000
DTEND;TZID=Europe/Paris:20240505T170000
DTSTAMP:20260421T005137
CREATED:20240430T191943Z
LAST-MODIFIED:20240502T170805Z
UID:10001694-1714917600-1714928400@www.lasolid.fr
SUMMARY:Arpentage féministe
DESCRIPTION:La Solid’ accueille les Arpenteuses féministes de Clisson \nhttps://www.facebook.com/permalink.php?story_fbid=pfbid02zNsTovg8m7vjwgnq8acDqrsjRHGePFACfpgLCjTpHgR8iPs4JEMkTySD9MZyj1oil&id=100092156912881 \n\n\n\n\n\nLes Super Féministes de La Solid’ accueillent les Arpenteuses féministes de Clisson\, ce dimanche 5 mai à 14h (en parallèle d’un atelier vélo en mixité choisie animé par Marie de 14h à 17h).\n\n\nATELIER VÉLO ET ARPENTAGE OUVERTS AUX FEMMES ET MINORITÉS DE GENRE.\n\n\nContact pour l’arpentage : lesarpenteuses@protonmail.com\n\n\n\n\nQu’est-ce qu’un « arpentage » ?\nC’est une méthode de lecture collective d’un livre\, issue de l’éducation populaire. Lors d’un temps déterminé\, plusieurs participant·es se partagent un document écrit et chacun·e lit individuellement une courte partie de ce document. Ensuite\, les participant·es partagent aux autres membres du groupe le contenu de leur lecture.
URL:https://www.lasolid.fr/evenement/arpentage-feministe/
LOCATION:Maison de la solidarité\, 1 rue des filatures\, Clisson\, 44190\, France
CATEGORIES:Autres,Rdv des Super Féministes,Réunions,Tiers Lieu Ateliers Solidaires
ORGANIZER;CN="La Solid'":MAILTO:asso@lasolid.fr
END:VEVENT
END:VCALENDAR