BEGIN:VCALENDAR
VERSION:2.0
PRODID:-//La Solid&#039; - ECPv6.13.2.1//NONSGML v1.0//EN
CALSCALE:GREGORIAN
METHOD:PUBLISH
X-WR-CALNAME:La Solid&#039;
X-ORIGINAL-URL:https://www.lasolid.fr
X-WR-CALDESC:Évènements pour La Solid&#039;
REFRESH-INTERVAL;VALUE=DURATION:PT1H
X-Robots-Tag:noindex
X-PUBLISHED-TTL:PT1H
BEGIN:VTIMEZONE
TZID:Europe/Paris
BEGIN:DAYLIGHT
TZOFFSETFROM:+0100
TZOFFSETTO:+0200
TZNAME:CEST
DTSTART:20240331T010000
END:DAYLIGHT
BEGIN:STANDARD
TZOFFSETFROM:+0200
TZOFFSETTO:+0100
TZNAME:CET
DTSTART:20241027T010000
END:STANDARD
END:VTIMEZONE
BEGIN:VEVENT
DTSTART;TZID=Europe/Paris:20240308T140000
DTEND;TZID=Europe/Paris:20240308T160000
DTSTAMP:20260421T041835
CREATED:20240213T154020Z
LAST-MODIFIED:20240213T154020Z
UID:10001624-1709906400-1709913600@www.lasolid.fr
SUMMARY:Préparation de la GrainOfête
DESCRIPTION:Appel à dons de graines pour nos grainothèques ! \nBienvenue à la maison de la solidarité\, à toute personne intéressée par le jardin\, le partage\, les rencontres… \nLes bénévoles du groupe Jardins ont rendez-vous ce vendredi après-midi pour préparer la GrainOfête du samedi 16 mars. \nPour filer un coup de main le jour de l’événement\, inscription en ligne ici : https://kdrive.infomaniak.com/app/share/718682/f0e5a0f1-e437-4566-b0fa-d75fbeabd538 \nD’avance merci pour ton aide précieuse !
URL:https://www.lasolid.fr/evenement/preparation-de-la-grainofete/
LOCATION:Maison de la solidarité\, 1 rue des filatures\, Clisson\, 44190\, France
CATEGORIES:Café jardin,Pote Âgé,Réunions
ATTACH;FMTTYPE=image/png:https://www.lasolid.fr/wp-content/uploads/GRAINOFETE-20244.png
ORGANIZER;CN="La Solid'":MAILTO:asso@lasolid.fr
END:VEVENT
END:VCALENDAR