BEGIN:VCALENDAR
VERSION:2.0
PRODID:-//La Solid&#039; - ECPv6.13.2.1//NONSGML v1.0//EN
CALSCALE:GREGORIAN
METHOD:PUBLISH
X-ORIGINAL-URL:https://www.lasolid.fr
X-WR-CALDESC:Évènements pour La Solid&#039;
REFRESH-INTERVAL;VALUE=DURATION:PT1H
X-Robots-Tag:noindex
X-PUBLISHED-TTL:PT1H
BEGIN:VTIMEZONE
TZID:Europe/Paris
BEGIN:DAYLIGHT
TZOFFSETFROM:+0100
TZOFFSETTO:+0200
TZNAME:CEST
DTSTART:20240331T010000
END:DAYLIGHT
BEGIN:STANDARD
TZOFFSETFROM:+0200
TZOFFSETTO:+0100
TZNAME:CET
DTSTART:20241027T010000
END:STANDARD
END:VTIMEZONE
BEGIN:VEVENT
DTSTART;TZID=Europe/Paris:20240203T170000
DTEND;TZID=Europe/Paris:20240203T190000
DTSTAMP:20260421T052158
CREATED:20231222T022118Z
LAST-MODIFIED:20240131T210706Z
UID:10001608-1706979600-1706986800@www.lasolid.fr
SUMMARY:Assemblée Générale extraordinaire
DESCRIPTION:Ordre du jour : \n\npoint sur l’avancée de l’écriture du projet associatif 2024-2028\najustement des statuts\nvalidation de nouvelles candidatures pour renforcer le bureau collégial\nvalidation des comptes 2023\nvalidation du bugdet prévisionnel 2024\n\nEléments transmis en amont aux adhérent·es à jour de leur cotisation. \nATTENTION ! ASSEMBLÉE GÉNÉRALE ORDINAIRE POUR LA PRÉSENTATION DES BILANS MORAUX ET D’ACTIVITÉS\, RENOUVELLEMENT DU BUREAU ET RENOUVELLEMENT DES ADHÉSIONS : JUIN 2024 \nAG ouverte à tou·tes. Seul·es les membres à jour de leur cotisation peuvent prendre part aux décisions. \nAG suivie d’un verre de l’amitié et d’une soirée festive. Grignotages sucrés ou salés bienvenus !
URL:https://www.lasolid.fr/evenement/assemblee-generale-extraordinaire/
LOCATION:Maison de la solidarité\, 1 rue des filatures\, Clisson\, 44190\, France
CATEGORIES:Réunions
ATTACH;FMTTYPE=image/jpeg:https://www.lasolid.fr/wp-content/uploads/IMG20210830191728-1-scaled.jpg
ORGANIZER;CN="La Solid'":MAILTO:asso@lasolid.fr
END:VEVENT
BEGIN:VEVENT
DTSTART;TZID=Europe/Paris:20240203T193000
DTEND;TZID=Europe/Paris:20240203T235900
DTSTAMP:20260421T052158
CREATED:20240108T104208Z
LAST-MODIFIED:20240119T232634Z
UID:10001611-1706988600-1707004740@www.lasolid.fr
SUMMARY:Karaoké ouvert à tou·tes organisé par les Super Féministes
DESCRIPTION:« Tout sauf Sardou » ! \nEntrée libre\, à la suite de l’AG de La Solid’. \nAppel à bénévoles pour participer à l’organisation !
URL:https://www.lasolid.fr/evenement/karaoke-ouvert-a-tou%c2%b7tes-organise-par-les-super-feministes/
LOCATION:Maison de la solidarité\, 1 rue des filatures\, Clisson\, 44190\, France
CATEGORIES:Rdv des Super Féministes,Réunions,Tiers Lieu Ateliers Solidaires
ATTACH;FMTTYPE=image/png:https://www.lasolid.fr/wp-content/uploads/Affiche-3-fevrier-202410.png
ORGANIZER;CN="La Solid'":MAILTO:asso@lasolid.fr
END:VEVENT
END:VCALENDAR