BEGIN:VCALENDAR
VERSION:2.0
PRODID:-//La Solid&#039; - ECPv6.13.2.1//NONSGML v1.0//EN
CALSCALE:GREGORIAN
METHOD:PUBLISH
X-ORIGINAL-URL:https://www.lasolid.fr
X-WR-CALDESC:Évènements pour La Solid&#039;
REFRESH-INTERVAL;VALUE=DURATION:PT1H
X-Robots-Tag:noindex
X-PUBLISHED-TTL:PT1H
BEGIN:VTIMEZONE
TZID:Europe/Paris
BEGIN:DAYLIGHT
TZOFFSETFROM:+0100
TZOFFSETTO:+0200
TZNAME:CEST
DTSTART:20230326T010000
END:DAYLIGHT
BEGIN:STANDARD
TZOFFSETFROM:+0200
TZOFFSETTO:+0100
TZNAME:CET
DTSTART:20231029T010000
END:STANDARD
END:VTIMEZONE
BEGIN:VEVENT
DTSTART;TZID=Europe/Paris:20231009T080000
DTEND;TZID=Europe/Paris:20231009T170000
DTSTAMP:20260421T112930
CREATED:20231009T202619Z
LAST-MODIFIED:20231009T213422Z
UID:10000981-1696838400-1696870800@www.lasolid.fr
SUMMARY:Réunion des Super Féministes
DESCRIPTION:11ème réunion des Super Féministes\, collectif de La Solid’\, \nouverte aux adhérent·es de La Solid’ à jour de leur cotiz (possibilité d’adhérer sur place ou en ligne)\, en phase avec la charte du groupe\, à découvrir ici  \net souhaitant participer et/ou contribuer aux actions à l’iniative du collectif. \nExemples d’actions réalisées ces derniers mois : participation à l’organisation des Journées Internationales des Droits des Femmes dans le vignoble nantais\, Soirée jeux\, Karaoké féministe\, Papote – cercle d’écoute sur le thème de l’engagement \nAu programme : Venez on se trouve ou on se retrouve\, et on organise la suite ! \nRencontre mixte et conviviale. Breuvages et grignotages bienvenus ! \n  \n 
URL:https://www.lasolid.fr/evenement/reunion-des-super-feministes/
LOCATION:Maison de la solidarité\, 1 rue des filatures\, Clisson\, 44190\, France
CATEGORIES:Autres,Réunions,Tiers Lieu Ateliers Solidaires
ORGANIZER;CN="La Solid'":MAILTO:asso@lasolid.fr
END:VEVENT
END:VCALENDAR