BEGIN:VCALENDAR
VERSION:2.0
PRODID:-//La Solid&#039; - ECPv6.13.2.1//NONSGML v1.0//EN
CALSCALE:GREGORIAN
METHOD:PUBLISH
X-ORIGINAL-URL:https://www.lasolid.fr
X-WR-CALDESC:Évènements pour La Solid&#039;
REFRESH-INTERVAL;VALUE=DURATION:PT1H
X-Robots-Tag:noindex
X-PUBLISHED-TTL:PT1H
BEGIN:VTIMEZONE
TZID:Europe/Paris
BEGIN:DAYLIGHT
TZOFFSETFROM:+0100
TZOFFSETTO:+0200
TZNAME:CEST
DTSTART:20230326T010000
END:DAYLIGHT
BEGIN:STANDARD
TZOFFSETFROM:+0200
TZOFFSETTO:+0100
TZNAME:CET
DTSTART:20231029T010000
END:STANDARD
END:VTIMEZONE
BEGIN:VEVENT
DTSTART;TZID=Europe/Paris:20230720T183000
DTEND;TZID=Europe/Paris:20230720T213000
DTSTAMP:20260421T155010
CREATED:20230619T121955Z
LAST-MODIFIED:20230718T091744Z
UID:10000938-1689877800-1689888600@www.lasolid.fr
SUMMARY:Pique-nique des Super féministes
DESCRIPTION:Rencontre conviviale réservée aux membres de la Solid’ qui souhaitent s’investir dans le groupe des Super Féministes. \nNous y discuterons du programme 2023-2024 et préparerons nos futures actions.
URL:https://www.lasolid.fr/evenement/pique-nique-feministe-et-inclusif/
LOCATION:Maison de la solidarité\, 1 rue des filatures\, Clisson\, 44190\, France
CATEGORIES:Autres,Réunions,Tiers Lieu Ateliers Solidaires
ATTACH;FMTTYPE=image/jpeg:https://www.lasolid.fr/wp-content/uploads/AFFICHE-PIQUE-NIQUE7-scaled.jpg
ORGANIZER;CN="La Solid'":MAILTO:asso@lasolid.fr
END:VEVENT
END:VCALENDAR