BEGIN:VCALENDAR
VERSION:2.0
PRODID:-//La Solid&#039; - ECPv6.13.2.1//NONSGML v1.0//EN
CALSCALE:GREGORIAN
METHOD:PUBLISH
X-WR-CALNAME:La Solid&#039;
X-ORIGINAL-URL:https://www.lasolid.fr
X-WR-CALDESC:Évènements pour La Solid&#039;
REFRESH-INTERVAL;VALUE=DURATION:PT1H
X-Robots-Tag:noindex
X-PUBLISHED-TTL:PT1H
BEGIN:VTIMEZONE
TZID:Europe/Paris
BEGIN:DAYLIGHT
TZOFFSETFROM:+0100
TZOFFSETTO:+0200
TZNAME:CEST
DTSTART:20240331T010000
END:DAYLIGHT
BEGIN:STANDARD
TZOFFSETFROM:+0200
TZOFFSETTO:+0100
TZNAME:CET
DTSTART:20241027T010000
END:STANDARD
END:VTIMEZONE
BEGIN:VEVENT
DTSTART;TZID=Europe/Paris:20241106T190000
DTEND;TZID=Europe/Paris:20241106T210000
DTSTAMP:20260420T132634
CREATED:20241019T171515Z
LAST-MODIFIED:20241106T220930Z
UID:10001792-1730919600-1730926800@www.lasolid.fr
SUMMARY:Réunion des Super Féministes
DESCRIPTION:Ouverte aux adhérent-es de La Solid’ en phase avec la charte des Super Féministes. \nSoirée de finalisation de l’organisation des actions 2024-2025. \nPlus d’infos ? asso@lasolid.fr \nGarde des enfants assurée sur place par les alliés.
URL:https://www.lasolid.fr/evenement/reunion-des-super-feministes-3/
LOCATION:Maison de la solidarité\, 1 rue des filatures\, Clisson\, 44190\, France
CATEGORIES:Autres,Rdv des Super Féministes,Réunions
ATTACH;FMTTYPE=image/png:https://www.lasolid.fr/wp-content/uploads/super-feministes-solid-transparent.png
ORGANIZER;CN="La Solid'":MAILTO:asso@lasolid.fr
END:VEVENT
BEGIN:VEVENT
DTSTART;TZID=Europe/Paris:20241108T140000
DTEND;TZID=Europe/Paris:20241108T160000
DTSTAMP:20260420T132634
CREATED:20240928T222735Z
LAST-MODIFIED:20241025T101839Z
UID:10001781-1731074400-1731081600@www.lasolid.fr
SUMMARY:Commission Toilettes sèches
DESCRIPTION:RDV INITIALEMENT PREVU LE 7/11\, DECALE AU 8/11 A 14H \nRéunion des salarié·es et bénévoles qui ont travaillé sur les prestations de toilettes sèches (au château de Clisson et en événementiels) \net accueil des bénévoles qui aimeraient préserver nos ressources en eau… et les ressources financières de l’asso ! \nBienvenue pour le bilan de la saison 2024 et préparer 2025. \nToutes les bonnes volontés sont bienvenues !
URL:https://www.lasolid.fr/evenement/commission-toilettes-seches/
LOCATION:Maison de la solidarité\, 1 rue des filatures\, Clisson\, 44190\, France
CATEGORIES:Environnement - Biodiversité,Réunions
ATTACH;FMTTYPE=image/jpeg:https://www.lasolid.fr/wp-content/uploads/Cabine-PMRext-scaled-e1727562427766.jpg
ORGANIZER;CN="La Solid'":MAILTO:asso@lasolid.fr
END:VEVENT
BEGIN:VEVENT
DTSTART;TZID=Europe/Paris:20241120T190000
DTEND;TZID=Europe/Paris:20241120T220000
DTSTAMP:20260420T132634
CREATED:20241019T171334Z
LAST-MODIFIED:20241028T134938Z
UID:10001791-1732129200-1732140000@www.lasolid.fr
SUMMARY:Raclette littéraire avec les Super Féministes
DESCRIPTION:Raclette littéraire des Super Féministes\, pour se présenter ses bouquins\, éventuellement se les prêter\, voire se rendre ceux prêtés lors du pic-nic de juillet La Solid’ fait les courses (merci !) et nous remboursons via un prix libre et conscient. \nUne garde d’enfants sera proposée sur place. \nÉvènement mixte ouvert à toustes sur inscription. \nNombre de places limité\, sur réservation en ligne ici.
URL:https://www.lasolid.fr/evenement/raclette-litteraire-avec-les-super-feministes/
LOCATION:Maison de la solidarité\, 1 rue des filatures\, Clisson\, 44190\, France
CATEGORIES:Atelier des savoirs,Rdv des Super Féministes,Réunions
ATTACH;FMTTYPE=image/png:https://www.lasolid.fr/wp-content/uploads/raclette-et-bouquins.png
ORGANIZER;CN="La Solid'":MAILTO:asso@lasolid.fr
END:VEVENT
END:VCALENDAR