BEGIN:VCALENDAR
VERSION:2.0
PRODID:-//La Solid&#039; - ECPv6.13.2.1//NONSGML v1.0//EN
CALSCALE:GREGORIAN
METHOD:PUBLISH
X-WR-CALNAME:La Solid&#039;
X-ORIGINAL-URL:https://www.lasolid.fr
X-WR-CALDESC:Évènements pour La Solid&#039;
REFRESH-INTERVAL;VALUE=DURATION:PT1H
X-Robots-Tag:noindex
X-PUBLISHED-TTL:PT1H
BEGIN:VTIMEZONE
TZID:Europe/Paris
BEGIN:DAYLIGHT
TZOFFSETFROM:+0100
TZOFFSETTO:+0200
TZNAME:CEST
DTSTART:20240331T010000
END:DAYLIGHT
BEGIN:STANDARD
TZOFFSETFROM:+0200
TZOFFSETTO:+0100
TZNAME:CET
DTSTART:20241027T010000
END:STANDARD
END:VTIMEZONE
BEGIN:VEVENT
DTSTART;TZID=Europe/Paris:20240703T190000
DTEND;TZID=Europe/Paris:20240703T210000
DTSTAMP:20260420T200213
CREATED:20240415T140607Z
LAST-MODIFIED:20240617T182713Z
UID:10001687-1720033200-1720040400@www.lasolid.fr
SUMMARY:Pique-nique et partage de livres féministes au bord de l'eau
DESCRIPTION:Soirée en mixité choisie : pique-nique végé partagé et partage de livres. \nViens avec tes livres féministes à échanger\, faire découvrir\, partager\, troquer\, prêter… à ta guise ! \nBienvenue aux membres de La Solid’ en phase avec les valeurs et la charte des Super Féministes. \nMixité choisie : femmes et minorités de genre. \nRdv Garenne Valentin à Clisson\, repli à La Solid’ en cas de pluie.
URL:https://www.lasolid.fr/evenement/pique-nique-et-echange-des-livres-feministes/
CATEGORIES:Rdv des Super Féministes,Réunions,Tiers Lieu Ateliers Solidaires
ATTACH;FMTTYPE=image/png:https://www.lasolid.fr/wp-content/uploads/pique_nique_juillet_2024.png
ORGANIZER;CN="La Solid'":MAILTO:asso@lasolid.fr
END:VEVENT
BEGIN:VEVENT
DTSTART;TZID=Europe/Paris:20240704T180000
DTEND;TZID=Europe/Paris:20240704T210000
DTSTAMP:20260420T200213
CREATED:20240617T194602Z
LAST-MODIFIED:20240617T194602Z
UID:10001713-1720116000-1720126800@www.lasolid.fr
SUMMARY:Bicyclette et Cacahuètes
DESCRIPTION:Apéro cycliste à l’invitation de Place au Vélo Vignoble Nantais et de La Solid’. Rdv à partir de 18h aux Papas Brasseurs. \nRdv convivial ouvert à tou·tes !
URL:https://www.lasolid.fr/evenement/bicyclette-et-cacahuetes/
LOCATION:Maison de la solidarité\, 1 rue des filatures\, Clisson\, 44190\, France
CATEGORIES:Réunions,Vélo
ATTACH;FMTTYPE=image/jpeg:https://www.lasolid.fr/wp-content/uploads/WhatsApp-Image-2024-05-18-at-14.43.26.jpeg
ORGANIZER;CN="La Solid'":MAILTO:asso@lasolid.fr
END:VEVENT
END:VCALENDAR