BEGIN:VCALENDAR
VERSION:2.0
PRODID:-//La Solid&#039; - ECPv6.13.2.1//NONSGML v1.0//EN
CALSCALE:GREGORIAN
METHOD:PUBLISH
X-ORIGINAL-URL:https://www.lasolid.fr
X-WR-CALDESC:Évènements pour La Solid&#039;
REFRESH-INTERVAL;VALUE=DURATION:PT1H
X-Robots-Tag:noindex
X-PUBLISHED-TTL:PT1H
BEGIN:VTIMEZONE
TZID:Europe/Paris
BEGIN:DAYLIGHT
TZOFFSETFROM:+0100
TZOFFSETTO:+0200
TZNAME:CEST
DTSTART:20240331T010000
END:DAYLIGHT
BEGIN:STANDARD
TZOFFSETFROM:+0200
TZOFFSETTO:+0100
TZNAME:CET
DTSTART:20241027T010000
END:STANDARD
END:VTIMEZONE
BEGIN:VEVENT
DTSTART;TZID=Europe/Paris:20240404T183000
DTEND;TZID=Europe/Paris:20240404T203000
DTSTAMP:20260421T004928
CREATED:20240328T155448Z
LAST-MODIFIED:20240328T155448Z
UID:10001674-1712255400-1712262600@www.lasolid.fr
SUMMARY:Groupe de travail "La Gouvernance"
DESCRIPTION:Dans le cadre de l’écriture de son projet associatif 2024-2028\, La Solid’ réunit les adhérent·es intéressé·es par la thématique de la GOUVERNANCE. \nGouvernance partagée\, intelligence collective\, animation participative\, décisions par consentement…  Bureau collégial\, conseil associatif assemblées générales\, commissions… Référent·es\, bénévoles\, salarié·es… \nQui fait quoi ? Qui décide de quoi ? Comment ? \nDiagnostic de l’existant. Propositions d’améliorations… Viens échanger et proposer notre mode de fonctionnement pour les prochaines années. \nRéunion jeudi 4 avril à 18h30\, ouverte à tou·tes les membres de La Solid’ intéressé·es par notre projet. Breuvages et grignotages en partage ! \nLes propositions d’orientation issues de ces rencontres seront présentées au Conseil Associatif du samedi 5 avril\, qui se tiendra à La Solid’
URL:https://www.lasolid.fr/evenement/groupe-de-travail-la-gouvernance/
LOCATION:Maison de la solidarité\, 1 rue des filatures\, Clisson\, 44190\, France
CATEGORIES:Autres,Environnement - Biodiversité,Réunions,Tiers Lieu Ateliers Solidaires,Vélo
ATTACH;FMTTYPE=image/jpeg:https://www.lasolid.fr/wp-content/uploads/IMG20210830191728-1-scaled.jpg
ORGANIZER;CN="La Solid'":MAILTO:asso@lasolid.fr
END:VEVENT
BEGIN:VEVENT
DTSTART;TZID=Europe/Paris:20240407T140000
DTEND;TZID=Europe/Paris:20240407T160000
DTSTAMP:20260421T004928
CREATED:20240406T223301Z
LAST-MODIFIED:20240406T223301Z
UID:10001669-1712498400-1712505600@www.lasolid.fr
SUMMARY:ANNULÉE - Papote éco-lucide
DESCRIPTION:DATE SUIVANTE : 19 MAI\n\n\nEspace libre et confidentiel\, où l’on peut partager ses éco-émotions et être écouté·e sans jugement.\nDe 3 à 8 personnes\, inscription auprès de l’association : asso@lasolid.fr. \nMerci d’arriver 15 minutes avant le début.\n\n\n\n\n🌍  C’est quoi ? \nLes cercles d’écoute sont des espaces libres d’accès et confidentiels\, ouverts à toutes et tous où chacun.e peut être écouté.e par un groupe de manière non-jugeante et inconditionnelle\, et pratiquer à son tour une véritable écoute. Dans un cercle d’écoute\, vous pouvez déposer\, en toute sécurité et sans jugement\, ce qui se vit intérieurement\, éventuellement ce qui est blessé\, tourmenté\, bouleversé – ou choisir de rester en silence. Un cercle d’écoute est un espace libre mais ne vise ni à donner des conseils\, ni à résoudre des problèmes. Ce n’est pas un lieu d’interaction ni d’interpellation\, ni de questions-réponses. \n🦋 C’est pour qui ? \nS’adresse aux personnes qui souhaitent partager leur émotions vis-à-vis des effondrements en cours (dérèglements climatiques\, extinction massive du vivant…)\, de l’inaction des dirigeants et la répression de celles et ceux qui agissent. Les ‘éco-anxieux’ sont des gens normaux dans un monde malade ! \n☀️ Déroulé \nUn.e animateur.rice bénévole veille à ce que la parole ne soit pas monopolisée et que le cadre soit bien respecté. Il débute par un tour de présentation et d’humeur du jour. Si nécessaire\, il peut demander à la personne venant de s’exprimer de préciser ses propos\, et relancer la parole par des questions. Plus d’infos sur la méthode d’animation. \n\n–\n\nPour en savoir plus sur les émotions liées à la crise environnementale\, nous recommandons cette formation en ligne accessible à prix libre : https://www.carbone4.com/training/eco-anxiety-emotions.\nCet événement ne se substitue pas à l’accompagnement d’un professionnel de santé. En cas de détresse psychologique liée à l’éco-anxiété\, il est recommandé de consulter.\n\n\n\n\n\nPapotes 2024\n\nDimanche 10 mars\, dimanche 7 avril\, dimanche 19 mai\, dimanche 2 juin de 14h à 16h.
URL:https://www.lasolid.fr/evenement/papote-eco-lucide-cercle-decoute-2/
LOCATION:Maison de la solidarité\, 1 rue des filatures\, Clisson\, 44190\, France
CATEGORIES:Atelier des savoirs,Environnement - Biodiversité,Réunions,Tiers Lieu Ateliers Solidaires,Veille environnementale
ATTACH;FMTTYPE=image/jpeg:https://www.lasolid.fr/wp-content/uploads/femme-couvrant-visage-fleurs-fraiches.jpg
ORGANIZER;CN="La Solid'":MAILTO:asso@lasolid.fr
END:VEVENT
BEGIN:VEVENT
DTSTART;TZID=Europe/Paris:20240423T183000
DTEND;TZID=Europe/Paris:20240423T203000
DTSTAMP:20260421T004928
CREATED:20240328T155653Z
LAST-MODIFIED:20240328T155653Z
UID:10001675-1713897000-1713904200@www.lasolid.fr
SUMMARY:Groupe de travail "Le modèle économique"
DESCRIPTION:Dans le cadre de l’écriture du projet associatif 2024-2028\, La Solid’ réunit les adhérent·es intéressé·es par la question du modèle économique de l’association. \nParticipation des adhérent·es\, adhésions\, prix libre\, dons\, prestations\, ventes\, subventions\, mécénat… Temps salarié\, temps bénévole… Quel modèle\, quels équilibres\, quelles perspectives voulons-nous pour la Solid’ dans les prochains mois\, prochaines années ? \nRéunion mardi 23 avril à 18h30\, ouverte à tou·tes les membres de La Solid’ intéressé·es par notre projet. Breuvages et grignotages bienvenus ! \nLes propositions d’orientation issues de ces rencontres seront présentées au Conseil Associatif du samedi 5 avril\, qui se tiendra à La Solid’
URL:https://www.lasolid.fr/evenement/groupe-de-travail-le-modele-economique/
LOCATION:Maison de la solidarité\, 1 rue des filatures\, Clisson\, 44190\, France
CATEGORIES:Autres,Environnement - Biodiversité,Réunions,Tiers Lieu Ateliers Solidaires,Vélo
ATTACH;FMTTYPE=image/jpeg:https://www.lasolid.fr/wp-content/uploads/IMG20210830191728-1-scaled.jpg
ORGANIZER;CN="La Solid'":MAILTO:asso@lasolid.fr
END:VEVENT
BEGIN:VEVENT
DTSTART;TZID=Europe/Paris:20240425T160000
DTEND;TZID=Europe/Paris:20240425T180000
DTSTAMP:20260421T004928
CREATED:20240416T215144Z
LAST-MODIFIED:20240416T215144Z
UID:10001689-1714060800-1714068000@www.lasolid.fr
SUMMARY:Réunion Toilettes sèches
DESCRIPTION:Réunion de l’équipe salariée et des bénévoles pour finaliser l’organisation de la saison de locations de toilettes sèches en événementiel\, un moyen pour notre asso de sensibiliser le grand public à la préservation de nos ressources en eau\, et aussi un moyen d’autofinancement de nos actions solidaires. \nAPPEL À BÉNÉVOLES POUR NOUS AIDER SUR CERTAINES DATES ESTIVALES ! Merci de nous signaler ton intérêt !
URL:https://www.lasolid.fr/evenement/reunion-toilettes-seches/
LOCATION:Maison de la solidarité\, 1 rue des filatures\, Clisson\, 44190\, France
CATEGORIES:Environnement - Biodiversité,Réunions
ATTACH;FMTTYPE=image/jpeg:https://www.lasolid.fr/wp-content/uploads/Cabine-PMRext-scaled-e1727562427766.jpg
ORGANIZER;CN="La Solid'":MAILTO:asso@lasolid.fr
END:VEVENT
BEGIN:VEVENT
DTSTART;TZID=Europe/Paris:20240425T180000
DTEND;TZID=Europe/Paris:20240425T183000
DTSTAMP:20260421T004928
CREATED:20240416T215420Z
LAST-MODIFIED:20240416T215420Z
UID:10001690-1714068000-1714069800@www.lasolid.fr
SUMMARY:Pot d'accueil de Lucie\, animatrice Tiers Lieu et Environnement
DESCRIPTION:Bienvenue aux bénévoles de La Solid’ à 18h avec breuvages et grignotages.
URL:https://www.lasolid.fr/evenement/pot-daccueil-de-lucie-animatrice-tiers-lieu-et-environnement/
LOCATION:Maison de la solidarité\, 1 rue des filatures\, Clisson\, 44190\, France
CATEGORIES:Autres,Environnement - Biodiversité,Réunions,Tiers Lieu Ateliers Solidaires
ATTACH;FMTTYPE=image/jpeg:https://www.lasolid.fr/wp-content/uploads/IMG20210830191728-1-scaled.jpg
ORGANIZER;CN="La Solid'":MAILTO:asso@lasolid.fr
END:VEVENT
BEGIN:VEVENT
DTSTART;TZID=Europe/Paris:20240425T183000
DTEND;TZID=Europe/Paris:20240425T183000
DTSTAMP:20260421T004928
CREATED:20240424T122549Z
LAST-MODIFIED:20240424T122549Z
UID:10001692-1714069800-1714069800@www.lasolid.fr
SUMMARY:Pot d'accueil de Lucie
DESCRIPTION:La Solid’ accueille dans son équipe Lucie\, nouvelle animatrice Tiers Lieu et Environnement. Pot d’accueil demain jeudi à 18h à l’atelier\, avant la réunion du bureau collégial !
URL:https://www.lasolid.fr/evenement/pot-daccueil-de-lucie/
LOCATION:Maison de la solidarité\, 1 rue des filatures\, Clisson\, 44190\, France
CATEGORIES:Autres,Environnement - Biodiversité,Réunions,Tiers Lieu Ateliers Solidaires,Vélo
ATTACH;FMTTYPE=image/png:https://www.lasolid.fr/wp-content/uploads/Bienvenue.png
ORGANIZER;CN="La Solid'":MAILTO:asso@lasolid.fr
END:VEVENT
BEGIN:VEVENT
DTSTART;TZID=Europe/Paris:20240430T180000
DTEND;TZID=Europe/Paris:20240430T200000
DTSTAMP:20260421T004928
CREATED:20240415T163822Z
LAST-MODIFIED:20240415T213747Z
UID:10001688-1714500000-1714507200@www.lasolid.fr
SUMMARY:Réunion Jardins
DESCRIPTION:Nous ferons le point sur les projets 2024\, préparerons le Troc plants du 4 mai\, les bilans « jardins » pour l’AG du 8 juin. \nOuvert à tou·tes les bénévoles volontaires\, intéressé·es pour contribuer à nos projets de jardinage biologique et solidaire. \nBreuvages et grignotages en partage bienvenus pour cette soirée !
URL:https://www.lasolid.fr/evenement/reunion-jardins-2/
LOCATION:Maison de la solidarité\, 1 rue des filatures\, Clisson\, 44190\, France
CATEGORIES:Café jardin,Environnement - Biodiversité,Pote Âgé,Réunions,Verger
ATTACH;FMTTYPE=image/jpeg:https://www.lasolid.fr/wp-content/uploads/jardin-3-scaled.jpg
ORGANIZER;CN="La Solid'":MAILTO:asso@lasolid.fr
END:VEVENT
END:VCALENDAR