BEGIN:VCALENDAR
VERSION:2.0
PRODID:-//La Solid&#039; - ECPv6.13.2.1//NONSGML v1.0//EN
CALSCALE:GREGORIAN
METHOD:PUBLISH
X-WR-CALNAME:La Solid&#039;
X-ORIGINAL-URL:https://www.lasolid.fr
X-WR-CALDESC:Évènements pour La Solid&#039;
REFRESH-INTERVAL;VALUE=DURATION:PT1H
X-Robots-Tag:noindex
X-PUBLISHED-TTL:PT1H
BEGIN:VTIMEZONE
TZID:Europe/Paris
BEGIN:DAYLIGHT
TZOFFSETFROM:+0100
TZOFFSETTO:+0200
TZNAME:CEST
DTSTART:20230326T010000
END:DAYLIGHT
BEGIN:STANDARD
TZOFFSETFROM:+0200
TZOFFSETTO:+0100
TZNAME:CET
DTSTART:20231029T010000
END:STANDARD
END:VTIMEZONE
BEGIN:VEVENT
DTSTART;TZID=Europe/Paris:20231206T183000
DTEND;TZID=Europe/Paris:20231206T203000
DTSTAMP:20260421T065139
CREATED:20230707T120345Z
LAST-MODIFIED:20230824T093651Z
UID:10000945-1701887400-1701894600@www.lasolid.fr
SUMMARY:Réunion du Bureau
DESCRIPTION:Le bureau collégial de La Solid’ a été élu en AG le 23 juin 2023\, pour piloter l’association au quotidien jusqu’en juin 2024. \nIl se réunit environ une fois par mois pour gérer les affaires courantes\, de façon collégiale et participative. \nIl est possible de rejoindre le bureau lors de notre prochaine AG de février 2024. \nN’hésite pas à nous contacter si cette mission t’intéresse et si tu veux venir « tester » une réunion de bureau avant de proposer ta candidature et de t’engager aux côtés de l’équipe permanente.
URL:https://www.lasolid.fr/evenement/reunion-du-bureau/2023-12-06/
LOCATION:Maison de la solidarité\, 1 rue des filatures\, Clisson\, 44190\, France
CATEGORIES:Autres,Réunions
ATTACH;FMTTYPE=image/jpeg:https://www.lasolid.fr/wp-content/uploads/les-ptits-gars-du-verger-3.jpg
ORGANIZER;CN="La Solid'":MAILTO:asso@lasolid.fr
END:VEVENT
BEGIN:VEVENT
DTSTART;TZID=Europe/Paris:20231214T183000
DTEND;TZID=Europe/Paris:20231214T203000
DTSTAMP:20260421T065139
CREATED:20231208T123721Z
LAST-MODIFIED:20231208T124838Z
UID:10001591-1702578600-1702585800@www.lasolid.fr
SUMMARY:Groupe de réflexion Projet associatif
DESCRIPTION:La Solid’ est en pleine rédaction de son projet associatif 2024-2028. \nDes bénévoles se retrouvent en groupe de réflexion thématique : la question de l’engagement et du militantisme ? / la place de la lutte contre les discriminations ? / quel tiers-lieu voulons-nous ? \nIntéressé·e pour contribuer ? Contacte-nous d’abord !
URL:https://www.lasolid.fr/evenement/groupe-de-reflexion-projet-associatif/2023-12-14/
LOCATION:Maison de la solidarité\, 1 rue des filatures\, Clisson\, 44190\, France
CATEGORIES:Autres,Environnement - Biodiversité,Réunions,Tiers Lieu Ateliers Solidaires,Vélo
ATTACH;FMTTYPE=image/jpeg:https://www.lasolid.fr/wp-content/uploads/la-solid-clisson-association.jpg
ORGANIZER;CN="La Solid'":MAILTO:asso@lasolid.fr
END:VEVENT
BEGIN:VEVENT
DTSTART;TZID=Europe/Paris:20231218T183000
DTEND;TZID=Europe/Paris:20231218T203000
DTSTAMP:20260421T065139
CREATED:20231208T123721Z
LAST-MODIFIED:20231208T124838Z
UID:10001592-1702924200-1702931400@www.lasolid.fr
SUMMARY:Groupe de réflexion Projet associatif
DESCRIPTION:La Solid’ est en pleine rédaction de son projet associatif 2024-2028. \nDes bénévoles se retrouvent en groupe de réflexion thématique : la question de l’engagement et du militantisme ? / la place de la lutte contre les discriminations ? / quel tiers-lieu voulons-nous ? \nIntéressé·e pour contribuer ? Contacte-nous d’abord !
URL:https://www.lasolid.fr/evenement/groupe-de-reflexion-projet-associatif/2023-12-18/
LOCATION:Maison de la solidarité\, 1 rue des filatures\, Clisson\, 44190\, France
CATEGORIES:Autres,Environnement - Biodiversité,Réunions,Tiers Lieu Ateliers Solidaires,Vélo
ATTACH;FMTTYPE=image/jpeg:https://www.lasolid.fr/wp-content/uploads/la-solid-clisson-association.jpg
ORGANIZER;CN="La Solid'":MAILTO:asso@lasolid.fr
END:VEVENT
BEGIN:VEVENT
DTSTART;TZID=Europe/Paris:20231219T183000
DTEND;TZID=Europe/Paris:20231219T203000
DTSTAMP:20260421T065139
CREATED:20231208T123721Z
LAST-MODIFIED:20231208T124838Z
UID:10001593-1703010600-1703017800@www.lasolid.fr
SUMMARY:Groupe de réflexion Projet associatif
DESCRIPTION:La Solid’ est en pleine rédaction de son projet associatif 2024-2028. \nDes bénévoles se retrouvent en groupe de réflexion thématique : la question de l’engagement et du militantisme ? / la place de la lutte contre les discriminations ? / quel tiers-lieu voulons-nous ? \nIntéressé·e pour contribuer ? Contacte-nous d’abord !
URL:https://www.lasolid.fr/evenement/groupe-de-reflexion-projet-associatif/2023-12-19/
LOCATION:Maison de la solidarité\, 1 rue des filatures\, Clisson\, 44190\, France
CATEGORIES:Autres,Environnement - Biodiversité,Réunions,Tiers Lieu Ateliers Solidaires,Vélo
ATTACH;FMTTYPE=image/jpeg:https://www.lasolid.fr/wp-content/uploads/la-solid-clisson-association.jpg
ORGANIZER;CN="La Solid'":MAILTO:asso@lasolid.fr
END:VEVENT
END:VCALENDAR