BEGIN:VCALENDAR
VERSION:2.0
PRODID:-//La Solid&#039; - ECPv6.13.2.1//NONSGML v1.0//EN
CALSCALE:GREGORIAN
METHOD:PUBLISH
X-WR-CALNAME:La Solid&#039;
X-ORIGINAL-URL:https://www.lasolid.fr
X-WR-CALDESC:Évènements pour La Solid&#039;
REFRESH-INTERVAL;VALUE=DURATION:PT1H
X-Robots-Tag:noindex
X-PUBLISHED-TTL:PT1H
BEGIN:VTIMEZONE
TZID:Europe/Paris
BEGIN:DAYLIGHT
TZOFFSETFROM:+0100
TZOFFSETTO:+0200
TZNAME:CEST
DTSTART:20230326T010000
END:DAYLIGHT
BEGIN:STANDARD
TZOFFSETFROM:+0200
TZOFFSETTO:+0100
TZNAME:CET
DTSTART:20231029T010000
END:STANDARD
END:VTIMEZONE
BEGIN:VEVENT
DTSTART;TZID=Europe/Paris:20231004T183000
DTEND;TZID=Europe/Paris:20231004T203000
DTSTAMP:20260421T100704
CREATED:20230707T120345Z
LAST-MODIFIED:20230824T093651Z
UID:10000943-1696444200-1696451400@www.lasolid.fr
SUMMARY:Réunion du Bureau
DESCRIPTION:Le bureau collégial de La Solid’ a été élu en AG le 23 juin 2023\, pour piloter l’association au quotidien jusqu’en juin 2024. \nIl se réunit environ une fois par mois pour gérer les affaires courantes\, de façon collégiale et participative. \nIl est possible de rejoindre le bureau lors de notre prochaine AG de février 2024. \nN’hésite pas à nous contacter si cette mission t’intéresse et si tu veux venir « tester » une réunion de bureau avant de proposer ta candidature et de t’engager aux côtés de l’équipe permanente.
URL:https://www.lasolid.fr/evenement/reunion-du-bureau/2023-10-04/
LOCATION:Maison de la solidarité\, 1 rue des filatures\, Clisson\, 44190\, France
CATEGORIES:Autres,Réunions
ATTACH;FMTTYPE=image/jpeg:https://www.lasolid.fr/wp-content/uploads/les-ptits-gars-du-verger-3.jpg
ORGANIZER;CN="La Solid'":MAILTO:asso@lasolid.fr
END:VEVENT
BEGIN:VEVENT
DTSTART;TZID=Europe/Paris:20231009T080000
DTEND;TZID=Europe/Paris:20231009T170000
DTSTAMP:20260421T100704
CREATED:20231009T202619Z
LAST-MODIFIED:20231009T213422Z
UID:10000981-1696838400-1696870800@www.lasolid.fr
SUMMARY:Réunion des Super Féministes
DESCRIPTION:11ème réunion des Super Féministes\, collectif de La Solid’\, \nouverte aux adhérent·es de La Solid’ à jour de leur cotiz (possibilité d’adhérer sur place ou en ligne)\, en phase avec la charte du groupe\, à découvrir ici  \net souhaitant participer et/ou contribuer aux actions à l’iniative du collectif. \nExemples d’actions réalisées ces derniers mois : participation à l’organisation des Journées Internationales des Droits des Femmes dans le vignoble nantais\, Soirée jeux\, Karaoké féministe\, Papote – cercle d’écoute sur le thème de l’engagement \nAu programme : Venez on se trouve ou on se retrouve\, et on organise la suite ! \nRencontre mixte et conviviale. Breuvages et grignotages bienvenus ! \n  \n 
URL:https://www.lasolid.fr/evenement/reunion-des-super-feministes/
LOCATION:Maison de la solidarité\, 1 rue des filatures\, Clisson\, 44190\, France
CATEGORIES:Autres,Réunions,Tiers Lieu Ateliers Solidaires
ORGANIZER;CN="La Solid'":MAILTO:asso@lasolid.fr
END:VEVENT
BEGIN:VEVENT
DTSTART;TZID=Europe/Paris:20231012T180000
DTEND;TZID=Europe/Paris:20231012T200000
DTSTAMP:20260421T100704
CREATED:20230906T200005Z
LAST-MODIFIED:20230924T223202Z
UID:10000972-1697133600-1697140800@www.lasolid.fr
SUMMARY:Réunion de la commission Veille Environnementale
DESCRIPTION:Rapproche-toi de nous pour connaître les dossiers en cours.
URL:https://www.lasolid.fr/evenement/reunion-de-la-commission-veille-environnementale/
LOCATION:Maison de la solidarité\, 1 rue des filatures\, Clisson\, 44190\, France
CATEGORIES:Environnement - Biodiversité,Réunions
ATTACH;FMTTYPE=image/jpeg:https://www.lasolid.fr/wp-content/uploads/20221008_105018.jpg
ORGANIZER;CN="La Solid'":MAILTO:asso@lasolid.fr
END:VEVENT
END:VCALENDAR