BEGIN:VCALENDAR
VERSION:2.0
PRODID:-//La Solid&#039; - ECPv6.13.2.1//NONSGML v1.0//EN
CALSCALE:GREGORIAN
METHOD:PUBLISH
X-WR-CALNAME:La Solid&#039;
X-ORIGINAL-URL:https://www.lasolid.fr
X-WR-CALDESC:Évènements pour La Solid&#039;
REFRESH-INTERVAL;VALUE=DURATION:PT1H
X-Robots-Tag:noindex
X-PUBLISHED-TTL:PT1H
BEGIN:VTIMEZONE
TZID:Europe/Paris
BEGIN:DAYLIGHT
TZOFFSETFROM:+0100
TZOFFSETTO:+0200
TZNAME:CEST
DTSTART:20230326T010000
END:DAYLIGHT
BEGIN:STANDARD
TZOFFSETFROM:+0200
TZOFFSETTO:+0100
TZNAME:CET
DTSTART:20231029T010000
END:STANDARD
END:VTIMEZONE
BEGIN:VEVENT
DTSTART;TZID=Europe/Paris:20230829T190000
DTEND;TZID=Europe/Paris:20230829T203000
DTSTAMP:20260421T130426
CREATED:20230822T091439Z
LAST-MODIFIED:20230823T112715Z
UID:10000948-1693335600-1693341000@www.lasolid.fr
SUMMARY:Réunion Education en environnement
DESCRIPTION:Ouverte aux bénévoles qui souhaitent s’investir dans les clubs Connaître et Protéger la Nature\, les interventions en milieu scolaire\, la gestion et l’animation du verger du nid d’oie et/ou du rucher collectif Bee Good. \nBienvenue !
URL:https://www.lasolid.fr/evenement/reunion-education-en-environnement/
LOCATION:Maison de la solidarité\, 1 rue des filatures\, Clisson\, 44190\, France
CATEGORIES:Clubs CPN,Environnement - Biodiversité,Réunions
ATTACH;FMTTYPE=image/jpeg:https://www.lasolid.fr/wp-content/uploads/20221008_105001-1.jpg
ORGANIZER;CN="La Solid'":MAILTO:asso@lasolid.fr
END:VEVENT
BEGIN:VEVENT
DTSTART;TZID=Europe/Paris:20230830T125211
DTEND;TZID=Europe/Paris:20230830T125211
DTSTAMP:20260421T130426
CREATED:20230830T104643Z
LAST-MODIFIED:20230830T105211Z
UID:10000962-1693399931-1693399931@www.lasolid.fr
SUMMARY:Réunion Jardin
DESCRIPTION:
URL:https://www.lasolid.fr/evenement/reunion-jardin/
LOCATION:Maison de la solidarité\, 1 rue des filatures\, Clisson\, 44190\, France
CATEGORIES:Environnement - Biodiversité,Pote Âgé,Réunions
ATTACH;FMTTYPE=image/jpeg:https://www.lasolid.fr/wp-content/uploads/jardin-3-scaled.jpg
ORGANIZER;CN="La Solid'":MAILTO:asso@lasolid.fr
END:VEVENT
BEGIN:VEVENT
DTSTART;TZID=Europe/Paris:20230830T183000
DTEND;TZID=Europe/Paris:20230830T203000
DTSTAMP:20260421T130426
CREATED:20230707T120345Z
LAST-MODIFIED:20230824T093651Z
UID:10000942-1693420200-1693427400@www.lasolid.fr
SUMMARY:Réunion du Bureau
DESCRIPTION:Le bureau collégial de La Solid’ a été élu en AG le 23 juin 2023\, pour piloter l’association au quotidien jusqu’en juin 2024. \nIl se réunit environ une fois par mois pour gérer les affaires courantes\, de façon collégiale et participative. \nIl est possible de rejoindre le bureau lors de notre prochaine AG de février 2024. \nN’hésite pas à nous contacter si cette mission t’intéresse et si tu veux venir « tester » une réunion de bureau avant de proposer ta candidature et de t’engager aux côtés de l’équipe permanente.
URL:https://www.lasolid.fr/evenement/reunion-du-bureau/2023-08-30/
LOCATION:Maison de la solidarité\, 1 rue des filatures\, Clisson\, 44190\, France
CATEGORIES:Autres,Réunions
ATTACH;FMTTYPE=image/jpeg:https://www.lasolid.fr/wp-content/uploads/les-ptits-gars-du-verger-3.jpg
ORGANIZER;CN="La Solid'":MAILTO:asso@lasolid.fr
END:VEVENT
BEGIN:VEVENT
DTSTART;TZID=Europe/Paris:20230831T140000
DTEND;TZID=Europe/Paris:20230831T153000
DTSTAMP:20260421T130426
CREATED:20230830T105427Z
LAST-MODIFIED:20230830T105427Z
UID:10000963-1693490400-1693495800@www.lasolid.fr
SUMMARY:Réunion Jardin
DESCRIPTION:Réunion du groupe « Jardins » ce jeudi à 14h à la maison de la solidarité\, pour programmer la suite des jardins solidaires « potes âgés » et des animations\, ateliers collectifs et rencontres aux jardins de la fin d’année. Bienvenue à toute personne intéressée pour participer à l’organisation de ces activités : café jardin\, troc plants\, grainothèques\, jardins partagés\, ateliers\, événements aux jardins…
URL:https://www.lasolid.fr/evenement/reunion-jardin-2/
LOCATION:Maison de la solidarité\, 1 rue des filatures\, Clisson\, 44190\, France
CATEGORIES:Café jardin,Environnement - Biodiversité,Pote Âgé,Réunions
ATTACH;FMTTYPE=image/jpeg:https://www.lasolid.fr/wp-content/uploads/jardin-3-scaled.jpg
ORGANIZER;CN="La Solid'":MAILTO:asso@lasolid.fr
END:VEVENT
END:VCALENDAR