BEGIN:VCALENDAR
VERSION:2.0
PRODID:-//La Solid&#039; - ECPv6.13.2.1//NONSGML v1.0//EN
CALSCALE:GREGORIAN
METHOD:PUBLISH
X-WR-CALNAME:La Solid&#039;
X-ORIGINAL-URL:https://www.lasolid.fr
X-WR-CALDESC:Évènements pour La Solid&#039;
REFRESH-INTERVAL;VALUE=DURATION:PT1H
X-Robots-Tag:noindex
X-PUBLISHED-TTL:PT1H
BEGIN:VTIMEZONE
TZID:Europe/Paris
BEGIN:DAYLIGHT
TZOFFSETFROM:+0100
TZOFFSETTO:+0200
TZNAME:CEST
DTSTART:20260329T010000
END:DAYLIGHT
BEGIN:STANDARD
TZOFFSETFROM:+0200
TZOFFSETTO:+0100
TZNAME:CET
DTSTART:20261025T010000
END:STANDARD
END:VTIMEZONE
BEGIN:VEVENT
DTSTART;TZID=Europe/Paris:20260124T100000
DTEND;TZID=Europe/Paris:20260124T120000
DTSTAMP:20260421T103552
CREATED:20251114T180602Z
LAST-MODIFIED:20260117T000558Z
UID:10002127-1769248800-1769256000@www.lasolid.fr
SUMMARY:Comptage des oiseaux du jardin de la source
DESCRIPTION:Atelier de sciences participatives en ornithologie : reconnaître des espèces d’oiseaux les plus communes de nos jardins et découvrir les grands principes du protocole…et ainsi devenir autonome pour les prochains comptages ! Le comptage national se fait le 24 et 25 janvier 2026. \nOuvert à tou.tes (public adulte\, priorité aux seniors). Gratuit. Tenue chaude et gâteaux sont les bienvenus ! Atelier intergénérationnel\, ouvert à tou·tes\, gratuit\, animé par Fanny\, animatrice nature de la Solid’ et Nadine\, ancienne animatrice du Club CPN. \nRendez-vous au Jardin de la Source derrière le cinéma de Clisson\, en tenue chaude. Thermos et gâteaux bienvenus ! Merci à l’asso de quartier L’écho du champ de foire pour son accueil ! \nInscription : asso@lasolid.fr – 06 33 56 20 56
URL:https://www.lasolid.fr/evenement/comptage-des-oiseaux-du-jardin-de-la-source-2/
LOCATION:Jardin de la source\, chemin des cressionnières\, Clisson\, 44190\, France
CATEGORIES:Café jardin,Clubs CPN,Environnement - Biodiversité
ATTACH;FMTTYPE=image/png:https://www.lasolid.fr/wp-content/uploads/Capture-decran-2025-11-14-a-18.52.59.png
ORGANIZER;CN="La Solid'":MAILTO:asso@lasolid.fr
END:VEVENT
BEGIN:VEVENT
DTSTART;TZID=Europe/Paris:20260124T100000
DTEND;TZID=Europe/Paris:20260124T170000
DTSTAMP:20260421T103552
CREATED:20251024T100616Z
LAST-MODIFIED:20260108T150803Z
UID:10002113-1769248800-1769274000@www.lasolid.fr
SUMMARY:REPORTÉ : Chantier Toilettes sèches
DESCRIPTION:Chantier reporté : plus d’infos auprès d’Anne : ateliers@lasolid.fr
URL:https://www.lasolid.fr/evenement/chantier-toilettes-seches/
LOCATION:Maison de la solidarité\, 1 rue des filatures\, Clisson\, 44190\, France
CATEGORIES:Environnement - Biodiversité
ATTACH;FMTTYPE=image/jpeg:https://www.lasolid.fr/wp-content/uploads/Urinoirs-PMR-caravane-scaled.jpg
ORGANIZER;CN="La Solid'":MAILTO:asso@lasolid.fr
END:VEVENT
END:VCALENDAR