BEGIN:VCALENDAR
VERSION:2.0
PRODID:-//La Solid&#039; - ECPv6.13.2.1//NONSGML v1.0//EN
CALSCALE:GREGORIAN
METHOD:PUBLISH
X-WR-CALNAME:La Solid&#039;
X-ORIGINAL-URL:https://www.lasolid.fr
X-WR-CALDESC:Évènements pour La Solid&#039;
REFRESH-INTERVAL;VALUE=DURATION:PT1H
X-Robots-Tag:noindex
X-PUBLISHED-TTL:PT1H
BEGIN:VTIMEZONE
TZID:Europe/Paris
BEGIN:DAYLIGHT
TZOFFSETFROM:+0100
TZOFFSETTO:+0200
TZNAME:CEST
DTSTART:20250330T010000
END:DAYLIGHT
BEGIN:STANDARD
TZOFFSETFROM:+0200
TZOFFSETTO:+0100
TZNAME:CET
DTSTART:20251026T010000
END:STANDARD
END:VTIMEZONE
BEGIN:VEVENT
DTSTART;TZID=Europe/Paris:20251107T190000
DTEND;TZID=Europe/Paris:20251107T210000
DTSTAMP:20260419T141815
CREATED:20250515T231638Z
LAST-MODIFIED:20251009T150244Z
UID:10001995-1762542000-1762549200@www.lasolid.fr
SUMMARY:Atelier des savoirs : produits ménagers zéro déchets
DESCRIPTION:Viens apprendre à fabriquer des produits ménagers sains\, peu coûteux et zéro déchets (tu repartira avec tes fabrications\, à prix libre). \nNous réaliserons différents produits avec le minimum d’ingrédients et chacun·e repartira avec ces réalisations. (nettoyant WC\, pastilles lave-vaisselle\, lessive par exemple) \nAtelier ouvert à tou·tes\, à prix libre\, sur réservation. Breuvage et grignotages en partage bienvenus !\nInscription ici : https://lasolid.assoconnect.com/collect/description/614757-s-atelier-des-savoirs-atelier-zero-dechet-special-maison \nAteliers des savoirs suivants : \n5 Décembre 19h – Atelier Furoshiki
URL:https://www.lasolid.fr/evenement/atelier-des-savoirs-produits-menagers-zero-dechets/
LOCATION:Maison de la solidarité\, 1 rue des filatures\, Clisson\, 44190\, France
CATEGORIES:Atelier des savoirs,Environnement - Biodiversité,Tiers Lieu Ateliers Solidaires
ATTACH;FMTTYPE=image/png:https://www.lasolid.fr/wp-content/uploads/Ateliers-des-savoirs-Publication-Instagram-452.png
ORGANIZER;CN="La Solid'":MAILTO:asso@lasolid.fr
END:VEVENT
END:VCALENDAR