BEGIN:VCALENDAR
VERSION:2.0
PRODID:-//La Solid&#039; - ECPv6.13.2.1//NONSGML v1.0//EN
CALSCALE:GREGORIAN
METHOD:PUBLISH
X-WR-CALNAME:La Solid&#039;
X-ORIGINAL-URL:https://www.lasolid.fr
X-WR-CALDESC:Évènements pour La Solid&#039;
REFRESH-INTERVAL;VALUE=DURATION:PT1H
X-Robots-Tag:noindex
X-PUBLISHED-TTL:PT1H
BEGIN:VTIMEZONE
TZID:Europe/Paris
BEGIN:DAYLIGHT
TZOFFSETFROM:+0100
TZOFFSETTO:+0200
TZNAME:CEST
DTSTART:20250330T010000
END:DAYLIGHT
BEGIN:STANDARD
TZOFFSETFROM:+0200
TZOFFSETTO:+0100
TZNAME:CET
DTSTART:20251026T010000
END:STANDARD
END:VTIMEZONE
BEGIN:VEVENT
DTSTART;VALUE=DATE:20250813
DTEND;VALUE=DATE:20251001
DTSTAMP:20260419T190812
CREATED:20250813T172139Z
LAST-MODIFIED:20250918T152838Z
UID:10002039-1755043200-1759276799@www.lasolid.fr
SUMMARY:Inscriptions aux clubs CPN
DESCRIPTION:Fanny est arrivée comme animatrice nature à La Solid’. Bienvenue ! Les enfants vont l’a-do-rer !\nElle animera les clubs Connaître et Protéger la Nature de Boussay et de Clisson. Les inscriptions sont ouvertes !\n\nPour les Boussiron·nes du CE2 au CM2\, le lien d’inscription est ici : https://lasolid.assoconnect.com/…/589962-s-inscription…\n\nPour les enfants des autres communes\, bienvenue au club CPN de Clisson !\nDe la moyenne section au CP\, l’inscription est ici : https://lasolid.assoconnect.com/…/590101-s-inscription…\nDu CE1 au CM2\, l’inscription est là : https://lasolid.assoconnect.com/…/590097-s-inscription…\n\nPour plus d’infos : nature@lasolid.fr ou 06 31 56 01 41
URL:https://www.lasolid.fr/evenement/ouverture-des-inscriptions-aux-clubs-cpn/
LOCATION:Maison de la solidarité\, 1 rue des filatures\, Clisson\, 44190\, France
CATEGORIES:Clubs CPN,Environnement - Biodiversité
ATTACH;FMTTYPE=image/jpeg:https://www.lasolid.fr/wp-content/uploads/clubs-cpn-la-solid-clisson-3.jpg
ORGANIZER;CN="La Solid'":MAILTO:asso@lasolid.fr
END:VEVENT
BEGIN:VEVENT
DTSTART;TZID=Europe/Paris:20250823T090000
DTEND;TZID=Europe/Paris:20250823T130000
DTSTAMP:20260419T190812
CREATED:20250710T141604Z
LAST-MODIFIED:20250710T141604Z
UID:10002033-1755939600-1755954000@www.lasolid.fr
SUMMARY:Chantier nature au verger du nid d'oie
DESCRIPTION:Bienvenue à toute bonne volonté\, à tout moment dans la matinée\, pour nous aider à prendre soin du verger pédagogique et conservatoire du nid d’oie : \n– répartition de BRF \n– petite mise en beauté du site avant la rentrée \nPique-nique partagé à partir de midi ! \nToutes les petites mains\, même les mini\, sont bienvenues !
URL:https://www.lasolid.fr/evenement/chantier-nature-au-verger-du-nid-doie-4/
LOCATION:Verger du nid d’oie\, Route de nid d'oie\, Clisson\, 44190\, France
CATEGORIES:Environnement - Biodiversité,Pote Âgé,Verger
ATTACH;FMTTYPE=image/png:https://www.lasolid.fr/wp-content/uploads/Capture-decran-2024-02-13-a-17.22.14.png
ORGANIZER;CN="La Solid'":MAILTO:asso@lasolid.fr
END:VEVENT
END:VCALENDAR