BEGIN:VCALENDAR
VERSION:2.0
PRODID:-//La Solid&#039; - ECPv6.13.2.1//NONSGML v1.0//EN
CALSCALE:GREGORIAN
METHOD:PUBLISH
X-ORIGINAL-URL:https://www.lasolid.fr
X-WR-CALDESC:Évènements pour La Solid&#039;
REFRESH-INTERVAL;VALUE=DURATION:PT1H
X-Robots-Tag:noindex
X-PUBLISHED-TTL:PT1H
BEGIN:VTIMEZONE
TZID:Europe/Paris
BEGIN:DAYLIGHT
TZOFFSETFROM:+0100
TZOFFSETTO:+0200
TZNAME:CEST
DTSTART:20250330T010000
END:DAYLIGHT
BEGIN:STANDARD
TZOFFSETFROM:+0200
TZOFFSETTO:+0100
TZNAME:CET
DTSTART:20251026T010000
END:STANDARD
END:VTIMEZONE
BEGIN:VEVENT
DTSTART;TZID=Europe/Paris:20250410T100000
DTEND;TZID=Europe/Paris:20250410T170000
DTSTAMP:20260420T023506
CREATED:20241130T163830Z
LAST-MODIFIED:20250326T132901Z
UID:10001856-1744279200-1744304400@www.lasolid.fr
SUMMARY:Stage Connaître et Protéger la Nature (7-12 ans) COMPLET
DESCRIPTION:Jacky\, nouvel éducateur en environnement de La Solid’\, anime deux stages nature pour les enfants de 7 à 12 ans :\ndécouverte de la faune et de la flore\, ateliers en pleine nature\, jeux coopératifs…\nTarifs solidaires adaptés aux moyens des familles. \n11 et 12 février + 9 et 10 avril\n10h-17h \nRenseignements (merci d’indiquer l’âge de l’enfant) :nature@lasolid.fr / 06 31 56 01 41 / www.lasolid.fr \n  \nCrédit photo : Freepik
URL:https://www.lasolid.fr/evenement/stage-connaitre-et-proteger-la-nature-7-12-ans/2025-04-10/
CATEGORIES:Clubs CPN,Environnement - Biodiversité
ATTACH;FMTTYPE=image/jpeg:https://www.lasolid.fr/wp-content/uploads/kids-spending-time-together-nature-scaled.jpg
ORGANIZER;CN="La Solid'":MAILTO:asso@lasolid.fr
END:VEVENT
END:VCALENDAR