BEGIN:VCALENDAR
VERSION:2.0
PRODID:-//La Solid&#039; - ECPv6.13.2.1//NONSGML v1.0//EN
CALSCALE:GREGORIAN
METHOD:PUBLISH
X-ORIGINAL-URL:https://www.lasolid.fr
X-WR-CALDESC:Évènements pour La Solid&#039;
REFRESH-INTERVAL;VALUE=DURATION:PT1H
X-Robots-Tag:noindex
X-PUBLISHED-TTL:PT1H
BEGIN:VTIMEZONE
TZID:Europe/Paris
BEGIN:DAYLIGHT
TZOFFSETFROM:+0100
TZOFFSETTO:+0200
TZNAME:CEST
DTSTART:20250330T010000
END:DAYLIGHT
BEGIN:STANDARD
TZOFFSETFROM:+0200
TZOFFSETTO:+0100
TZNAME:CET
DTSTART:20251026T010000
END:STANDARD
END:VTIMEZONE
BEGIN:VEVENT
DTSTART;TZID=Europe/Paris:20250407T180000
DTEND;TZID=Europe/Paris:20250407T200000
DTSTAMP:20260420T023509
CREATED:20250209T014253Z
LAST-MODIFIED:20250209T014253Z
UID:10001910-1744048800-1744056000@www.lasolid.fr
SUMMARY:Café Jardin chez les Rouges Gorges
DESCRIPTION:Lundi 7 avril : Café Jardin chez les Rouges Gorges (habitat partagé et jardin collectif). \nRendez-vous avec breuvages et grignotages à 18h\, 4 Le Marais à Gorges.
URL:https://www.lasolid.fr/evenement/cafe-jardin-chez-les-rouges-gorges/
LOCATION:Rouges Gorges\, 4 le marais\, Gorges
CATEGORIES:Café jardin,Environnement - Biodiversité
ATTACH;FMTTYPE=image/jpeg:https://www.lasolid.fr/wp-content/uploads/jardin-scaled.jpg
ORGANIZER;CN="La Solid'":MAILTO:asso@lasolid.fr
END:VEVENT
END:VCALENDAR