BEGIN:VCALENDAR
VERSION:2.0
PRODID:-//La Solid&#039; - ECPv6.13.2.1//NONSGML v1.0//EN
CALSCALE:GREGORIAN
METHOD:PUBLISH
X-WR-CALNAME:La Solid&#039;
X-ORIGINAL-URL:https://www.lasolid.fr
X-WR-CALDESC:Évènements pour La Solid&#039;
REFRESH-INTERVAL;VALUE=DURATION:PT1H
X-Robots-Tag:noindex
X-PUBLISHED-TTL:PT1H
BEGIN:VTIMEZONE
TZID:Europe/Paris
BEGIN:DAYLIGHT
TZOFFSETFROM:+0100
TZOFFSETTO:+0200
TZNAME:CEST
DTSTART:20250330T010000
END:DAYLIGHT
BEGIN:STANDARD
TZOFFSETFROM:+0200
TZOFFSETTO:+0100
TZNAME:CET
DTSTART:20251026T010000
END:STANDARD
END:VTIMEZONE
BEGIN:VEVENT
DTSTART;TZID=Europe/Paris:20250329T143000
DTEND;TZID=Europe/Paris:20250329T160000
DTSTAMP:20260420T040740
CREATED:20250326T132126Z
LAST-MODIFIED:20250326T230833Z
UID:10001947-1743258600-1743264000@www.lasolid.fr
SUMMARY:Balade écoute des chants coteaux de Sèvre
DESCRIPTION:Rdv 14h30 Village vacances Henri IV avec Nadine. \nA partir de 8 ans. Gratuit\, ouvert à tou·tes\, dans le cadre des portes ouvertes du Village Vacance Henri IV Ternelia. \nTout le programme des portes ouvertes des gites ici : https://www.facebook.com/villagehenriIV \n  \n 
URL:https://www.lasolid.fr/evenement/balade-ecoute-des-chants-coteaux-de-sevre/
CATEGORIES:Clubs CPN,Environnement - Biodiversité
ATTACH;FMTTYPE=image/png:https://www.lasolid.fr/wp-content/uploads/OISEAUX.png
END:VEVENT
END:VCALENDAR