BEGIN:VCALENDAR
VERSION:2.0
PRODID:-//La Solid&#039; - ECPv6.13.2.1//NONSGML v1.0//EN
CALSCALE:GREGORIAN
METHOD:PUBLISH
X-WR-CALNAME:La Solid&#039;
X-ORIGINAL-URL:https://www.lasolid.fr
X-WR-CALDESC:Évènements pour La Solid&#039;
REFRESH-INTERVAL;VALUE=DURATION:PT1H
X-Robots-Tag:noindex
X-PUBLISHED-TTL:PT1H
BEGIN:VTIMEZONE
TZID:Europe/Paris
BEGIN:DAYLIGHT
TZOFFSETFROM:+0100
TZOFFSETTO:+0200
TZNAME:CEST
DTSTART:20250330T010000
END:DAYLIGHT
BEGIN:STANDARD
TZOFFSETFROM:+0200
TZOFFSETTO:+0100
TZNAME:CET
DTSTART:20251026T010000
END:STANDARD
END:VTIMEZONE
BEGIN:VEVENT
DTSTART;TZID=Europe/Paris:20250308T100000
DTEND;TZID=Europe/Paris:20250308T130000
DTSTAMP:20260420T040742
CREATED:20241130T165300Z
LAST-MODIFIED:20250306T232909Z
UID:10001858-1741428000-1741438800@www.lasolid.fr
SUMMARY:GrainOfête : troc de graines et animations
DESCRIPTION:Grand troc de graines sur le parvis de la médiathèque Jacques Demy\, DEVANT la médiathèque (repli à la maison de la solidarité en cas de pluie). Ouvert à tou·tes. Boîtes de prix libre à disposition pour celles et ceux qui n’auraient rien à troquer. \nTu veux participer une heure ou plus comme bénévole ? Merci ! Inscription ici. Ou écris à Hélène : asso@lasolid.fr ou 06 33 56 20 56. \nDans le cadre de la Journée Internationale des Droits des Femmes\, La Solid’ profitera de cet événement pour proposer au public une animation « porteuses de paroles » proposée par les Super Féministes.
URL:https://www.lasolid.fr/evenement/grainofete-troc-de-graines-et-animations/
LOCATION:Médiathèque\, Place Jacques Demy\, Clisson\, 44190\, France
CATEGORIES:Café jardin,Environnement - Biodiversité,Pote Âgé
ATTACH;FMTTYPE=image/png:https://www.lasolid.fr/wp-content/uploads/Grainofete.png
ORGANIZER;CN="La Solid'":MAILTO:asso@lasolid.fr
END:VEVENT
BEGIN:VEVENT
DTSTART;TZID=Europe/Paris:20250308T200000
DTEND;TZID=Europe/Paris:20250308T223000
DTSTAMP:20260420T040742
CREATED:20250127T215435Z
LAST-MODIFIED:20250302T235143Z
UID:10001900-1741464000-1741473000@www.lasolid.fr
SUMMARY:Ciné-rencontres : Françoise d'Eaubonne une épopée écoféministe
DESCRIPTION:Samedi 8 mars… et durant tout le mois de mars : les assos et collectifs féministes du vignoble nantais célèbrent la Journée Internationale des Droits des Femmes. Marche militante depuis la gare de Clisson à l’initiative de Qui Nous Aime Nous Suive à 16h\, suivie d’un flash mob et de la chorale féministe du vendredi. \nTout le programme est ici. \nEn soirée au cinéma Le Connétable : Projection du documentaire Françoise d’Eaubonne une épopée écoféministe\, en présence de la réalisatrice Manon Aubel. Avec Désembobinage et Les Super Féministes.
URL:https://www.lasolid.fr/evenement/journee-internationale-des-droits-des-femmes-2/
LOCATION:Maison de la solidarité\, 1 rue des filatures\, Clisson\, 44190\, France
CATEGORIES:Environnement - Biodiversité,Rdv des Super Féministes,Tiers Lieu Ateliers Solidaires
ATTACH;FMTTYPE=image/png:https://www.lasolid.fr/wp-content/uploads/Francoise_dEaubonne_V4.png
ORGANIZER;CN="La Solid'":MAILTO:asso@lasolid.fr
END:VEVENT
END:VCALENDAR