BEGIN:VCALENDAR
VERSION:2.0
PRODID:-//La Solid&#039; - ECPv6.13.2.1//NONSGML v1.0//EN
CALSCALE:GREGORIAN
METHOD:PUBLISH
X-WR-CALNAME:La Solid&#039;
X-ORIGINAL-URL:https://www.lasolid.fr
X-WR-CALDESC:Évènements pour La Solid&#039;
REFRESH-INTERVAL;VALUE=DURATION:PT1H
X-Robots-Tag:noindex
X-PUBLISHED-TTL:PT1H
BEGIN:VTIMEZONE
TZID:Europe/Paris
BEGIN:DAYLIGHT
TZOFFSETFROM:+0100
TZOFFSETTO:+0200
TZNAME:CEST
DTSTART:20240331T010000
END:DAYLIGHT
BEGIN:STANDARD
TZOFFSETFROM:+0200
TZOFFSETTO:+0100
TZNAME:CET
DTSTART:20241027T010000
END:STANDARD
END:VTIMEZONE
BEGIN:VEVENT
DTSTART;TZID=Europe/Paris:20241210T183000
DTEND;TZID=Europe/Paris:20241210T203000
DTSTAMP:20260420T085919
CREATED:20241024T172022Z
LAST-MODIFIED:20250106T003405Z
UID:10001803-1733855400-1733862600@www.lasolid.fr
SUMMARY:Réunion veille environnementale
DESCRIPTION:Rencontre des citoyen-nes vigilant-es de La Solid’\, qui travaillent sur des dossiers en lien avec les déchets\, la mobilité\, le PLU\, le SCOT\, le végétal en ville\, les pollutions\, qualité de l’eau et de l’air… Les dossiers sont nombreux ! Rejoins-nous !
URL:https://www.lasolid.fr/evenement/reunion-veille-environnementale-11/2024-12-10/
LOCATION:Maison de la solidarité\, 1 rue des filatures\, Clisson\, 44190\, France
CATEGORIES:Veille environnementale
ATTACH;FMTTYPE=image/jpeg:https://www.lasolid.fr/wp-content/uploads/20221008_105018.jpg
ORGANIZER;CN="La Solid'":MAILTO:asso@lasolid.fr
END:VEVENT
BEGIN:VEVENT
DTSTART;TZID=Europe/Paris:20241210T183000
DTEND;TZID=Europe/Paris:20241210T203000
DTSTAMP:20260420T085919
CREATED:20250205T174749Z
LAST-MODIFIED:20250205T174908Z
UID:10001905-1733855400-1733862600@www.lasolid.fr
SUMMARY:Réunion veille environnementale
DESCRIPTION:Rencontre des citoyen-nes vigilant-es de La Solid’\, qui travaillent sur des dossiers en lien avec les déchets\, la mobilité\, le PLU\, le SCOT\, le végétal en ville\, les pollutions\, qualité de l’eau et de l’air… Les dossiers sont nombreux ! Rejoins-nous !
URL:https://www.lasolid.fr/evenement/reunion-veille-environnementale-12/2024-12-10/
LOCATION:Maison de la solidarité\, 1 rue des filatures\, Clisson\, 44190\, France
CATEGORIES:Veille environnementale
ATTACH;FMTTYPE=image/jpeg:https://www.lasolid.fr/wp-content/uploads/20221008_105018.jpg
ORGANIZER;CN="La Solid'":MAILTO:asso@lasolid.fr
END:VEVENT
END:VCALENDAR