BEGIN:VCALENDAR
VERSION:2.0
PRODID:-//La Solid&#039; - ECPv6.13.2.1//NONSGML v1.0//EN
CALSCALE:GREGORIAN
METHOD:PUBLISH
X-WR-CALNAME:La Solid&#039;
X-ORIGINAL-URL:https://www.lasolid.fr
X-WR-CALDESC:Évènements pour La Solid&#039;
REFRESH-INTERVAL;VALUE=DURATION:PT1H
X-Robots-Tag:noindex
X-PUBLISHED-TTL:PT1H
BEGIN:VTIMEZONE
TZID:Europe/Paris
BEGIN:DAYLIGHT
TZOFFSETFROM:+0100
TZOFFSETTO:+0200
TZNAME:CEST
DTSTART:20240331T010000
END:DAYLIGHT
BEGIN:STANDARD
TZOFFSETFROM:+0200
TZOFFSETTO:+0100
TZNAME:CET
DTSTART:20241027T010000
END:STANDARD
END:VTIMEZONE
BEGIN:VEVENT
DTSTART;TZID=Europe/Paris:20241207T140000
DTEND;TZID=Europe/Paris:20241207T170000
DTSTAMP:20260420T085926
CREATED:20240904T120448Z
LAST-MODIFIED:20240910T175029Z
UID:10001770-1733580000-1733590800@www.lasolid.fr
SUMMARY:Fresque du climat
DESCRIPTION:GRATUIT \nL’objectif\nFace à l’urgence climatique\, l’objectif de la Fresque est de former le plus grand nombre aux enjeux pour que chacun.e puisse décrypter les informations et agir efficacement sur le plan individuel et collectif. La Fresque du Climat permet aux novices comme aux expert.es de découvrir ou approfondir leur connaissance de ce sujet. \nL’atelier\nPendant 3h\, l’atelier rassemble des participant·es et fait appel à la créativité et à l’intelligence collective du groupe pour reconstituer les liens de cause à effet composant la Fresque. Un.e animateur.rice bénévole encadre les équipes afin de les guider durant l’atelier\, d’assurer une bonne communication entre les membres et de donner des explications supplémentaires. \nDéroulé\nFresque (2h) : découvrir et mettre en lien les cartes pour co-construire la fresque.\nDebrief et réflexion (1h) : échanger sur ses émotions et dessiner ensemble des solutions pour passer à l’action. \nNB : Atelier pour 4 à 16 personnes\, sans le nombre requis de participant.es l’atelier sera reporté à une date ultérieure. \nSur place la Solid’ met à disposition des boissons sans alcool à prix libre et conscient. \n  \nInscription indispensable en ligne ici : https://association.climatefresk.org/training_sessions/9f3fee6b-1dee-4ed1-9bb7-fda4a98616ba/show_public?language=en&tenant_token=36bd2274d3982262c0021755 \n  \nAffiche Fresque 7-12-24(1)
URL:https://www.lasolid.fr/evenement/fresque-du-climat/
LOCATION:Maison de la solidarité\, 1 rue des filatures\, Clisson\, 44190\, France
CATEGORIES:Atelier des savoirs,Environnement - Biodiversité,Réunions,Tiers Lieu Ateliers Solidaires
ATTACH;FMTTYPE=image/jpeg:https://www.lasolid.fr/wp-content/uploads/202403_ATELIER-FDC-©Martine-Marras-pour-La-Fresque-du-Climat_5-scaled.jpg
ORGANIZER;CN="La Solid'":MAILTO:asso@lasolid.fr
END:VEVENT
END:VCALENDAR