BEGIN:VCALENDAR
VERSION:2.0
PRODID:-//La Solid&#039; - ECPv6.13.2.1//NONSGML v1.0//EN
CALSCALE:GREGORIAN
METHOD:PUBLISH
X-ORIGINAL-URL:https://www.lasolid.fr
X-WR-CALDESC:Évènements pour La Solid&#039;
REFRESH-INTERVAL;VALUE=DURATION:PT1H
X-Robots-Tag:noindex
X-PUBLISHED-TTL:PT1H
BEGIN:VTIMEZONE
TZID:Europe/Paris
BEGIN:DAYLIGHT
TZOFFSETFROM:+0100
TZOFFSETTO:+0200
TZNAME:CEST
DTSTART:20240331T010000
END:DAYLIGHT
BEGIN:STANDARD
TZOFFSETFROM:+0200
TZOFFSETTO:+0100
TZNAME:CET
DTSTART:20241027T010000
END:STANDARD
END:VTIMEZONE
BEGIN:VEVENT
DTSTART;TZID=Europe/Paris:20241030T150000
DTEND;TZID=Europe/Paris:20241030T170000
DTSTAMP:20260420T104102
CREATED:20241019T140256Z
LAST-MODIFIED:20241019T142334Z
UID:10001789-1730300400-1730307600@www.lasolid.fr
SUMMARY:Chantier nature intergénérationnel au verger du nid d'oie
DESCRIPTION:Bienvenue entre 15h et 17h au verger pédagogique du nid d’oie\, sauvé des bulldozers par nos bénévoles. \nViens nous aider à finir de récolter les pommes\, arranger la spirale aromatique… échanges avec les animateurs Jacky (animateur nature) et Fred (jardinier) sur la gestion des espaces naturels et la biodiversité en ville. \nIl y en aura pour toutes les petites mains et compétences. \nGratuit\, ouvert à tou-tes. Merci d’avance pour ta participation !
URL:https://www.lasolid.fr/evenement/chantier-nature-intergenerationnel-au-verger-du-nid-doie/
LOCATION:Verger du nid d’oie\, Route de nid d'oie\, Clisson\, 44190\, France
CATEGORIES:Environnement - Biodiversité,Verger
ATTACH;FMTTYPE=image/jpeg:https://www.lasolid.fr/wp-content/uploads/taille-verger-1-scaled.jpg
ORGANIZER;CN="La Solid'":MAILTO:asso@lasolid.fr
END:VEVENT
END:VCALENDAR