BEGIN:VCALENDAR
VERSION:2.0
PRODID:-//La Solid&#039; - ECPv6.13.2.1//NONSGML v1.0//EN
CALSCALE:GREGORIAN
METHOD:PUBLISH
X-WR-CALNAME:La Solid&#039;
X-ORIGINAL-URL:https://www.lasolid.fr
X-WR-CALDESC:Évènements pour La Solid&#039;
REFRESH-INTERVAL;VALUE=DURATION:PT1H
X-Robots-Tag:noindex
X-PUBLISHED-TTL:PT1H
BEGIN:VTIMEZONE
TZID:Europe/Paris
BEGIN:DAYLIGHT
TZOFFSETFROM:+0100
TZOFFSETTO:+0200
TZNAME:CEST
DTSTART:20240331T010000
END:DAYLIGHT
BEGIN:STANDARD
TZOFFSETFROM:+0200
TZOFFSETTO:+0100
TZNAME:CET
DTSTART:20241027T010000
END:STANDARD
END:VTIMEZONE
BEGIN:VEVENT
DTSTART;TZID=Europe/Paris:20241005T180000
DTEND;TZID=Europe/Paris:20241005T233000
DTSTAMP:20260420T120842
CREATED:20240829T212918Z
LAST-MODIFIED:20240930T231449Z
UID:10001768-1728151200-1728171000@www.lasolid.fr
SUMMARY:Conseil Associatif de rentrée
DESCRIPTION:Rendez-vous ouvert à tou·tes nos membres pour un Conseil Associatif de rentrée\, suivi d’un repas offert à 19h30 et d’une soirée festive (on rejoindra Jardin d’Eden à Gétigné à partir de 21h). \nAtelier cuisine en milieu de journée. Intéressé·e ? Contacte-nous ! \nOrdre du jour du CA transmis par mal aux adhérent·es. \n 
URL:https://www.lasolid.fr/evenement/conseil-associatif-de-rentree-3/
LOCATION:Maison de la solidarité\, 1 rue des filatures\, Clisson\, 44190\, France
CATEGORIES:Autres,Environnement - Biodiversité,Réunions,Tiers Lieu Ateliers Solidaires,Vélo
ATTACH;FMTTYPE=image/jpeg:https://www.lasolid.fr/wp-content/uploads/IMG20210830191728-1-scaled.jpg
ORGANIZER;CN="La Solid'":MAILTO:asso@lasolid.fr
END:VEVENT
END:VCALENDAR