BEGIN:VCALENDAR
VERSION:2.0
PRODID:-//La Solid&#039; - ECPv6.13.2.1//NONSGML v1.0//EN
CALSCALE:GREGORIAN
METHOD:PUBLISH
X-ORIGINAL-URL:https://www.lasolid.fr
X-WR-CALDESC:Évènements pour La Solid&#039;
REFRESH-INTERVAL;VALUE=DURATION:PT1H
X-Robots-Tag:noindex
X-PUBLISHED-TTL:PT1H
BEGIN:VTIMEZONE
TZID:Europe/Paris
BEGIN:DAYLIGHT
TZOFFSETFROM:+0100
TZOFFSETTO:+0200
TZNAME:CEST
DTSTART:20240331T010000
END:DAYLIGHT
BEGIN:STANDARD
TZOFFSETFROM:+0200
TZOFFSETTO:+0100
TZNAME:CET
DTSTART:20241027T010000
END:STANDARD
END:VTIMEZONE
BEGIN:VEVENT
DTSTART;TZID=Europe/Paris:20240928T093000
DTEND;TZID=Europe/Paris:20240928T120000
DTSTAMP:20260420T135006
CREATED:20240924T125935Z
LAST-MODIFIED:20240924T130026Z
UID:10001775-1727515800-1727524800@www.lasolid.fr
SUMMARY:Opération ramassage de déchets
DESCRIPTION:Samedi 28 septembre rendez-vous 9h30 devant le Crédit Mutuel de Clisson pour une opération de ramassage de déchets dans Clisson. Ouvert à tou·tes\, famille\, adultes. On fournit les gants et tout le nécessaire. Merci d’avance.
URL:https://www.lasolid.fr/evenement/operation-ramassage-de-dechets/
CATEGORIES:Environnement - Biodiversité
ATTACH;FMTTYPE=image/jpeg:https://www.lasolid.fr/wp-content/uploads/maman-sa-fille-nettoient-foret-du-plastique-autres-debris-scaled.jpg
END:VEVENT
END:VCALENDAR