BEGIN:VCALENDAR
VERSION:2.0
PRODID:-//La Solid&#039; - ECPv6.13.2.1//NONSGML v1.0//EN
CALSCALE:GREGORIAN
METHOD:PUBLISH
X-WR-CALNAME:La Solid&#039;
X-ORIGINAL-URL:https://www.lasolid.fr
X-WR-CALDESC:Évènements pour La Solid&#039;
REFRESH-INTERVAL;VALUE=DURATION:PT1H
X-Robots-Tag:noindex
X-PUBLISHED-TTL:PT1H
BEGIN:VTIMEZONE
TZID:Europe/Paris
BEGIN:DAYLIGHT
TZOFFSETFROM:+0100
TZOFFSETTO:+0200
TZNAME:CEST
DTSTART:20240331T010000
END:DAYLIGHT
BEGIN:STANDARD
TZOFFSETFROM:+0200
TZOFFSETTO:+0100
TZNAME:CET
DTSTART:20241027T010000
END:STANDARD
END:VTIMEZONE
BEGIN:VEVENT
DTSTART;TZID=Europe/Paris:20240829T180000
DTEND;TZID=Europe/Paris:20240829T200000
DTSTAMP:20260420T134100
CREATED:20240820T114713Z
LAST-MODIFIED:20240820T115041Z
UID:10001741-1724954400-1724961600@www.lasolid.fr
SUMMARY:Café Jardin chez Catherine à la Guyonnière
DESCRIPTION:Jeudi 29 août\, ce sera la rentrée des Cafés Jardins : rendez-vous convivial\, intergénérationnel\, ouvert à tou·tes et gratuit\, pour échanger entre jardinières et jardiniers\, débutant·es ou confirmé·es.\n\nProchain rendez-vous le 29 août à partir de 18h : dans le jardin de Catherine dans le joli village de la Guyonnière\, près de Montaigu. Merci Catherine pour l’accueil ! Adresse communiquée sur réservation : asso@lasolid.fr ou 02 85 52 45 21.\n\nAu programme : visite du jardin\, partage de trucs et astuces\, échanges autour d’un verre et de grignotages apportés par chacun·e.\n\nThématique d’échanges possibles : « Engagement\, écologie et solidarité au jardin : mes envies\, mes besoins pour la saison qui vient ».\n\nCette soirée est ouverte à tou·tes\, adhérent·es ou non de la Solid’\, jeunes pousses ou « potes âgés ». Au plaisir de se rencontrer !\nCovoiturage possible au départ de Clisson : il suffit de demander ! asso@lasolid.fr
URL:https://www.lasolid.fr/evenement/cafe-jardin-chez-catherine-a-la-guyonniere/
CATEGORIES:Café jardin,Environnement - Biodiversité
ATTACH;FMTTYPE=image/png:https://www.lasolid.fr/wp-content/uploads/Capture-decran-2024-08-02-a-15.21.12.png
ORGANIZER;CN="La Solid'":MAILTO:asso@lasolid.fr
END:VEVENT
END:VCALENDAR