BEGIN:VCALENDAR
VERSION:2.0
PRODID:-//La Solid&#039; - ECPv6.13.2.1//NONSGML v1.0//EN
CALSCALE:GREGORIAN
METHOD:PUBLISH
X-ORIGINAL-URL:https://www.lasolid.fr
X-WR-CALDESC:Évènements pour La Solid&#039;
REFRESH-INTERVAL;VALUE=DURATION:PT1H
X-Robots-Tag:noindex
X-PUBLISHED-TTL:PT1H
BEGIN:VTIMEZONE
TZID:Europe/Paris
BEGIN:DAYLIGHT
TZOFFSETFROM:+0100
TZOFFSETTO:+0200
TZNAME:CEST
DTSTART:20240331T010000
END:DAYLIGHT
BEGIN:STANDARD
TZOFFSETFROM:+0200
TZOFFSETTO:+0100
TZNAME:CET
DTSTART:20241027T010000
END:STANDARD
END:VTIMEZONE
BEGIN:VEVENT
DTSTART;TZID=Europe/Paris:20240525T140000
DTEND;TZID=Europe/Paris:20240525T170000
DTSTAMP:20260420T200047
CREATED:20240307T150050Z
LAST-MODIFIED:20240524T170354Z
UID:10001665-1716645600-1716656400@www.lasolid.fr
SUMMARY:Formation cuisson écologique avec Bolivia INTI
DESCRIPTION:Ce samedi 25 mai de 14h à 17h : deux salles deux ambiances dans les ateliers de La Solid’ :\nAtelier couture coopératif Fil Good à prix libre.\nFormation cuisson écologique avec l’asso Bolivia Initi : four solaire\, cuiseur à bois économe (rocket stove) et marmite norvégienne. Formation – et dégustation – offertes !\nIl reste des places !\nInscription : asso@lasolid.fr
URL:https://www.lasolid.fr/evenement/formation-four-solaire-avec-bolivia-inti/
LOCATION:Maison de la solidarité\, 1 rue des filatures\, Clisson\, 44190\, France
CATEGORIES:Atelier des savoirs,Environnement - Biodiversité,Tiers Lieu Ateliers Solidaires
ATTACH;FMTTYPE=image/png:https://www.lasolid.fr/wp-content/uploads/Capture-decran-2024-05-24-a-11.26.27.png
ORGANIZER;CN="La Solid'":MAILTO:asso@lasolid.fr
END:VEVENT
END:VCALENDAR