BEGIN:VCALENDAR
VERSION:2.0
PRODID:-//La Solid&#039; - ECPv6.13.2.1//NONSGML v1.0//EN
CALSCALE:GREGORIAN
METHOD:PUBLISH
X-ORIGINAL-URL:https://www.lasolid.fr
X-WR-CALDESC:Évènements pour La Solid&#039;
REFRESH-INTERVAL;VALUE=DURATION:PT1H
X-Robots-Tag:noindex
X-PUBLISHED-TTL:PT1H
BEGIN:VTIMEZONE
TZID:Europe/Paris
BEGIN:DAYLIGHT
TZOFFSETFROM:+0100
TZOFFSETTO:+0200
TZNAME:CEST
DTSTART:20240331T010000
END:DAYLIGHT
BEGIN:STANDARD
TZOFFSETFROM:+0200
TZOFFSETTO:+0100
TZNAME:CET
DTSTART:20241027T010000
END:STANDARD
END:VTIMEZONE
BEGIN:VEVENT
DTSTART;TZID=Europe/Paris:20240505T100000
DTEND;TZID=Europe/Paris:20240505T160000
DTSTAMP:20260420T200001
CREATED:20240213T162019Z
LAST-MODIFIED:20240430T184044Z
UID:10001627-1714903200-1714924800@www.lasolid.fr
SUMMARY:ANNULÉ / Club CPN intergénérationnel + chantier au verger du nid d'oie
DESCRIPTION:ATTENTION ! EN RAISON DE LA MÉTÉO PLUVIEUSE ANNONCÉE CE DIMANCHE\, L’ANIMATION ET LE CHANTIER AU VERGER DU NID D’OIE SONT REPORTÉS. PROCHAIN RDV PROGRAMMÉ AU VERGER : 1ER JUIN. \nLa Solid’ ouvre un club Connaître et Protéger la Nature pour adultes et seniors\, animé par Maxime\, au verger pédagogique du Nid d’oie. \nSéance d’identification des plantes le matin (10h-12)\, pique-nique possible le midi + chantier nature d’entretien du site l’après-midi. \nOuvert à tou·tes !
URL:https://www.lasolid.fr/evenement/club-cpn-adultes-chantier-au-verger-du-nid-doie/
LOCATION:Verger du nid d’oie\, Route de nid d'oie\, Clisson\, 44190\, France
CATEGORIES:Clubs CPN,Environnement - Biodiversité,Verger
ATTACH;FMTTYPE=image/png:https://www.lasolid.fr/wp-content/uploads/verger-1.png
ORGANIZER;CN="La Solid'":MAILTO:asso@lasolid.fr
END:VEVENT
END:VCALENDAR