BEGIN:VCALENDAR
VERSION:2.0
PRODID:-//La Solid&#039; - ECPv6.13.2.1//NONSGML v1.0//EN
CALSCALE:GREGORIAN
METHOD:PUBLISH
X-WR-CALNAME:La Solid&#039;
X-ORIGINAL-URL:https://www.lasolid.fr
X-WR-CALDESC:Évènements pour La Solid&#039;
REFRESH-INTERVAL;VALUE=DURATION:PT1H
X-Robots-Tag:noindex
X-PUBLISHED-TTL:PT1H
BEGIN:VTIMEZONE
TZID:Europe/Paris
BEGIN:DAYLIGHT
TZOFFSETFROM:+0100
TZOFFSETTO:+0200
TZNAME:CEST
DTSTART:20240331T010000
END:DAYLIGHT
BEGIN:STANDARD
TZOFFSETFROM:+0200
TZOFFSETTO:+0100
TZNAME:CET
DTSTART:20241027T010000
END:STANDARD
END:VTIMEZONE
BEGIN:VEVENT
DTSTART;TZID=Europe/Paris:20240504T100000
DTEND;TZID=Europe/Paris:20240504T170000
DTSTAMP:20260420T200835
CREATED:20240201T184418Z
LAST-MODIFIED:20240426T160549Z
UID:10001620-1714816800-1714842000@www.lasolid.fr
SUMMARY:Troc plants\, graines et vide-jardin
DESCRIPTION:Rendez-vous dans notre nouveau Tiers Lieu à la Maison de Solidarité de Clisson\, pour apporter\, troquer\, partager\, découvrir… \ngraines\, plants\, outils\, livres… autour du jardinage \net échanger avec les bénévoles de La Solid’ passionné·es de jardinage. \nPour nous aider une heure ou plus comme bénévole (au montage\, démontage\, stand de plantes ou buvette)\, tu peux t’inscrire en ligne ici ou nous contacter. D’avance un grand merci ! \nAtelier modelage et terre cuite intergénérationnel avec Myriam Bonneau\, à prix libre. Sur réservation. \nKaraoké spécial écologie en soirée ! \n \n 
URL:https://www.lasolid.fr/evenement/troc-plants-graines-et-vide-jardin/
LOCATION:Maison de la solidarité\, 1 rue des filatures\, Clisson\, 44190\, France
CATEGORIES:Café jardin,Environnement - Biodiversité,Pote Âgé
ATTACH;FMTTYPE=image/png:https://www.lasolid.fr/wp-content/uploads/TROC-PLANTS-20241-1.png
ORGANIZER;CN="La Solid'":MAILTO:asso@lasolid.fr
END:VEVENT
END:VCALENDAR