BEGIN:VCALENDAR
VERSION:2.0
PRODID:-//La Solid&#039; - ECPv6.13.2.1//NONSGML v1.0//EN
CALSCALE:GREGORIAN
METHOD:PUBLISH
X-ORIGINAL-URL:https://www.lasolid.fr
X-WR-CALDESC:Évènements pour La Solid&#039;
REFRESH-INTERVAL;VALUE=DURATION:PT1H
X-Robots-Tag:noindex
X-PUBLISHED-TTL:PT1H
BEGIN:VTIMEZONE
TZID:Europe/Paris
BEGIN:DAYLIGHT
TZOFFSETFROM:+0100
TZOFFSETTO:+0200
TZNAME:CEST
DTSTART:20240331T010000
END:DAYLIGHT
BEGIN:STANDARD
TZOFFSETFROM:+0200
TZOFFSETTO:+0100
TZNAME:CET
DTSTART:20241027T010000
END:STANDARD
END:VTIMEZONE
BEGIN:VEVENT
DTSTART;TZID=Europe/Paris:20240425T160000
DTEND;TZID=Europe/Paris:20240425T180000
DTSTAMP:20260420T214953
CREATED:20240416T215144Z
LAST-MODIFIED:20240416T215144Z
UID:10001689-1714060800-1714068000@www.lasolid.fr
SUMMARY:Réunion Toilettes sèches
DESCRIPTION:Réunion de l’équipe salariée et des bénévoles pour finaliser l’organisation de la saison de locations de toilettes sèches en événementiel\, un moyen pour notre asso de sensibiliser le grand public à la préservation de nos ressources en eau\, et aussi un moyen d’autofinancement de nos actions solidaires. \nAPPEL À BÉNÉVOLES POUR NOUS AIDER SUR CERTAINES DATES ESTIVALES ! Merci de nous signaler ton intérêt !
URL:https://www.lasolid.fr/evenement/reunion-toilettes-seches/
LOCATION:Maison de la solidarité\, 1 rue des filatures\, Clisson\, 44190\, France
CATEGORIES:Environnement - Biodiversité,Réunions
ATTACH;FMTTYPE=image/jpeg:https://www.lasolid.fr/wp-content/uploads/Cabine-PMRext-scaled-e1727562427766.jpg
ORGANIZER;CN="La Solid'":MAILTO:asso@lasolid.fr
END:VEVENT
BEGIN:VEVENT
DTSTART;TZID=Europe/Paris:20240425T180000
DTEND;TZID=Europe/Paris:20240425T183000
DTSTAMP:20260420T214953
CREATED:20240416T215420Z
LAST-MODIFIED:20240416T215420Z
UID:10001690-1714068000-1714069800@www.lasolid.fr
SUMMARY:Pot d'accueil de Lucie\, animatrice Tiers Lieu et Environnement
DESCRIPTION:Bienvenue aux bénévoles de La Solid’ à 18h avec breuvages et grignotages.
URL:https://www.lasolid.fr/evenement/pot-daccueil-de-lucie-animatrice-tiers-lieu-et-environnement/
LOCATION:Maison de la solidarité\, 1 rue des filatures\, Clisson\, 44190\, France
CATEGORIES:Autres,Environnement - Biodiversité,Réunions,Tiers Lieu Ateliers Solidaires
ATTACH;FMTTYPE=image/jpeg:https://www.lasolid.fr/wp-content/uploads/IMG20210830191728-1-scaled.jpg
ORGANIZER;CN="La Solid'":MAILTO:asso@lasolid.fr
END:VEVENT
BEGIN:VEVENT
DTSTART;TZID=Europe/Paris:20240425T183000
DTEND;TZID=Europe/Paris:20240425T183000
DTSTAMP:20260420T214953
CREATED:20240424T122549Z
LAST-MODIFIED:20240424T122549Z
UID:10001692-1714069800-1714069800@www.lasolid.fr
SUMMARY:Pot d'accueil de Lucie
DESCRIPTION:La Solid’ accueille dans son équipe Lucie\, nouvelle animatrice Tiers Lieu et Environnement. Pot d’accueil demain jeudi à 18h à l’atelier\, avant la réunion du bureau collégial !
URL:https://www.lasolid.fr/evenement/pot-daccueil-de-lucie/
LOCATION:Maison de la solidarité\, 1 rue des filatures\, Clisson\, 44190\, France
CATEGORIES:Autres,Environnement - Biodiversité,Réunions,Tiers Lieu Ateliers Solidaires,Vélo
ATTACH;FMTTYPE=image/png:https://www.lasolid.fr/wp-content/uploads/Bienvenue.png
ORGANIZER;CN="La Solid'":MAILTO:asso@lasolid.fr
END:VEVENT
END:VCALENDAR