BEGIN:VCALENDAR
VERSION:2.0
PRODID:-//La Solid&#039; - ECPv6.13.2.1//NONSGML v1.0//EN
CALSCALE:GREGORIAN
METHOD:PUBLISH
X-WR-CALNAME:La Solid&#039;
X-ORIGINAL-URL:https://www.lasolid.fr
X-WR-CALDESC:Évènements pour La Solid&#039;
REFRESH-INTERVAL;VALUE=DURATION:PT1H
X-Robots-Tag:noindex
X-PUBLISHED-TTL:PT1H
BEGIN:VTIMEZONE
TZID:Europe/Paris
BEGIN:DAYLIGHT
TZOFFSETFROM:+0100
TZOFFSETTO:+0200
TZNAME:CEST
DTSTART:20240331T010000
END:DAYLIGHT
BEGIN:STANDARD
TZOFFSETFROM:+0200
TZOFFSETTO:+0100
TZNAME:CET
DTSTART:20241027T010000
END:STANDARD
END:VTIMEZONE
BEGIN:VEVENT
DTSTART;TZID=Europe/Paris:20240416T080000
DTEND;TZID=Europe/Paris:20240416T170000
DTSTAMP:20260420T214743
CREATED:20240610T185352Z
LAST-MODIFIED:20240610T185352Z
UID:10001711-1713254400-1713286800@www.lasolid.fr
SUMMARY:Réunion Veille environnementale
DESCRIPTION:Merci de te signaler avant de te déplacer : nous t’informerons du lieu de rendez-vous et des dossiers en cours. \nNouvelles et nouveaux bénévoles bienvenu·es : les dossiers sont nombreux !
URL:https://www.lasolid.fr/evenement/reunion-veille-environnementale-7/2024-04-16/1/
CATEGORIES:Environnement - Biodiversité,Veille environnementale
ATTACH;FMTTYPE=image/jpeg:https://www.lasolid.fr/wp-content/uploads/20221008_105018.jpg
ORGANIZER;CN="La Solid'":MAILTO:asso@lasolid.fr
END:VEVENT
BEGIN:VEVENT
DTSTART;TZID=Europe/Paris:20240416T080000
DTEND;TZID=Europe/Paris:20240416T170000
DTSTAMP:20260420T214743
CREATED:20240725T134959Z
LAST-MODIFIED:20240725T135202Z
UID:10001733-1713254400-1713286800@www.lasolid.fr
SUMMARY:Réunion Veille environnementale
DESCRIPTION:Merci de te signaler avant de te déplacer : nous t’informerons du lieu de rendez-vous et des dossiers en cours. \nNouvelles et nouveaux bénévoles bienvenu·es : les dossiers sont nombreux !
URL:https://www.lasolid.fr/evenement/reunion-veille-environnementale-8/2024-04-16/1/
CATEGORIES:Environnement - Biodiversité,Veille environnementale
ATTACH;FMTTYPE=image/jpeg:https://www.lasolid.fr/wp-content/uploads/20221008_105018.jpg
ORGANIZER;CN="La Solid'":MAILTO:asso@lasolid.fr
END:VEVENT
BEGIN:VEVENT
DTSTART;TZID=Europe/Paris:20240416T080000
DTEND;TZID=Europe/Paris:20240416T170000
DTSTAMP:20260420T214743
CREATED:20240828T154555Z
LAST-MODIFIED:20241004T213259Z
UID:10001761-1713254400-1713286800@www.lasolid.fr
SUMMARY:Réunion Veille environnementale
DESCRIPTION:Merci de te signaler avant de te déplacer : nous t’informerons du lieu de rendez-vous et des dossiers en cours. \nNouvelles et nouveaux bénévoles bienvenu·es : les dossiers sont nombreux !
URL:https://www.lasolid.fr/evenement/reunion-veille-environnementale-10/2024-04-16/1/
CATEGORIES:Environnement - Biodiversité,Veille environnementale
ATTACH;FMTTYPE=image/jpeg:https://www.lasolid.fr/wp-content/uploads/20221008_105018.jpg
ORGANIZER;CN="La Solid'":MAILTO:asso@lasolid.fr
END:VEVENT
BEGIN:VEVENT
DTSTART;TZID=Europe/Paris:20240416T181500
DTEND;TZID=Europe/Paris:20240416T200000
DTSTAMP:20260420T214743
CREATED:20240306T094453Z
LAST-MODIFIED:20240416T215706Z
UID:10001672-1713291300-1713297600@www.lasolid.fr
SUMMARY:Réunion Veille environnementale
DESCRIPTION:Merci de te signaler avant de te déplacer : nous t’informerons du lieu de rendez-vous et des dossiers en cours. \nNouvelles et nouveaux bénévoles bienvenu·es : les dossiers sont nombreux !
URL:https://www.lasolid.fr/evenement/reunion-veille-environnementale-5/2024-04-16/
CATEGORIES:Environnement - Biodiversité,Veille environnementale
ATTACH;FMTTYPE=image/jpeg:https://www.lasolid.fr/wp-content/uploads/20221008_105018.jpg
ORGANIZER;CN="La Solid'":MAILTO:asso@lasolid.fr
END:VEVENT
BEGIN:VEVENT
DTSTART;TZID=Europe/Paris:20240416T181500
DTEND;TZID=Europe/Paris:20240416T200000
DTSTAMP:20260420T214743
CREATED:20240516T143339Z
LAST-MODIFIED:20240516T143339Z
UID:10001696-1713291300-1713297600@www.lasolid.fr
SUMMARY:Réunion Veille environnementale
DESCRIPTION:Merci de te signaler avant de te déplacer : nous t’informerons du lieu de rendez-vous et des dossiers en cours. \nNouvelles et nouveaux bénévoles bienvenu·es : les dossiers sont nombreux !
URL:https://www.lasolid.fr/evenement/reunion-veille-environnementale-6/2024-04-16/
CATEGORIES:Environnement - Biodiversité,Veille environnementale
ATTACH;FMTTYPE=image/jpeg:https://www.lasolid.fr/wp-content/uploads/20221008_105018.jpg
ORGANIZER;CN="La Solid'":MAILTO:asso@lasolid.fr
END:VEVENT
BEGIN:VEVENT
DTSTART;TZID=Europe/Paris:20240416T181500
DTEND;TZID=Europe/Paris:20240416T200000
DTSTAMP:20260420T214743
CREATED:20240610T185352Z
LAST-MODIFIED:20240610T185352Z
UID:10001708-1713291300-1713297600@www.lasolid.fr
SUMMARY:Réunion Veille environnementale
DESCRIPTION:Merci de te signaler avant de te déplacer : nous t’informerons du lieu de rendez-vous et des dossiers en cours. \nNouvelles et nouveaux bénévoles bienvenu·es : les dossiers sont nombreux !
URL:https://www.lasolid.fr/evenement/reunion-veille-environnementale-7/2024-04-16/2/
CATEGORIES:Environnement - Biodiversité,Veille environnementale
ATTACH;FMTTYPE=image/jpeg:https://www.lasolid.fr/wp-content/uploads/20221008_105018.jpg
ORGANIZER;CN="La Solid'":MAILTO:asso@lasolid.fr
END:VEVENT
BEGIN:VEVENT
DTSTART;TZID=Europe/Paris:20240416T181500
DTEND;TZID=Europe/Paris:20240416T200000
DTSTAMP:20260420T214743
CREATED:20240725T134959Z
LAST-MODIFIED:20240725T135202Z
UID:10001734-1713291300-1713297600@www.lasolid.fr
SUMMARY:Réunion Veille environnementale
DESCRIPTION:Merci de te signaler avant de te déplacer : nous t’informerons du lieu de rendez-vous et des dossiers en cours. \nNouvelles et nouveaux bénévoles bienvenu·es : les dossiers sont nombreux !
URL:https://www.lasolid.fr/evenement/reunion-veille-environnementale-8/2024-04-16/2/
CATEGORIES:Environnement - Biodiversité,Veille environnementale
ATTACH;FMTTYPE=image/jpeg:https://www.lasolid.fr/wp-content/uploads/20221008_105018.jpg
ORGANIZER;CN="La Solid'":MAILTO:asso@lasolid.fr
END:VEVENT
BEGIN:VEVENT
DTSTART;TZID=Europe/Paris:20240416T181500
DTEND;TZID=Europe/Paris:20240416T200000
DTSTAMP:20260420T214743
CREATED:20240828T154555Z
LAST-MODIFIED:20241004T213259Z
UID:10001762-1713291300-1713297600@www.lasolid.fr
SUMMARY:Réunion Veille environnementale
DESCRIPTION:Merci de te signaler avant de te déplacer : nous t’informerons du lieu de rendez-vous et des dossiers en cours. \nNouvelles et nouveaux bénévoles bienvenu·es : les dossiers sont nombreux !
URL:https://www.lasolid.fr/evenement/reunion-veille-environnementale-10/2024-04-16/2/
CATEGORIES:Environnement - Biodiversité,Veille environnementale
ATTACH;FMTTYPE=image/jpeg:https://www.lasolid.fr/wp-content/uploads/20221008_105018.jpg
ORGANIZER;CN="La Solid'":MAILTO:asso@lasolid.fr
END:VEVENT
END:VCALENDAR