BEGIN:VCALENDAR
VERSION:2.0
PRODID:-//La Solid&#039; - ECPv6.13.2.1//NONSGML v1.0//EN
CALSCALE:GREGORIAN
METHOD:PUBLISH
X-ORIGINAL-URL:https://www.lasolid.fr
X-WR-CALDESC:Évènements pour La Solid&#039;
REFRESH-INTERVAL;VALUE=DURATION:PT1H
X-Robots-Tag:noindex
X-PUBLISHED-TTL:PT1H
BEGIN:VTIMEZONE
TZID:Europe/Paris
BEGIN:DAYLIGHT
TZOFFSETFROM:+0100
TZOFFSETTO:+0200
TZNAME:CEST
DTSTART:20240331T010000
END:DAYLIGHT
BEGIN:STANDARD
TZOFFSETFROM:+0200
TZOFFSETTO:+0100
TZNAME:CET
DTSTART:20241027T010000
END:STANDARD
END:VTIMEZONE
BEGIN:VEVENT
DTSTART;TZID=Europe/Paris:20240324T140000
DTEND;TZID=Europe/Paris:20240324T160000
DTSTAMP:20260420T233656
CREATED:20240213T173110Z
LAST-MODIFIED:20240216T145430Z
UID:10001639-1711288800-1711296000@www.lasolid.fr
SUMMARY:Rando Clean'up en famille
DESCRIPTION:En plus de prendre l’air et de nous dégourdir les jambes\, nous prenons soin de la nature en ramassant et triant les déchets croisés en chemin.\n\nDe 1 à 20 personnes. Merci d’arriver 15 minutes avant le départ.\n\n\n\n🥾 L’équipement\nPrévoir une paire de chaussures de marche\, des vêtements et accessoires adaptés aux conditions météorologiques\, à boire et une collation.\nLa Solid’ fournit les sacs poubelles et les gants (mais vous pouvez amener les vôtres qui sont à votre taille).\nLa Solid’ peut également fournir des pinces pour ramasser les déchets – en faire la demande à l’inscription.\nDimanche 24 mars : balade clean up ‘famille’ 14h-16h\, voir l’itinéraire (3km) => Boucle au départ de la gare de Clisson \nContact : asso@lasolid.fr \nUn.e animateur·rice bénévole distribue le matériel et guide les participant·es sur le parcours.\nL’animateur·rice ni l’association ne sont responsables en cas de blessure\, et vos enfants sont sous votre responsabilité dans le cadre d’une sortie « famille ».\n  \nRando suivantes : \ndimanche 21 avril : balade clean up ‘d’un bon pas’ 14h-18h\, voir l’itinéraire (14\,8km) => Boucle au départ de la gare de Clisson\ndimanche 26 mai : balade clean up ‘famille’ 14h-16h\, voir l’itinéraire (5\,3km) => Boucle au départ de la gare de Clisson\n\ndimanche 23 juin :  balade clean up ‘sportive’ 13h-18h\, voir l’itinéraire (17\,5km) => Boucle au départ de la gare de Cugand\, sortie adaptée aux randonneur·euses aguerri·es\, rythme de marche soutenu.
URL:https://www.lasolid.fr/evenement/rando-clean-up-2/
CATEGORIES:Environnement - Biodiversité,Tiers Lieu Ateliers Solidaires,Veille environnementale
ATTACH;FMTTYPE=image/jpeg:https://www.lasolid.fr/wp-content/uploads/maman-sa-fille-nettoient-foret-du-plastique-autres-debris-scaled.jpg
ORGANIZER;CN="La Solid'":MAILTO:asso@lasolid.fr
END:VEVENT
END:VCALENDAR