BEGIN:VCALENDAR
VERSION:2.0
PRODID:-//La Solid&#039; - ECPv6.13.2.1//NONSGML v1.0//EN
CALSCALE:GREGORIAN
METHOD:PUBLISH
X-WR-CALNAME:La Solid&#039;
X-ORIGINAL-URL:https://www.lasolid.fr
X-WR-CALDESC:Évènements pour La Solid&#039;
REFRESH-INTERVAL;VALUE=DURATION:PT1H
X-Robots-Tag:noindex
X-PUBLISHED-TTL:PT1H
BEGIN:VTIMEZONE
TZID:Europe/Paris
BEGIN:DAYLIGHT
TZOFFSETFROM:+0100
TZOFFSETTO:+0200
TZNAME:CEST
DTSTART:20240331T010000
END:DAYLIGHT
BEGIN:STANDARD
TZOFFSETFROM:+0200
TZOFFSETTO:+0100
TZNAME:CET
DTSTART:20241027T010000
END:STANDARD
END:VTIMEZONE
BEGIN:VEVENT
DTSTART;TZID=Europe/Paris:20240315T190000
DTEND;TZID=Europe/Paris:20240315T210000
DTSTAMP:20260420T233533
CREATED:20231113T155908Z
LAST-MODIFIED:20240216T141421Z
UID:10000995-1710529200-1710536400@www.lasolid.fr
SUMMARY:Atelier des savoirs : la santé des femmes
DESCRIPTION:Dans le cadre des Journées Internationales des Droits des Femmes\, l’Atelier des Savoirs de La Solid’ propose une soirée d’échanges sur le thème de la santé des femmes. \nProjection d’un reportage\, suivie d’échanges entre participant·tes : « La santé des femmes\, de l’ignorance à la reconnaissance ». \nSoirée ouverte à tou·tes\, gratuite pour les membres de La Solid’\, prix libre pour les autres. \nInscription par sms : 06 69 67 70 76. \nTout le programme des animations prévues à La Solid’ et partout dans le département est disponible en ligne ici. \n 
URL:https://www.lasolid.fr/evenement/journees-internationales-des-droits-des-femmes/
LOCATION:Maison de la solidarité\, 1 rue des filatures\, Clisson\, 44190\, France
CATEGORIES:Atelier des savoirs,Environnement - Biodiversité,Tiers Lieu Ateliers Solidaires
ATTACH;FMTTYPE=image/png:https://www.lasolid.fr/wp-content/uploads/Copie-de-Flyer-A53.png
ORGANIZER;CN="La Solid'":MAILTO:asso@lasolid.fr
END:VEVENT
END:VCALENDAR