BEGIN:VCALENDAR
VERSION:2.0
PRODID:-//La Solid&#039; - ECPv6.13.2.1//NONSGML v1.0//EN
CALSCALE:GREGORIAN
METHOD:PUBLISH
X-WR-CALNAME:La Solid&#039;
X-ORIGINAL-URL:https://www.lasolid.fr
X-WR-CALDESC:Évènements pour La Solid&#039;
REFRESH-INTERVAL;VALUE=DURATION:PT1H
X-Robots-Tag:noindex
X-PUBLISHED-TTL:PT1H
BEGIN:VTIMEZONE
TZID:Europe/Paris
BEGIN:DAYLIGHT
TZOFFSETFROM:+0100
TZOFFSETTO:+0200
TZNAME:CEST
DTSTART:20240331T010000
END:DAYLIGHT
BEGIN:STANDARD
TZOFFSETFROM:+0200
TZOFFSETTO:+0100
TZNAME:CET
DTSTART:20241027T010000
END:STANDARD
END:VTIMEZONE
BEGIN:VEVENT
DTSTART;TZID=Europe/Paris:20240309T140000
DTEND;TZID=Europe/Paris:20240309T170000
DTSTAMP:20260421T010431
CREATED:20240213T170558Z
LAST-MODIFIED:20240216T133832Z
UID:10001632-1709992800-1710003600@www.lasolid.fr
SUMMARY:Fresque du climat gratuite
DESCRIPTION:Fresque du climat animée par Isabelle\, bénévole de La Solid’\, ouverte à tou·tes et gratuite. \nInscription ici : \nhttps://association.climatefresk.org/training_sessions/8a5ac2cc-d8fd-4cc2-8fc9-894231586d3f/show_public?language=fr&tenant_token=36bd2274d3982262c0021755 \n\n🌍 L’objectif\nFace à l’urgence climatique\, l’objectif de la Fresque est de former le plus grand nombre aux enjeux pour que chacun.e puisse décrypter les informations et agir efficacement sur le plan individuel et collectif. La Fresque du Climat permet aux novices comme aux expert.es de découvrir ou approfondir leur connaissance de ce sujet.\n✏️ L’atelier\nPendant 3h\, l’atelier rassemble des participant·es et fait appel à la créativité et à l’intelligence collective du groupe pour reconstituer les liens de cause à effet.\nUn.e animateur.rice bénévole encadre les équipes afin de les guider durant l’atelier\, d’assurer une bonne communication entre les membres et de donner des explications supplémentaires.\n☀️ Déroulé\nRéflexion (1h30) : découvrir et mettre en lien les cartes pour co-construire la fresque.\nCréativité (30min) : décompresser\, s’approprier la fresque et créer un esprit d’équipe en l’illustrant.\nDebrief (1h) : échanger sur ses émotions\, questions\, et dessiner des solutions individuelles et collectives.\n\n\nFRESQUE DU CLIMAT SUIVANTE LE 16 JUIN\, INSCRIPTION LÀ.
URL:https://www.lasolid.fr/evenement/fresque-du-climat-gratuite/
LOCATION:Maison de la solidarité\, 1 rue des filatures\, Clisson\, 44190\, France
CATEGORIES:Atelier des savoirs,Clubs CPN,Environnement - Biodiversité,Tiers Lieu Ateliers Solidaires,Veille environnementale
ATTACH;FMTTYPE=image/png:https://www.lasolid.fr/wp-content/uploads/Capture-decran-2024-02-13-a-18.01.45.png
ORGANIZER;CN="La Solid'":MAILTO:asso@lasolid.fr
END:VEVENT
END:VCALENDAR