BEGIN:VCALENDAR
VERSION:2.0
PRODID:-//La Solid&#039; - ECPv6.13.2.1//NONSGML v1.0//EN
CALSCALE:GREGORIAN
METHOD:PUBLISH
X-WR-CALNAME:La Solid&#039;
X-ORIGINAL-URL:https://www.lasolid.fr
X-WR-CALDESC:Évènements pour La Solid&#039;
REFRESH-INTERVAL;VALUE=DURATION:PT1H
X-Robots-Tag:noindex
X-PUBLISHED-TTL:PT1H
BEGIN:VTIMEZONE
TZID:Europe/Paris
BEGIN:DAYLIGHT
TZOFFSETFROM:+0100
TZOFFSETTO:+0200
TZNAME:CEST
DTSTART:20230326T010000
END:DAYLIGHT
BEGIN:STANDARD
TZOFFSETFROM:+0200
TZOFFSETTO:+0100
TZNAME:CET
DTSTART:20231029T010000
END:STANDARD
END:VTIMEZONE
BEGIN:VEVENT
DTSTART;TZID=Europe/Paris:20231204T180000
DTEND;TZID=Europe/Paris:20231204T210000
DTSTAMP:20260421T035339
CREATED:20230924T223945Z
LAST-MODIFIED:20231201T121807Z
UID:10000979-1701712800-1701723600@www.lasolid.fr
SUMMARY:Réunion "Jardins" + soupe à l'oignon
DESCRIPTION:À la maison de la solidarité de Clisson \nAtelier cuisine de la soupe à l’oignon à 17h avec Catherine et Philippe. \nRéunion du groupe Jardins de 18h à 20h : bilans 2023 et perspectives 2024 pour les activités « potes âgés » et les animations collectives aux jardins (trocs\, café jardin\, ateliers\, chantiers collectifs…). Réunion ouverte aux bénévoles et participant·es des activités Jardins de la Solid’. Nouveaux membres bienvenu·es. \nSoupe à l’oignon avec la récolte de chez André\, un de nos potes âgés ! + Repas partagé : chacun·e apporte à boire et/ou à manger à partager\, en toute convivialité. Soupe et soirée intergénérationnelle ouvertes à tou·tes. \nMerci de réserver : asso@lasolid.fr
URL:https://www.lasolid.fr/evenement/cafe-jardin-soupe-a-loignon/
LOCATION:Maison de la solidarité\, 1 rue des filatures\, Clisson\, 44190\, France
CATEGORIES:Café jardin,Environnement - Biodiversité,Pote Âgé,Tiers Lieu Ateliers Solidaires
ATTACH;FMTTYPE=image/jpeg:https://www.lasolid.fr/wp-content/uploads/P1070265-scaled.jpg
ORGANIZER;CN="La Solid'":MAILTO:asso@lasolid.fr
END:VEVENT
END:VCALENDAR