BEGIN:VCALENDAR
VERSION:2.0
PRODID:-//La Solid&#039; - ECPv6.13.2.1//NONSGML v1.0//EN
CALSCALE:GREGORIAN
METHOD:PUBLISH
X-WR-CALNAME:La Solid&#039;
X-ORIGINAL-URL:https://www.lasolid.fr
X-WR-CALDESC:Évènements pour La Solid&#039;
REFRESH-INTERVAL;VALUE=DURATION:PT1H
X-Robots-Tag:noindex
X-PUBLISHED-TTL:PT1H
BEGIN:VTIMEZONE
TZID:Europe/Paris
BEGIN:DAYLIGHT
TZOFFSETFROM:+0100
TZOFFSETTO:+0200
TZNAME:CEST
DTSTART:20230326T010000
END:DAYLIGHT
BEGIN:STANDARD
TZOFFSETFROM:+0200
TZOFFSETTO:+0100
TZNAME:CET
DTSTART:20231029T010000
END:STANDARD
END:VTIMEZONE
BEGIN:VEVENT
DTSTART;TZID=Europe/Paris:20230703T183000
DTEND;TZID=Europe/Paris:20230703T203000
DTSTAMP:20260421T114906
CREATED:20230529T150525Z
LAST-MODIFIED:20230529T150525Z
UID:10000005-1688409000-1688416200@www.lasolid.fr
SUMMARY:Café Jardin chez Samuel à Cugand
DESCRIPTION:Ouvert à tou·tes et gratuit ! \nBreuvages et grignotages en partage bienvenus.
URL:https://www.lasolid.fr/evenement/cafe-jardin-chez-samuel-a-cugand/
LOCATION:chez Samuel\, 5 rue du beau soleil\, Cugand\, 85610
CATEGORIES:Café jardin
ORGANIZER;CN="La Solid'":MAILTO:asso@lasolid.fr
END:VEVENT
END:VCALENDAR