BEGIN:VCALENDAR
VERSION:2.0
PRODID:-//La Solid&#039; - ECPv6.13.2.1//NONSGML v1.0//EN
CALSCALE:GREGORIAN
METHOD:PUBLISH
X-WR-CALNAME:La Solid&#039;
X-ORIGINAL-URL:https://www.lasolid.fr
X-WR-CALDESC:Évènements pour La Solid&#039;
REFRESH-INTERVAL;VALUE=DURATION:PT1H
X-Robots-Tag:noindex
X-PUBLISHED-TTL:PT1H
BEGIN:VTIMEZONE
TZID:Europe/Paris
BEGIN:DAYLIGHT
TZOFFSETFROM:+0100
TZOFFSETTO:+0200
TZNAME:CEST
DTSTART:20230326T010000
END:DAYLIGHT
BEGIN:STANDARD
TZOFFSETFROM:+0200
TZOFFSETTO:+0100
TZNAME:CET
DTSTART:20231029T010000
END:STANDARD
END:VTIMEZONE
BEGIN:VEVENT
DTSTART;TZID=Europe/Paris:20230606T090000
DTEND;TZID=Europe/Paris:20230606T170000
DTSTAMP:20260421T130227
CREATED:20230505T100923Z
LAST-MODIFIED:20230505T102147Z
UID:10000001-1686042000-1686070800@www.lasolid.fr
SUMMARY:Bienvenue dans nos jardins !
DESCRIPTION:Visites de jardins et « potes âgés » chez des membres de La Solid’. \n\n\n\nRencontres\, ateliers\, animations… Plus d’infos bientôt !
URL:https://www.lasolid.fr/evenement/bienvenue-dans-nos-jardins/
CATEGORIES:Pote Âgé
ORGANIZER;CN="La Solid'":MAILTO:asso@lasolid.fr
END:VEVENT
END:VCALENDAR