BEGIN:VCALENDAR
VERSION:2.0
PRODID:-//La Solid&#039; - ECPv6.13.2.1//NONSGML v1.0//EN
CALSCALE:GREGORIAN
METHOD:PUBLISH
X-ORIGINAL-URL:https://www.lasolid.fr
X-WR-CALDESC:Évènements pour La Solid&#039;
REFRESH-INTERVAL;VALUE=DURATION:PT1H
X-Robots-Tag:noindex
X-PUBLISHED-TTL:PT1H
BEGIN:VTIMEZONE
TZID:Europe/Paris
BEGIN:DAYLIGHT
TZOFFSETFROM:+0100
TZOFFSETTO:+0200
TZNAME:CEST
DTSTART:20250330T010000
END:DAYLIGHT
BEGIN:STANDARD
TZOFFSETFROM:+0200
TZOFFSETTO:+0100
TZNAME:CET
DTSTART:20251026T010000
END:STANDARD
END:VTIMEZONE
BEGIN:VEVENT
DTSTART;TZID=Europe/Paris:20250505T140000
DTEND;TZID=Europe/Paris:20250505T160000
DTSTAMP:20260419T225053
CREATED:20250505T134524Z
LAST-MODIFIED:20250505T175142Z
UID:10001953-1746453600-1746460800@www.lasolid.fr
SUMMARY:Réunion veille environnementale
DESCRIPTION:Les dossiers sont nombreux\, venez nous rejoindre ! Prévenez-nous avant.
URL:https://www.lasolid.fr/evenement/reunion-veille-environnementale-14-2/2025-05-05/
LOCATION:Maison de la solidarité\, 1 rue des filatures\, Clisson\, 44190\, France
CATEGORIES:Environnement - Biodiversité,Veille environnementale
ATTACH;FMTTYPE=image/jpeg:https://www.lasolid.fr/wp-content/uploads/20221008_105018.jpg
ORGANIZER;CN="La Solid'":MAILTO:asso@lasolid.fr
END:VEVENT
BEGIN:VEVENT
DTSTART;TZID=Europe/Paris:20250505T140000
DTEND;TZID=Europe/Paris:20250505T160000
DTSTAMP:20260419T225053
CREATED:20250622T162222Z
LAST-MODIFIED:20250622T162222Z
UID:10002030-1746453600-1746460800@www.lasolid.fr
SUMMARY:Réunion veille environnementale
DESCRIPTION:Les dossiers sont nombreux\, venez nous rejoindre ! Prévenez-nous avant.
URL:https://www.lasolid.fr/evenement/reunion-veille-environnementale-15/2025-05-05/
LOCATION:Maison de la solidarité\, 1 rue des filatures\, Clisson\, 44190\, France
CATEGORIES:Environnement - Biodiversité,Veille environnementale
ATTACH;FMTTYPE=image/jpeg:https://www.lasolid.fr/wp-content/uploads/20221008_105018.jpg
ORGANIZER;CN="La Solid'":MAILTO:asso@lasolid.fr
END:VEVENT
BEGIN:VEVENT
DTSTART;VALUE=DATE:20250515
DTEND;VALUE=DATE:20250617
DTSTAMP:20260419T225053
CREATED:20250515T182705Z
LAST-MODIFIED:20250606T125805Z
UID:10001968-1747267200-1750118399@www.lasolid.fr
SUMMARY:Offre d'emploi Animateur·ice en Environnement
DESCRIPTION:Candidature en juin pour poste en CDI à pourvoir entre juillet et septembre.
URL:https://www.lasolid.fr/evenement/offre-demploi-animateur%c2%b7ice-en-environnement/2025-05-15/4/
LOCATION:Maison de la solidarité\, 1 rue des filatures\, Clisson\, 44190\, France
CATEGORIES:Environnement - Biodiversité
ATTACH;FMTTYPE=image/jpeg:https://www.lasolid.fr/wp-content/uploads/offre-emploi-educ-enviro.jpg
ORGANIZER;CN="La Solid'":MAILTO:asso@lasolid.fr
END:VEVENT
BEGIN:VEVENT
DTSTART;VALUE=DATE:20250515
DTEND;VALUE=DATE:20250516
DTSTAMP:20260419T225053
CREATED:20250515T182705Z
LAST-MODIFIED:20250606T125805Z
UID:10001969-1747296000-1747328400@www.lasolid.fr
SUMMARY:Offre d'emploi Animateur·ice en Environnement
DESCRIPTION:Candidature en juin pour poste en CDI à pourvoir entre juillet et septembre.
URL:https://www.lasolid.fr/evenement/offre-demploi-animateur%c2%b7ice-en-environnement/2025-05-15/2/
LOCATION:Maison de la solidarité\, 1 rue des filatures\, Clisson\, 44190\, France
CATEGORIES:Environnement - Biodiversité
ATTACH;FMTTYPE=image/jpeg:https://www.lasolid.fr/wp-content/uploads/offre-emploi-educ-enviro.jpg
ORGANIZER;CN="La Solid'":MAILTO:asso@lasolid.fr
END:VEVENT
BEGIN:VEVENT
DTSTART;TZID=Europe/Paris:20250517T093000
DTEND;TZID=Europe/Paris:20250517T120000
DTSTAMP:20260419T225053
CREATED:20250430T155514Z
LAST-MODIFIED:20250515T185630Z
UID:10001958-1747474200-1747483200@www.lasolid.fr
SUMMARY:Chantier nature au verger du nid d'oie
DESCRIPTION:Rejoins Fred (jardinier) et Jacky (animateur nature) au verger pédagogique du nid d’oie\, à tout moment dans la matinée\, pour participer à ce chantier citoyen solidaire de mise en beauté du verger. \nPaillage BRF offert aux participant·es ! \nChantier ouvert à tou·tes\, y compris les enfants\, viens avec tes gants si tu peux et une tenue adaptée. \nPossibilité de rester pique-niquer le midi au verger.
URL:https://www.lasolid.fr/evenement/chantier-nature-au-verger-du-nid-doie-3/
LOCATION:Verger du nid d’oie\, Route de nid d'oie\, Clisson\, 44190\, France
CATEGORIES:Environnement - Biodiversité,Verger
ATTACH;FMTTYPE=image/png:https://www.lasolid.fr/wp-content/uploads/verger-1.png
ORGANIZER;CN="La Solid'":MAILTO:asso@lasolid.fr
END:VEVENT
BEGIN:VEVENT
DTSTART;TZID=Europe/Paris:20250517T140000
DTEND;TZID=Europe/Paris:20250517T233000
DTSTAMP:20260419T225053
CREATED:20250430T155922Z
LAST-MODIFIED:20250430T161503Z
UID:10001959-1747490400-1747524600@www.lasolid.fr
SUMMARY:Fête du printemps à Hucheloup
DESCRIPTION:On se retrousse les manches et on met les mains dans la terre ! Le 17 mai\, c’est la fête du printemps à Hucheloup\, tout le monde est invité : salarié·es\, bénévoles\, ami·es de La Solid’…\n \nAu programme :\n \nPour les plus motivé·es\, chantier participatif dès 14h avec au menu :\n \n\nPaillage pour pouponner nos fruitiers.\n\nRéhaussage du système d’irrigation pour que nos arbres ne manquent de rien\n\n\nEt à partir de 18h\, place à l’auberge espagnole ! Chacun·e peux apporter breuvages et grignotages à partager. On se retrouve autour du feu de camp pour une soirée papotage et grignotage jusqu’au bout de la nuit. (Possibilité de camper sur place ou dormir à l’étage si nous avez un matelas)\n \n\n\n\nMerci\,\n\nGael Langlais\n06.03.70.95.18\n09.51.86.53.97\n\n\nPour connaître le lieu de rdv : 06 33 56 20 56
URL:https://www.lasolid.fr/evenement/fete-du-printemps-a-hucheloup/
CATEGORIES:Café jardin,Environnement - Biodiversité,Pote Âgé,Verger
ATTACH;FMTTYPE=image/jpeg:https://www.lasolid.fr/wp-content/uploads/les-ptits-gars-du-verger-2.jpg
END:VEVENT
BEGIN:VEVENT
DTSTART;TZID=Europe/Paris:20250518T140000
DTEND;TZID=Europe/Paris:20250518T170000
DTSTAMP:20260419T225053
CREATED:20250514T224022Z
LAST-MODIFIED:20250514T230659Z
UID:10001964-1747576800-1747587600@www.lasolid.fr
SUMMARY:Marche du temps profond
DESCRIPTION:Marche du Temps profond ce dimanche avec les AVF. Plongez dans l’histoire de notre planète à travers un parcours en extérieur de 4\,6 km représentant les 4\,6 milliards d’années écoulées depuis la naissance de la Terre.\nDate d’animation : 18 mai entre 14h et 17h\nDépart : Sous les halles de Clisson\nNombre de participants envisagés : 15 participants\nPublic : tout public\nCo-animation par Eloïne Deleplanque & Antoine Ebel\nContact : eloine.deleplanque@gmail.com / 06 16 74 97 37
URL:https://www.lasolid.fr/evenement/marche-du-temps-profond-2/
CATEGORIES:Environnement - Biodiversité
ATTACH;FMTTYPE=image/png:https://www.lasolid.fr/wp-content/uploads/Marche-du-temps-profond.png
ORGANIZER;CN="La Solid'":MAILTO:asso@lasolid.fr
END:VEVENT
BEGIN:VEVENT
DTSTART;TZID=Europe/Paris:20250521T170000
DTEND;TZID=Europe/Paris:20250521T200000
DTSTAMP:20260419T225053
CREATED:20250510T135650Z
LAST-MODIFIED:20250510T141403Z
UID:10001962-1747846800-1747857600@www.lasolid.fr
SUMMARY:Chantier jardinage solidaire chez une "pote âgée"
DESCRIPTION:Rdv à 17h (ou après\, bienvenue aussi !) \n– soit au verger du nid d’oie pour aider Fred à charger du paillage \n– soit directement chez Nicole (adresse communiquée par mail ou sms au 06 33 56 20 56). \nOn aidera Nicole à mettre en beauté son magnifique jardin et à lancer son potager. \nBreuvages et grignotages en partage bienvenus. \nChantier solidaire et intergénérationnel de partage ouvert à tou·tes\, avec ou sans compétences en jardinage ! On apprendra ensemble !
URL:https://www.lasolid.fr/evenement/chantier-jardinage-solidaire-chez-une-pote-agee/
LOCATION:Verger du nid d’oie\, Route de nid d'oie\, Clisson\, 44190\, France
CATEGORIES:Café jardin,Environnement - Biodiversité,Pote Âgé
ATTACH;FMTTYPE=image/jpeg:https://www.lasolid.fr/wp-content/uploads/jardin-3-scaled.jpg
ORGANIZER;CN="La Solid'":MAILTO:asso@lasolid.fr
END:VEVENT
BEGIN:VEVENT
DTSTART;TZID=Europe/Paris:20250524T090000
DTEND;TZID=Europe/Paris:20250524T120000
DTSTAMP:20260419T225053
CREATED:20250415T222223Z
LAST-MODIFIED:20250415T222234Z
UID:10001955-1748077200-1748088000@www.lasolid.fr
SUMMARY:Chantier jardinage solidaire
DESCRIPTION:Chez une de nos « pote âgée » à Gétigné. Pour venir aider une heure ou plus et connaître le lieu\, appelez Fred : 06 19 15 12 38. \nChantier intergénérationnel et convivial ouvert à tou·tes !
URL:https://www.lasolid.fr/evenement/chantier-jardinage-solidaire/
LOCATION:Maison de la solidarité\, 1 rue des filatures\, Clisson\, 44190\, France
CATEGORIES:Environnement - Biodiversité,Pote Âgé
ATTACH;FMTTYPE=image/jpeg:https://www.lasolid.fr/wp-content/uploads/jardin-scaled.jpg
ORGANIZER;CN="La Solid'":MAILTO:asso@lasolid.fr
END:VEVENT
BEGIN:VEVENT
DTSTART;TZID=Europe/Paris:20250527T180000
DTEND;TZID=Europe/Paris:20250527T200000
DTSTAMP:20260419T225053
CREATED:20250510T141925Z
LAST-MODIFIED:20250512T220522Z
UID:10001963-1748368800-1748376000@www.lasolid.fr
SUMMARY:Café Jardin chez Lise à Fouques
DESCRIPTION:Au programme : visite du magnifique jardin\, partage de trucs et astuces\, échanges autour d’un verre et de grignotages apportés par chacun·e.\n\n\nThématique d’échanges possibles : conseils de jardinage\, mise en commun de notre stock de connaissances\, transmission de savoirs. Ex : taille de rosiers\, arbustes\,… rempotage\, plantation\, arrosage ou observation générale d’un jardin… \n\nCette soirée est ouverte à tou·tes\, adhérent·es ou non de la Solid’\, jeunes pousses ou « potes âgés »\, jardiniers débutant·es ou confirmé·es. Au plaisir de se rencontrer !\n\nCovoiturage possible au départ de Clisson : il suffit de demander ! asso@lasolid.fr ou 06 33 56 20 56.\n\nAdresse exacte : 94\, fouques Cugand.
URL:https://www.lasolid.fr/evenement/cafe-jardin-chez-lise-a-fouques/
CATEGORIES:Café jardin,Environnement - Biodiversité
ATTACH;FMTTYPE=image/png:https://www.lasolid.fr/wp-content/uploads/Capture-decran-2024-08-02-a-15.21.12.png
ORGANIZER;CN="La Solid'":MAILTO:asso@lasolid.fr
END:VEVENT
BEGIN:VEVENT
DTSTART;TZID=Europe/Paris:20250528T103000
DTEND;TZID=Europe/Paris:20250528T120000
DTSTAMP:20260419T225053
CREATED:20241130T163037Z
LAST-MODIFIED:20250326T132756Z
UID:10001851-1748428200-1748433600@www.lasolid.fr
SUMMARY:Club Connaître et Protéger la Nature (3-6 ans) COMPLET
DESCRIPTION:La Solid’ relance un programme d’activités en pleine nature pour les enfants dès 3 ans\, animé par Jacky Gouband\, éducateur en environnement. Réservation\nobligatoire. \nContact (merci de préciser l’âge de votre enfant) : nature@lasolid.fr / 06 31 56 01 41 / www.lasolid.fr \n  \n  \n \nCrédit photo Freepik
URL:https://www.lasolid.fr/evenement/club-connaitre-et-proteger-la-nature-3-6-ans/2025-05-28/
LOCATION:Maison de la solidarité\, 1 rue des filatures\, Clisson\, 44190\, France
CATEGORIES:Clubs CPN,Environnement - Biodiversité
ATTACH;FMTTYPE=image/jpeg:https://www.lasolid.fr/wp-content/uploads/side-view-kids-exploring-nature-together-scaled.jpg
ORGANIZER;CN="La Solid'":MAILTO:asso@lasolid.fr
END:VEVENT
END:VCALENDAR