BEGIN:VCALENDAR
VERSION:2.0
PRODID:-//La Solid&#039; - ECPv6.13.2.1//NONSGML v1.0//EN
CALSCALE:GREGORIAN
METHOD:PUBLISH
X-WR-CALNAME:La Solid&#039;
X-ORIGINAL-URL:https://www.lasolid.fr
X-WR-CALDESC:Évènements pour La Solid&#039;
REFRESH-INTERVAL;VALUE=DURATION:PT1H
X-Robots-Tag:noindex
X-PUBLISHED-TTL:PT1H
BEGIN:VTIMEZONE
TZID:Europe/Paris
BEGIN:DAYLIGHT
TZOFFSETFROM:+0100
TZOFFSETTO:+0200
TZNAME:CEST
DTSTART:20250330T010000
END:DAYLIGHT
BEGIN:STANDARD
TZOFFSETFROM:+0200
TZOFFSETTO:+0100
TZNAME:CET
DTSTART:20251026T010000
END:STANDARD
END:VTIMEZONE
BEGIN:VEVENT
DTSTART;TZID=Europe/Paris:20250301T153000
DTEND;TZID=Europe/Paris:20250301T163000
DTSTAMP:20260420T022840
CREATED:20250116T192613Z
LAST-MODIFIED:20250116T192613Z
UID:10001896-1740843000-1740846600@www.lasolid.fr
SUMMARY:Portes ouvertes à la Solid' !
DESCRIPTION:Pour accueillir toute personne curieuse\, intéressée par nos actions\, qui se pose des questions\, aimerait adhérer\, devenir bénévole… La Solid’ organise des mini-portes ouvertes et une permanence d’accueil\, ce samedi 1er mars de 15h30 à 16h30\, avant l’Assemblée Générale\, ouvert à tou·tes à 17h (suivie d’une soirée conviviale et festive ouverte à tou·te). \nBienvenue à tou·tes !
URL:https://www.lasolid.fr/evenement/portes-ouvertes-a-la-solid-2/
LOCATION:Maison de la solidarité\, 1 rue des filatures\, Clisson\, 44190\, France
CATEGORIES:Autres,Environnement - Biodiversité,Réunions,Tiers Lieu Ateliers Solidaires,Vélo
ATTACH;FMTTYPE=image/png:https://www.lasolid.fr/wp-content/uploads/favicon-site.png
ORGANIZER;CN="La Solid'":MAILTO:asso@lasolid.fr
END:VEVENT
BEGIN:VEVENT
DTSTART;TZID=Europe/Paris:20250301T170000
DTEND;TZID=Europe/Paris:20250301T233000
DTSTAMP:20260420T022840
CREATED:20241130T164153Z
LAST-MODIFIED:20241130T164619Z
UID:10001857-1740848400-1740871800@www.lasolid.fr
SUMMARY:Assemblée Générale + repas offert et soirée
DESCRIPTION:La Solid’\, asso écolo et solidaire\, propose une AG suivie d’un repas et soirée\nconviviale\, ouvertes à tou·tes. Appel à bénévoles\, notamment aux femmes\, pour\nrejoindre le bureau collégial. \nasso@lasolid.fr / 02 85 52 45 21 / www.lasolid.fr
URL:https://www.lasolid.fr/evenement/assemblee-generale-repas-offert-et-soiree/
LOCATION:Maison de la solidarité\, 1 rue des filatures\, Clisson\, 44190\, France
CATEGORIES:Atelier des savoirs,Autres,Café jardin,Clubs CPN,Environnement - Biodiversité,Fil Good,Good Steel,Good Wood,Pote Âgé,Rdv des Super Féministes,Réunions,Tiers Lieu Ateliers Solidaires,Veille environnementale,Vélo,Verger
ATTACH;FMTTYPE=image/jpeg:https://www.lasolid.fr/wp-content/uploads/IMG20210830191728-scaled.jpg
ORGANIZER;CN="La Solid'":MAILTO:asso@lasolid.fr
END:VEVENT
BEGIN:VEVENT
DTSTART;TZID=Europe/Paris:20250305T183000
DTEND;TZID=Europe/Paris:20250305T203000
DTSTAMP:20260420T022840
CREATED:20250205T174749Z
LAST-MODIFIED:20250205T174908Z
UID:10001908-1741199400-1741206600@www.lasolid.fr
SUMMARY:Réunion veille environnementale
DESCRIPTION:Rencontre des citoyen-nes vigilant-es de La Solid’\, qui travaillent sur des dossiers en lien avec les déchets\, la mobilité\, le PLU\, le SCOT\, le végétal en ville\, les pollutions\, qualité de l’eau et de l’air… Les dossiers sont nombreux ! Rejoins-nous !
URL:https://www.lasolid.fr/evenement/reunion-veille-environnementale-12/2025-03-05/
LOCATION:Maison de la solidarité\, 1 rue des filatures\, Clisson\, 44190\, France
CATEGORIES:Veille environnementale
ATTACH;FMTTYPE=image/jpeg:https://www.lasolid.fr/wp-content/uploads/20221008_105018.jpg
ORGANIZER;CN="La Solid'":MAILTO:asso@lasolid.fr
END:VEVENT
BEGIN:VEVENT
DTSTART;TZID=Europe/Paris:20250308T100000
DTEND;TZID=Europe/Paris:20250308T130000
DTSTAMP:20260420T022840
CREATED:20241130T165300Z
LAST-MODIFIED:20250306T232909Z
UID:10001858-1741428000-1741438800@www.lasolid.fr
SUMMARY:GrainOfête : troc de graines et animations
DESCRIPTION:Grand troc de graines sur le parvis de la médiathèque Jacques Demy\, DEVANT la médiathèque (repli à la maison de la solidarité en cas de pluie). Ouvert à tou·tes. Boîtes de prix libre à disposition pour celles et ceux qui n’auraient rien à troquer. \nTu veux participer une heure ou plus comme bénévole ? Merci ! Inscription ici. Ou écris à Hélène : asso@lasolid.fr ou 06 33 56 20 56. \nDans le cadre de la Journée Internationale des Droits des Femmes\, La Solid’ profitera de cet événement pour proposer au public une animation « porteuses de paroles » proposée par les Super Féministes.
URL:https://www.lasolid.fr/evenement/grainofete-troc-de-graines-et-animations/
LOCATION:Médiathèque\, Place Jacques Demy\, Clisson\, 44190\, France
CATEGORIES:Café jardin,Environnement - Biodiversité,Pote Âgé
ATTACH;FMTTYPE=image/png:https://www.lasolid.fr/wp-content/uploads/Grainofete.png
ORGANIZER;CN="La Solid'":MAILTO:asso@lasolid.fr
END:VEVENT
BEGIN:VEVENT
DTSTART;TZID=Europe/Paris:20250308T200000
DTEND;TZID=Europe/Paris:20250308T223000
DTSTAMP:20260420T022840
CREATED:20250127T215435Z
LAST-MODIFIED:20250302T235143Z
UID:10001900-1741464000-1741473000@www.lasolid.fr
SUMMARY:Ciné-rencontres : Françoise d'Eaubonne une épopée écoféministe
DESCRIPTION:Samedi 8 mars… et durant tout le mois de mars : les assos et collectifs féministes du vignoble nantais célèbrent la Journée Internationale des Droits des Femmes. Marche militante depuis la gare de Clisson à l’initiative de Qui Nous Aime Nous Suive à 16h\, suivie d’un flash mob et de la chorale féministe du vendredi. \nTout le programme est ici. \nEn soirée au cinéma Le Connétable : Projection du documentaire Françoise d’Eaubonne une épopée écoféministe\, en présence de la réalisatrice Manon Aubel. Avec Désembobinage et Les Super Féministes.
URL:https://www.lasolid.fr/evenement/journee-internationale-des-droits-des-femmes-2/
LOCATION:Maison de la solidarité\, 1 rue des filatures\, Clisson\, 44190\, France
CATEGORIES:Environnement - Biodiversité,Rdv des Super Féministes,Tiers Lieu Ateliers Solidaires
ATTACH;FMTTYPE=image/png:https://www.lasolid.fr/wp-content/uploads/Francoise_dEaubonne_V4.png
ORGANIZER;CN="La Solid'":MAILTO:asso@lasolid.fr
END:VEVENT
BEGIN:VEVENT
DTSTART;TZID=Europe/Paris:20250316T100000
DTEND;TZID=Europe/Paris:20250316T170000
DTSTAMP:20260420T022840
CREATED:20250205T130831Z
LAST-MODIFIED:20250205T130831Z
UID:10001903-1742119200-1742144400@www.lasolid.fr
SUMMARY:Atelier taille douce au verger du nid d'oie
DESCRIPTION:Chantier citoyen\, intergénérationnel\, et convivial. \nAtelier pédagogique ouvert à tou·tes\, pour apprendre la taille douce des fruitiers et en particulier des pommiers\, avec les conseils d’Audrey Lemée\, arboricultrice bio de Cugand. \nC’est idéal de participer dès le matin et de venir bien équipé·es et avec des outils. \nMais tu peux aussi venir à tout moment et les mains dans les poches\, par simple curiosité. \nPique-nique partagé et possibles grillades le midi.
URL:https://www.lasolid.fr/evenement/atelier-taille-douce-au-verger-du-nid-doie-2/
LOCATION:Verger du nid d’oie\, Route de nid d'oie\, Clisson\, 44190\, France
CATEGORIES:Atelier des savoirs,Clubs CPN,Verger
ATTACH;FMTTYPE=image/jpeg:https://www.lasolid.fr/wp-content/uploads/taille-verger-1-scaled.jpg
ORGANIZER;CN="La Solid'":MAILTO:asso@lasolid.fr
END:VEVENT
BEGIN:VEVENT
DTSTART;TZID=Europe/Paris:20250319T103000
DTEND;TZID=Europe/Paris:20250319T120000
DTSTAMP:20260420T022840
CREATED:20241130T163037Z
LAST-MODIFIED:20250326T132756Z
UID:10001848-1742380200-1742385600@www.lasolid.fr
SUMMARY:Club Connaître et Protéger la Nature (3-6 ans) COMPLET
DESCRIPTION:La Solid’ relance un programme d’activités en pleine nature pour les enfants dès 3 ans\, animé par Jacky Gouband\, éducateur en environnement. Réservation\nobligatoire. \nContact (merci de préciser l’âge de votre enfant) : nature@lasolid.fr / 06 31 56 01 41 / www.lasolid.fr \n  \n  \n \nCrédit photo Freepik
URL:https://www.lasolid.fr/evenement/club-connaitre-et-proteger-la-nature-3-6-ans/2025-03-19/
LOCATION:Maison de la solidarité\, 1 rue des filatures\, Clisson\, 44190\, France
CATEGORIES:Clubs CPN,Environnement - Biodiversité
ATTACH;FMTTYPE=image/jpeg:https://www.lasolid.fr/wp-content/uploads/side-view-kids-exploring-nature-together-scaled.jpg
ORGANIZER;CN="La Solid'":MAILTO:asso@lasolid.fr
END:VEVENT
BEGIN:VEVENT
DTSTART;TZID=Europe/Paris:20250323T150000
DTEND;TZID=Europe/Paris:20250323T180000
DTSTAMP:20260420T022840
CREATED:20250206T224545Z
LAST-MODIFIED:20250319T161025Z
UID:10001909-1742742000-1742752800@www.lasolid.fr
SUMMARY:Balade nature et citoyenne\, spéciale PLU
DESCRIPTION:La Veille environnementale de la Solid’ est en alerte sur la révision du PLU (Plan Local d’Urbanisme) de la Ville de Clisson. Les bénévoles ont repéré deux sites particulièrement sensible\, où les terres et la biodiversité pourraient être menacées : \n– les prairies humides de la Callerie \n– le site du Hellfest \nAfin de bien comprendre de quels sites on parle\, des enjeux\, des menaces éventuelles\, la Veille environnementale de la Solid’ propose deux balades ouvertes à tou·tes\, entièrement libres et gratuites\, en présence de naturalistes bénévoles. \nRdv à 15h à La Maison de la Solidarité pour covoiturer ou faire un convoi à vélo d’abord vers les zones humides de la Caillerie. Puis à 17h rdv sur le parking principal du Hellfest. \nPour nous retrouver en cours de route : 06 33 56 20 56. \nBienvenue avec ou sans compétences naturalistes. \nCes balades nous permettront d’argumenter nos avis (collectifs ou individuels) lors de l’enquête publique dans le cadre de la révision du PLU qui devrait avoir lieu en avril. \n 
URL:https://www.lasolid.fr/evenement/balade-nature-speciale-plu/
LOCATION:Maison de la solidarité\, 1 rue des filatures\, Clisson\, 44190\, France
CATEGORIES:Atelier des savoirs,Café jardin,Clubs CPN,Environnement - Biodiversité,Réunions,Veille environnementale
ATTACH;FMTTYPE=image/jpeg:https://www.lasolid.fr/wp-content/uploads/adult-1867702_1280.jpg
ORGANIZER;CN="La Solid'":MAILTO:asso@lasolid.fr
END:VEVENT
BEGIN:VEVENT
DTSTART;TZID=Europe/Paris:20250329T143000
DTEND;TZID=Europe/Paris:20250329T160000
DTSTAMP:20260420T022840
CREATED:20250326T132126Z
LAST-MODIFIED:20250326T230833Z
UID:10001947-1743258600-1743264000@www.lasolid.fr
SUMMARY:Balade écoute des chants coteaux de Sèvre
DESCRIPTION:Rdv 14h30 Village vacances Henri IV avec Nadine. \nA partir de 8 ans. Gratuit\, ouvert à tou·tes\, dans le cadre des portes ouvertes du Village Vacance Henri IV Ternelia. \nTout le programme des portes ouvertes des gites ici : https://www.facebook.com/villagehenriIV \n  \n 
URL:https://www.lasolid.fr/evenement/balade-ecoute-des-chants-coteaux-de-sevre/
CATEGORIES:Clubs CPN,Environnement - Biodiversité
ATTACH;FMTTYPE=image/png:https://www.lasolid.fr/wp-content/uploads/OISEAUX.png
END:VEVENT
END:VCALENDAR