BEGIN:VCALENDAR
VERSION:2.0
PRODID:-//La Solid&#039; - ECPv6.13.2.1//NONSGML v1.0//EN
CALSCALE:GREGORIAN
METHOD:PUBLISH
X-ORIGINAL-URL:https://www.lasolid.fr
X-WR-CALDESC:Évènements pour La Solid&#039;
REFRESH-INTERVAL;VALUE=DURATION:PT1H
X-Robots-Tag:noindex
X-PUBLISHED-TTL:PT1H
BEGIN:VTIMEZONE
TZID:Europe/Paris
BEGIN:DAYLIGHT
TZOFFSETFROM:+0100
TZOFFSETTO:+0200
TZNAME:CEST
DTSTART:20250330T010000
END:DAYLIGHT
BEGIN:STANDARD
TZOFFSETFROM:+0200
TZOFFSETTO:+0100
TZNAME:CET
DTSTART:20251026T010000
END:STANDARD
END:VTIMEZONE
BEGIN:VEVENT
DTSTART;TZID=Europe/Paris:20250110T080000
DTEND;TZID=Europe/Paris:20250110T170000
DTSTAMP:20260420T055117
CREATED:20250110T211341Z
LAST-MODIFIED:20250110T211341Z
UID:10001893-1736496000-1736528400@www.lasolid.fr
SUMMARY:Comptage des oiseaux au Jardin de la Source
DESCRIPTION:COMPTAGE DES OISEAUX \nau jardin de la source derrière le cinéma DE CLISSON \nDIMANCHE 26 JANVIER 2025 À 11H \nANIMATION OUVERTE À TOU·TES\, OFFERTE PAR L’ASSOCIATION DE QUARTIER L’ÉCHO DU CHAMP DE FOIRE\, EN PARTENARIAT AVEC LA SOLID’ \nRENSEIGNEMENTS : LECHODUCHAMPDEFOIRE@LASOLID.FR \n  \n 
URL:https://www.lasolid.fr/evenement/comptage-des-oiseaux-au-jardin-de-la-source/
LOCATION:Maison de la solidarité\, 1 rue des filatures\, Clisson\, 44190\, France
CATEGORIES:Café jardin,Clubs CPN,Environnement - Biodiversité,Pote Âgé,Veille environnementale
ATTACH;FMTTYPE=image/jpeg:https://www.lasolid.fr/wp-content/uploads/Affiche-oiseaux.pdf.jpg
ORGANIZER;CN="La Solid'":MAILTO:asso@lasolid.fr
END:VEVENT
BEGIN:VEVENT
DTSTART;TZID=Europe/Paris:20250110T100000
DTEND;TZID=Europe/Paris:20250110T170000
DTSTAMP:20260420T055117
CREATED:20241129T210921Z
LAST-MODIFIED:20241206T001346Z
UID:10001878-1736503200-1736528400@www.lasolid.fr
SUMMARY:Chantier participatif : montage et peinture des toilettes sèches
DESCRIPTION:vendredi 10 janvier et samedi 11 janvier de 10h à 17h à la solid’ \nChantier participatif – Peinture et montage des toilettes sèches \nRedonnons un coup de neuf aux cabines de toilettes sèches de l’association !\nDepuis des années\, elles déambulent dans de nombreux évènements culturels dans le vignoble clissonnais. \nVenez découvrir la conception ingénieuse des cabines\, et participer au montage et à la peinture de l’ensemble. \nChantier collectif animé par Anne\, ouvert à tout public\, enfant accompagné pour la peinture. \n8 personnes. \nInscription auprès d’Anne par mail ou sms : ateliers@lasolid.fr / 06 31 56 00 47
URL:https://www.lasolid.fr/evenement/chantier-participatif-peinture-et-montage-des-toilettes-seches/2025-01-10/
LOCATION:Maison de la solidarité\, 1 rue des filatures\, Clisson\, 44190\, France
CATEGORIES:Environnement - Biodiversité,Good Wood,Tiers Lieu Ateliers Solidaires
ATTACH;FMTTYPE=image/jpeg:https://www.lasolid.fr/wp-content/uploads/Cabine-PMRext-scaled-e1727562427766.jpg
ORGANIZER;CN="La Solid'":MAILTO:asso@lasolid.fr
END:VEVENT
BEGIN:VEVENT
DTSTART;TZID=Europe/Paris:20250111T100000
DTEND;TZID=Europe/Paris:20250111T170000
DTSTAMP:20260420T055117
CREATED:20241206T011812Z
LAST-MODIFIED:20241206T011818Z
UID:10001879-1736589600-1736614800@www.lasolid.fr
SUMMARY:Chantier participatif : montage et peinture des toilettes sèches
DESCRIPTION:vendredi 10 janvier et samedi 11 janvier de 10h à 17h à la solid’ \nChantier participatif – Peinture et montage des toilettes sèches \nRedonnons un coup de neuf aux cabines de toilettes sèches de l’association !\nDepuis des années\, elles déambulent dans de nombreux évènements culturels dans le vignoble clissonnais. \nVenez découvrir la conception ingénieuse des cabines\, et participer au montage et à la peinture de l’ensemble. \nChantier collectif animé par Anne\, ouvert à tout public\, enfant accompagné pour la peinture. \n8 personnes. \nInscription auprès d’Anne par mail ou sms : ateliers@lasolid.fr / 06 31 56 00 47
URL:https://www.lasolid.fr/evenement/chantier-participatif-peinture-et-montage-des-toilettes-seches-2/
LOCATION:Maison de la solidarité\, 1 rue des filatures\, Clisson\, 44190\, France
CATEGORIES:Environnement - Biodiversité,Good Wood,Tiers Lieu Ateliers Solidaires
ATTACH;FMTTYPE=image/jpeg:https://www.lasolid.fr/wp-content/uploads/Cabine-PMRext-scaled-e1727562427766.jpg
ORGANIZER;CN="La Solid'":MAILTO:asso@lasolid.fr
END:VEVENT
BEGIN:VEVENT
DTSTART;TZID=Europe/Paris:20250114T183000
DTEND;TZID=Europe/Paris:20250114T203000
DTSTAMP:20260420T055117
CREATED:20241024T172022Z
LAST-MODIFIED:20250106T003405Z
UID:10001886-1736879400-1736886600@www.lasolid.fr
SUMMARY:Réunion veille environnementale
DESCRIPTION:Rencontre des citoyen-nes vigilant-es de La Solid’\, qui travaillent sur des dossiers en lien avec les déchets\, la mobilité\, le PLU\, le SCOT\, le végétal en ville\, les pollutions\, qualité de l’eau et de l’air… Les dossiers sont nombreux ! Rejoins-nous !
URL:https://www.lasolid.fr/evenement/reunion-veille-environnementale-11/2025-01-14/
LOCATION:Maison de la solidarité\, 1 rue des filatures\, Clisson\, 44190\, France
CATEGORIES:Veille environnementale
ATTACH;FMTTYPE=image/jpeg:https://www.lasolid.fr/wp-content/uploads/20221008_105018.jpg
ORGANIZER;CN="La Solid'":MAILTO:asso@lasolid.fr
END:VEVENT
BEGIN:VEVENT
DTSTART;TZID=Europe/Paris:20250114T183000
DTEND;TZID=Europe/Paris:20250114T203000
DTSTAMP:20260420T055117
CREATED:20250205T174749Z
LAST-MODIFIED:20250205T174908Z
UID:10001906-1736879400-1736886600@www.lasolid.fr
SUMMARY:Réunion veille environnementale
DESCRIPTION:Rencontre des citoyen-nes vigilant-es de La Solid’\, qui travaillent sur des dossiers en lien avec les déchets\, la mobilité\, le PLU\, le SCOT\, le végétal en ville\, les pollutions\, qualité de l’eau et de l’air… Les dossiers sont nombreux ! Rejoins-nous !
URL:https://www.lasolid.fr/evenement/reunion-veille-environnementale-12/2025-01-14/
LOCATION:Maison de la solidarité\, 1 rue des filatures\, Clisson\, 44190\, France
CATEGORIES:Veille environnementale
ATTACH;FMTTYPE=image/jpeg:https://www.lasolid.fr/wp-content/uploads/20221008_105018.jpg
ORGANIZER;CN="La Solid'":MAILTO:asso@lasolid.fr
END:VEVENT
BEGIN:VEVENT
DTSTART;TZID=Europe/Paris:20250126T110000
DTEND;TZID=Europe/Paris:20250126T123000
DTSTAMP:20260420T055117
CREATED:20250113T003242Z
LAST-MODIFIED:20250113T003242Z
UID:10001894-1737889200-1737894600@www.lasolid.fr
SUMMARY:Comptage des oiseaux du Jardin de la Source
DESCRIPTION:A l’invitation de l’association de quartier L’écho du champ de foire\, les bénévoles de La Solid’ accompagneront les habitant·es à l’opération « comptage des oiseaux » du jardin de la source\, jardins familiaux derrière le cinéma de Clisson. \nLes haies spontanées qui bordent ce jardin\, la source\, les grands arbres du chemin creux\, le potager au naturel font de ce sit un havre pour la biodiversité… bientôt menacé par un projet de parking ??? \nUn premier relevé avait été réalisé en 2024. \nOpération de comptage ouverte à tou·tes et gratuite\, avec ou sans connaissance naturaliste\, dans le cadre de l’opération nationale : \nhttps://www.lpo.fr/s-engager-a-nos-cotes/sciences-participatives/observatoire-oiseaux-des-jardins/25-et-26-janvier-2025-comptage-national-des-oiseaux-des-jardins \n 
URL:https://www.lasolid.fr/evenement/comptage-des-oiseaux-du-jardin-de-la-source/
LOCATION:Jardin de la source\, chemin des cressionnières\, Clisson\, 44190\, France
CATEGORIES:Café jardin,Clubs CPN,Environnement - Biodiversité,Pote Âgé,Veille environnementale
ATTACH;FMTTYPE=image/jpeg:https://www.lasolid.fr/wp-content/uploads/Affiche-oiseaux.pdf1_.jpg
END:VEVENT
BEGIN:VEVENT
DTSTART;TZID=Europe/Paris:20250128T180000
DTEND;TZID=Europe/Paris:20250128T200000
DTSTAMP:20260420T055117
CREATED:20250116T193642Z
LAST-MODIFIED:20250127T170405Z
UID:10001897-1738087200-1738094400@www.lasolid.fr
SUMMARY:Galette spéciale Jardins
DESCRIPTION:Les bénévoles et personnes intéressées par nos activités Jardins sont bienvenues ! \nAdresse communiquée par sms : 06 33 56 20 56. \nViens avec tes trucs\, bons plans\, podcasts\, livres\, ressources… à partager ! \nRdv intergénérationnel\, sympathique\, de rencontres\, d’échanges et de partage. \nNous en profiterons pour discuter des projets Jardins de la Solid’ pour 2025. \nBienvenue !
URL:https://www.lasolid.fr/evenement/galette-speciale-jardins/
CATEGORIES:Café jardin,Pote Âgé
ATTACH;FMTTYPE=image/jpeg:https://www.lasolid.fr/wp-content/uploads/jardin-3-scaled.jpg
ORGANIZER;CN="La Solid'":MAILTO:asso@lasolid.fr
END:VEVENT
BEGIN:VEVENT
DTSTART;TZID=Europe/Paris:20250129T103000
DTEND;TZID=Europe/Paris:20250129T120000
DTSTAMP:20260420T055117
CREATED:20241130T163037Z
LAST-MODIFIED:20250326T132756Z
UID:10001846-1738146600-1738152000@www.lasolid.fr
SUMMARY:Club Connaître et Protéger la Nature (3-6 ans) COMPLET
DESCRIPTION:La Solid’ relance un programme d’activités en pleine nature pour les enfants dès 3 ans\, animé par Jacky Gouband\, éducateur en environnement. Réservation\nobligatoire. \nContact (merci de préciser l’âge de votre enfant) : nature@lasolid.fr / 06 31 56 01 41 / www.lasolid.fr \n  \n  \n \nCrédit photo Freepik
URL:https://www.lasolid.fr/evenement/club-connaitre-et-proteger-la-nature-3-6-ans/2025-01-29/
LOCATION:Maison de la solidarité\, 1 rue des filatures\, Clisson\, 44190\, France
CATEGORIES:Clubs CPN,Environnement - Biodiversité
ATTACH;FMTTYPE=image/jpeg:https://www.lasolid.fr/wp-content/uploads/side-view-kids-exploring-nature-together-scaled.jpg
ORGANIZER;CN="La Solid'":MAILTO:asso@lasolid.fr
END:VEVENT
BEGIN:VEVENT
DTSTART;TZID=Europe/Paris:20250131T170000
DTEND;TZID=Europe/Paris:20250131T180000
DTSTAMP:20260420T055117
CREATED:20250116T185143Z
LAST-MODIFIED:20250116T185229Z
UID:10001895-1738342800-1738346400@www.lasolid.fr
SUMMARY:Portes ouvertes à la Solid' !
DESCRIPTION:Pour accueillir toute personne curieuse\, intéressée par nos actions\, qui se pose des questions\, aimerait adhérer\, devenir bénévole… La Solid’ organise des mini-portes ouvertes et une permanence d’accueil\, ce vendredi 31 janvier de 17h à 18h\, avant le Conseil Associatif ouvert à tou·tes les adhérent·es de La Solid’ à 18h30 (suivi d’une soirée conviviale et festive ouverte à tou·tes\, avec un karaoké « woke » organisé par les Super Féministes). \nBienvenue à tou·tes !
URL:https://www.lasolid.fr/evenement/portes-ouvertes-a-la-solid/
LOCATION:Maison de la solidarité\, 1 rue des filatures\, Clisson\, 44190\, France
CATEGORIES:Autres,Environnement - Biodiversité,Tiers Lieu Ateliers Solidaires,Vélo
ATTACH;FMTTYPE=image/png:https://www.lasolid.fr/wp-content/uploads/favicon-site.png
ORGANIZER;CN="La Solid'":MAILTO:asso@lasolid.fr
END:VEVENT
END:VCALENDAR