BEGIN:VCALENDAR
VERSION:2.0
PRODID:-//La Solid&#039; - ECPv6.13.2.1//NONSGML v1.0//EN
CALSCALE:GREGORIAN
METHOD:PUBLISH
X-WR-CALNAME:La Solid&#039;
X-ORIGINAL-URL:https://www.lasolid.fr
X-WR-CALDESC:Évènements pour La Solid&#039;
REFRESH-INTERVAL;VALUE=DURATION:PT1H
X-Robots-Tag:noindex
X-PUBLISHED-TTL:PT1H
BEGIN:VTIMEZONE
TZID:Europe/Paris
BEGIN:DAYLIGHT
TZOFFSETFROM:+0100
TZOFFSETTO:+0200
TZNAME:CEST
DTSTART:20240331T010000
END:DAYLIGHT
BEGIN:STANDARD
TZOFFSETFROM:+0200
TZOFFSETTO:+0100
TZNAME:CET
DTSTART:20241027T010000
END:STANDARD
END:VTIMEZONE
BEGIN:VEVENT
DTSTART;TZID=Europe/Paris:20241108T140000
DTEND;TZID=Europe/Paris:20241108T160000
DTSTAMP:20260420T085353
CREATED:20240928T222735Z
LAST-MODIFIED:20241025T101839Z
UID:10001781-1731074400-1731081600@www.lasolid.fr
SUMMARY:Commission Toilettes sèches
DESCRIPTION:RDV INITIALEMENT PREVU LE 7/11\, DECALE AU 8/11 A 14H \nRéunion des salarié·es et bénévoles qui ont travaillé sur les prestations de toilettes sèches (au château de Clisson et en événementiels) \net accueil des bénévoles qui aimeraient préserver nos ressources en eau… et les ressources financières de l’asso ! \nBienvenue pour le bilan de la saison 2024 et préparer 2025. \nToutes les bonnes volontés sont bienvenues !
URL:https://www.lasolid.fr/evenement/commission-toilettes-seches/
LOCATION:Maison de la solidarité\, 1 rue des filatures\, Clisson\, 44190\, France
CATEGORIES:Environnement - Biodiversité,Réunions
ATTACH;FMTTYPE=image/jpeg:https://www.lasolid.fr/wp-content/uploads/Cabine-PMRext-scaled-e1727562427766.jpg
ORGANIZER;CN="La Solid'":MAILTO:asso@lasolid.fr
END:VEVENT
BEGIN:VEVENT
DTSTART;TZID=Europe/Paris:20241112T183000
DTEND;TZID=Europe/Paris:20241112T203000
DTSTAMP:20260420T085353
CREATED:20241024T172022Z
LAST-MODIFIED:20250106T003405Z
UID:10001795-1731436200-1731443400@www.lasolid.fr
SUMMARY:Réunion veille environnementale
DESCRIPTION:Rencontre des citoyen-nes vigilant-es de La Solid’\, qui travaillent sur des dossiers en lien avec les déchets\, la mobilité\, le PLU\, le SCOT\, le végétal en ville\, les pollutions\, qualité de l’eau et de l’air… Les dossiers sont nombreux ! Rejoins-nous !
URL:https://www.lasolid.fr/evenement/reunion-veille-environnementale-11/2024-11-12/
LOCATION:Maison de la solidarité\, 1 rue des filatures\, Clisson\, 44190\, France
CATEGORIES:Veille environnementale
ATTACH;FMTTYPE=image/jpeg:https://www.lasolid.fr/wp-content/uploads/20221008_105018.jpg
ORGANIZER;CN="La Solid'":MAILTO:asso@lasolid.fr
END:VEVENT
BEGIN:VEVENT
DTSTART;TZID=Europe/Paris:20241112T183000
DTEND;TZID=Europe/Paris:20241112T203000
DTSTAMP:20260420T085353
CREATED:20250205T174749Z
LAST-MODIFIED:20250205T174908Z
UID:10001904-1731436200-1731443400@www.lasolid.fr
SUMMARY:Réunion veille environnementale
DESCRIPTION:Rencontre des citoyen-nes vigilant-es de La Solid’\, qui travaillent sur des dossiers en lien avec les déchets\, la mobilité\, le PLU\, le SCOT\, le végétal en ville\, les pollutions\, qualité de l’eau et de l’air… Les dossiers sont nombreux ! Rejoins-nous !
URL:https://www.lasolid.fr/evenement/reunion-veille-environnementale-12/2024-11-12/
LOCATION:Maison de la solidarité\, 1 rue des filatures\, Clisson\, 44190\, France
CATEGORIES:Veille environnementale
ATTACH;FMTTYPE=image/jpeg:https://www.lasolid.fr/wp-content/uploads/20221008_105018.jpg
ORGANIZER;CN="La Solid'":MAILTO:asso@lasolid.fr
END:VEVENT
BEGIN:VEVENT
DTSTART;TZID=Europe/Paris:20241126T190000
DTEND;TZID=Europe/Paris:20241126T223000
DTSTAMP:20260420T085353
CREATED:20240913T161621Z
LAST-MODIFIED:20241118T174748Z
UID:10001774-1732647600-1732660200@www.lasolid.fr
SUMMARY:Projection et échanges "La théorie du boxeur"
DESCRIPTION:Ciné-débat mardi 26 novembre à Clisson\, autour du film La Théorie du boxeur.\n\nAgriculture\, alimentation et dérèglements climatiques.\nSoirée ouverte à tou-tes au Connétable\, à prix libre.\nRencontres\, dégustations\, vente de livres avec la Librairie-café Les Villes Invisibles dès 19h dans le hall du cinéma le Connétable.\nProjection à 20h suivie d’un débat avec des agriculteurs locaux.\n\nSoirée co-organisée par Moneko\, Désembobinage\, la CIGALES clissonnaise et la Veille environnementale de La Solid’.\nDans le cadre du festival Alimenterre.\n\nVenez en nombre\, nous aurons la grande salle du cinéma Le Connétable ! Merci à cette asso  !
URL:https://www.lasolid.fr/evenement/projection-et-echanges-la-theorie-du-boxeur/
CATEGORIES:Autres,Environnement - Biodiversité,Veille environnementale
ATTACH;FMTTYPE=image/png:https://www.lasolid.fr/wp-content/uploads/Visuel_Affiche.png
ORGANIZER;CN="La Solid'":MAILTO:asso@lasolid.fr
END:VEVENT
END:VCALENDAR