BEGIN:VCALENDAR
VERSION:2.0
PRODID:-//La Solid&#039; - ECPv6.13.2.1//NONSGML v1.0//EN
CALSCALE:GREGORIAN
METHOD:PUBLISH
X-WR-CALNAME:La Solid&#039;
X-ORIGINAL-URL:https://www.lasolid.fr
X-WR-CALDESC:Évènements pour La Solid&#039;
REFRESH-INTERVAL;VALUE=DURATION:PT1H
X-Robots-Tag:noindex
X-PUBLISHED-TTL:PT1H
BEGIN:VTIMEZONE
TZID:Europe/Paris
BEGIN:DAYLIGHT
TZOFFSETFROM:+0100
TZOFFSETTO:+0200
TZNAME:CEST
DTSTART:20240331T010000
END:DAYLIGHT
BEGIN:STANDARD
TZOFFSETFROM:+0200
TZOFFSETTO:+0100
TZNAME:CET
DTSTART:20241027T010000
END:STANDARD
END:VTIMEZONE
BEGIN:VEVENT
DTSTART;TZID=Europe/Paris:20241001T183000
DTEND;TZID=Europe/Paris:20241001T203000
DTSTAMP:20260420T103037
CREATED:20240828T154555Z
LAST-MODIFIED:20241004T213259Z
UID:10001767-1727807400-1727814600@www.lasolid.fr
SUMMARY:Réunion Veille environnementale
DESCRIPTION:Merci de te signaler avant de te déplacer : nous t’informerons du lieu de rendez-vous et des dossiers en cours. \nNouvelles et nouveaux bénévoles bienvenu·es : les dossiers sont nombreux !
URL:https://www.lasolid.fr/evenement/reunion-veille-environnementale-10/2024-10-01/
CATEGORIES:Environnement - Biodiversité,Veille environnementale
ATTACH;FMTTYPE=image/jpeg:https://www.lasolid.fr/wp-content/uploads/20221008_105018.jpg
ORGANIZER;CN="La Solid'":MAILTO:asso@lasolid.fr
END:VEVENT
BEGIN:VEVENT
DTSTART;TZID=Europe/Paris:20241005T180000
DTEND;TZID=Europe/Paris:20241005T233000
DTSTAMP:20260420T103037
CREATED:20240829T212918Z
LAST-MODIFIED:20240930T231449Z
UID:10001768-1728151200-1728171000@www.lasolid.fr
SUMMARY:Conseil Associatif de rentrée
DESCRIPTION:Rendez-vous ouvert à tou·tes nos membres pour un Conseil Associatif de rentrée\, suivi d’un repas offert à 19h30 et d’une soirée festive (on rejoindra Jardin d’Eden à Gétigné à partir de 21h). \nAtelier cuisine en milieu de journée. Intéressé·e ? Contacte-nous ! \nOrdre du jour du CA transmis par mal aux adhérent·es. \n 
URL:https://www.lasolid.fr/evenement/conseil-associatif-de-rentree-3/
LOCATION:Maison de la solidarité\, 1 rue des filatures\, Clisson\, 44190\, France
CATEGORIES:Autres,Environnement - Biodiversité,Réunions,Tiers Lieu Ateliers Solidaires,Vélo
ATTACH;FMTTYPE=image/jpeg:https://www.lasolid.fr/wp-content/uploads/IMG20210830191728-1-scaled.jpg
ORGANIZER;CN="La Solid'":MAILTO:asso@lasolid.fr
END:VEVENT
BEGIN:VEVENT
DTSTART;VALUE=DATE:20241018
DTEND;VALUE=DATE:20241021
DTSTAMP:20260420T103037
CREATED:20240701T132013Z
LAST-MODIFIED:20240930T231737Z
UID:10001725-1729209600-1729468799@www.lasolid.fr
SUMMARY:Festiverde
DESCRIPTION:Festival éco-artistique : Voyage au coeur du végétal \nDans les rues de Clisson du 18 au 20 octobre 2024. 1ère édition ! \nToute la programmation gratuite et ouverte à tou·tes est à découvrir ici. \nRéservation ouverte pour les balades\, ateliers et sorties nature.
URL:https://www.lasolid.fr/evenement/festiverde/
LOCATION:Maison de la solidarité\, 1 rue des filatures\, Clisson\, 44190\, France
CATEGORIES:Café jardin,Environnement - Biodiversité,Pote Âgé,Verger
ATTACH;FMTTYPE=image/png:https://www.lasolid.fr/wp-content/uploads/Capture-decran-2024-07-01-a-15.17.50.png
ORGANIZER;CN="La Solid'":MAILTO:asso@lasolid.fr
END:VEVENT
BEGIN:VEVENT
DTSTART;TZID=Europe/Paris:20241021T094500
DTEND;TZID=Europe/Paris:20241021T120000
DTSTAMP:20260420T103037
CREATED:20241011T174551Z
LAST-MODIFIED:20241019T155539Z
UID:10001788-1729503900-1729512000@www.lasolid.fr
SUMMARY:Sortie champignons en famille en forêt de Grasla
DESCRIPTION:Déjà l’automne et bientôt les vacances ! Une sortie « champignons » en famille ça te dit ? Notre nouvel animateur nature\, Jacky\, t’accompagne en forêt de Grasla pour une sortie champignons\, ouverte à tou·tes\, petit·es et grand·es. Découverte de la vie des champignons\, cueillette… et autres surprises de la nature au détour des sentiers forestiers !\n\n\n \n\n\nBalade intergénérationnelle\, de 0 à 100 ans\, ouverte aux personnes à mobilité réduite. Si tu es dans cette situation\, merci de nous prévenir : nature@lasolid.fr\, afin que nous adaptions le parcours en fonction.\n\n\n \n\n\nRendez-vous à 9h45 sur le parking du refuge de Grasla aux Brouzils (Nord-Vendée). Retour prévu à 12h. Pense à apporter une tenue adaptée\, des bottes\, un panier\, un couteau\, une gourde. Les enfants seront sous la responsabilité des adultes qui les accompagnent. La sortie ne sera reportée ou annulée qu’en cas de météo dangereuse. Sortie maintenue en cas de pluie modérée.\n\n\n \n\n\nRenseignements : nature@lasolid.fr ou 02 85 52 45 21. En cas d’urgence seulement : 06 10 51 62 39.\n\n\n \n\n\nSortie sans réservation\, ouverte à tou·tes (adhérent·es ou non de La Solid’) à prix libre et conscient (chèque ou espèces)\, selon tes moyens. \n\n\n\nTu aimerais covoiturer au départ de Clisson ? Rdv à la maison de la solidarité ce lundi à 9h pour covoiturer !\n\n\n\n \n\n\nBienvenue !\n\n\n \n\n\n\n\n\n 
URL:https://www.lasolid.fr/evenement/sortie-champignons-en-famille-en-foret-de-grasla/
LOCATION:Refuge de grasla Les Brouzils\, Forêt de Grasal\, Les Brouzils\, 85\, France
CATEGORIES:Clubs CPN,Environnement - Biodiversité,Pote Âgé
ATTACH;FMTTYPE=image/jpeg:https://www.lasolid.fr/wp-content/uploads/mushrooms-548360_1280.jpg
ORGANIZER;CN="La Solid'":MAILTO:asso@lasolid.fr
END:VEVENT
BEGIN:VEVENT
DTSTART;TZID=Europe/Paris:20241021T180000
DTEND;TZID=Europe/Paris:20241021T193000
DTSTAMP:20260420T103037
CREATED:20241010T193551Z
LAST-MODIFIED:20241019T174106Z
UID:10001787-1729533600-1729539000@www.lasolid.fr
SUMMARY:Café (apéro ?) Jardin - spécial Graines - chez Damien
DESCRIPTION:Damien nous invite pour 1h30 de convivialité et de mise en sachet des graines de la grainothèque\, en prévision du Troc plants du 26 octobre matin. \nChez Damien : 4 rue du Haut Fief à Cugand. \nViens les mains dans les poches\, ou avec tes graines en trop\, avec quelques noisettes voire cacahouètes\, ou des breuvages en partage. Manuel apportera notre grainothèque. Mission du soir : trier et mettre en sachets nos graines de légumes\, aromatiques et fleurs… à partager\, en papotant\, grignotant\, sirotant.
URL:https://www.lasolid.fr/evenement/cafe-jardin-preparation-du-troc-plants/
CATEGORIES:Café jardin,Environnement - Biodiversité
ATTACH;FMTTYPE=image/jpeg:https://www.lasolid.fr/wp-content/uploads/jardin-3-scaled.jpg
ORGANIZER;CN="La Solid'":MAILTO:asso@lasolid.fr
END:VEVENT
BEGIN:VEVENT
DTSTART;TZID=Europe/Paris:20241022T173000
DTEND;TZID=Europe/Paris:20241022T190000
DTSTAMP:20260420T103037
CREATED:20240928T224203Z
LAST-MODIFIED:20240928T231337Z
UID:10001782-1729618200-1729623600@www.lasolid.fr
SUMMARY:Commission Finances et Budget
DESCRIPTION:Réunion ouverte aux bénévoles qui ont des compétences en gestion et/ou comptabilité\, en soutien à l’équipe permanente et au bureau. \nContacte-nous avant de venir\, on te partagera les éléments à analyser avec nous…
URL:https://www.lasolid.fr/evenement/commission-finances-et-budget/
LOCATION:Maison de la solidarité\, 1 rue des filatures\, Clisson\, 44190\, France
CATEGORIES:Autres,Environnement - Biodiversité,Réunions,Tiers Lieu Ateliers Solidaires,Vélo
ATTACH;FMTTYPE=image/jpeg:https://www.lasolid.fr/wp-content/uploads/les-ptits-gars-du-verger-4.jpg
ORGANIZER;CN="La Solid'":MAILTO:asso@lasolid.fr
END:VEVENT
BEGIN:VEVENT
DTSTART;TZID=Europe/Paris:20241026T100000
DTEND;TZID=Europe/Paris:20241026T130000
DTSTAMP:20260420T103037
CREATED:20241024T161543Z
LAST-MODIFIED:20241024T212426Z
UID:10001794-1729936800-1729947600@www.lasolid.fr
SUMMARY:Troc plants graines et vide-jardin
DESCRIPTION:Entièrement libre\, et sans réservation. Bienvenue à tout moment entre 10h et 13h. \nTu peux venir les mains vides ou brouette pleine : bulbes\, arbres\, arbustes\, plantes d’intérieur\, graines\, outils\, livres de jardinage… Boîte de prix libre et conscient pour celles et ceux qui n’auraient rien à troquer. \nPour t’inscrire comme bénévole\, une heur ou plus\, c’est ici. A samedi !
URL:https://www.lasolid.fr/evenement/troc-plants-graines-et-vide-jardin-2/
LOCATION:Maison de la solidarité\, 1 rue des filatures\, Clisson\, 44190\, France
CATEGORIES:Café jardin,Environnement - Biodiversité,Pote Âgé,Verger
ATTACH;FMTTYPE=image/jpeg:https://www.lasolid.fr/wp-content/uploads/Design-sans-titre.jpg
ORGANIZER;CN="La Solid'":MAILTO:asso@lasolid.fr
END:VEVENT
BEGIN:VEVENT
DTSTART;TZID=Europe/Paris:20241030T150000
DTEND;TZID=Europe/Paris:20241030T170000
DTSTAMP:20260420T103037
CREATED:20241019T140256Z
LAST-MODIFIED:20241019T142334Z
UID:10001789-1730300400-1730307600@www.lasolid.fr
SUMMARY:Chantier nature intergénérationnel au verger du nid d'oie
DESCRIPTION:Bienvenue entre 15h et 17h au verger pédagogique du nid d’oie\, sauvé des bulldozers par nos bénévoles. \nViens nous aider à finir de récolter les pommes\, arranger la spirale aromatique… échanges avec les animateurs Jacky (animateur nature) et Fred (jardinier) sur la gestion des espaces naturels et la biodiversité en ville. \nIl y en aura pour toutes les petites mains et compétences. \nGratuit\, ouvert à tou-tes. Merci d’avance pour ta participation !
URL:https://www.lasolid.fr/evenement/chantier-nature-intergenerationnel-au-verger-du-nid-doie/
LOCATION:Verger du nid d’oie\, Route de nid d'oie\, Clisson\, 44190\, France
CATEGORIES:Environnement - Biodiversité,Verger
ATTACH;FMTTYPE=image/jpeg:https://www.lasolid.fr/wp-content/uploads/taille-verger-1-scaled.jpg
ORGANIZER;CN="La Solid'":MAILTO:asso@lasolid.fr
END:VEVENT
END:VCALENDAR