BEGIN:VCALENDAR
VERSION:2.0
PRODID:-//La Solid&#039; - ECPv6.13.2.1//NONSGML v1.0//EN
CALSCALE:GREGORIAN
METHOD:PUBLISH
X-ORIGINAL-URL:https://www.lasolid.fr
X-WR-CALDESC:Évènements pour La Solid&#039;
REFRESH-INTERVAL;VALUE=DURATION:PT1H
X-Robots-Tag:noindex
X-PUBLISHED-TTL:PT1H
BEGIN:VTIMEZONE
TZID:Europe/Paris
BEGIN:DAYLIGHT
TZOFFSETFROM:+0100
TZOFFSETTO:+0200
TZNAME:CEST
DTSTART:20240331T010000
END:DAYLIGHT
BEGIN:STANDARD
TZOFFSETFROM:+0200
TZOFFSETTO:+0100
TZNAME:CET
DTSTART:20241027T010000
END:STANDARD
END:VTIMEZONE
BEGIN:VEVENT
DTSTART;TZID=Europe/Paris:20240827T183000
DTEND;TZID=Europe/Paris:20240827T200000
DTSTAMP:20260420T133316
CREATED:20240725T134959Z
LAST-MODIFIED:20240725T135202Z
UID:10001739-1724783400-1724788800@www.lasolid.fr
SUMMARY:Réunion Veille environnementale
DESCRIPTION:Merci de te signaler avant de te déplacer : nous t’informerons du lieu de rendez-vous et des dossiers en cours. \nNouvelles et nouveaux bénévoles bienvenu·es : les dossiers sont nombreux !
URL:https://www.lasolid.fr/evenement/reunion-veille-environnementale-8/2024-08-27/
CATEGORIES:Environnement - Biodiversité,Veille environnementale
ATTACH;FMTTYPE=image/jpeg:https://www.lasolid.fr/wp-content/uploads/20221008_105018.jpg
ORGANIZER;CN="La Solid'":MAILTO:asso@lasolid.fr
END:VEVENT
BEGIN:VEVENT
DTSTART;TZID=Europe/Paris:20240827T183000
DTEND;TZID=Europe/Paris:20240827T200000
DTSTAMP:20260420T133316
CREATED:20240828T154555Z
LAST-MODIFIED:20241004T213259Z
UID:10001766-1724783400-1724788800@www.lasolid.fr
SUMMARY:Réunion Veille environnementale
DESCRIPTION:Merci de te signaler avant de te déplacer : nous t’informerons du lieu de rendez-vous et des dossiers en cours. \nNouvelles et nouveaux bénévoles bienvenu·es : les dossiers sont nombreux !
URL:https://www.lasolid.fr/evenement/reunion-veille-environnementale-10/2024-08-27/
CATEGORIES:Environnement - Biodiversité,Veille environnementale
ATTACH;FMTTYPE=image/jpeg:https://www.lasolid.fr/wp-content/uploads/20221008_105018.jpg
ORGANIZER;CN="La Solid'":MAILTO:asso@lasolid.fr
END:VEVENT
BEGIN:VEVENT
DTSTART;TZID=Europe/Paris:20240829T180000
DTEND;TZID=Europe/Paris:20240829T200000
DTSTAMP:20260420T133316
CREATED:20240820T114713Z
LAST-MODIFIED:20240820T115041Z
UID:10001741-1724954400-1724961600@www.lasolid.fr
SUMMARY:Café Jardin chez Catherine à la Guyonnière
DESCRIPTION:Jeudi 29 août\, ce sera la rentrée des Cafés Jardins : rendez-vous convivial\, intergénérationnel\, ouvert à tou·tes et gratuit\, pour échanger entre jardinières et jardiniers\, débutant·es ou confirmé·es.\n\nProchain rendez-vous le 29 août à partir de 18h : dans le jardin de Catherine dans le joli village de la Guyonnière\, près de Montaigu. Merci Catherine pour l’accueil ! Adresse communiquée sur réservation : asso@lasolid.fr ou 02 85 52 45 21.\n\nAu programme : visite du jardin\, partage de trucs et astuces\, échanges autour d’un verre et de grignotages apportés par chacun·e.\n\nThématique d’échanges possibles : « Engagement\, écologie et solidarité au jardin : mes envies\, mes besoins pour la saison qui vient ».\n\nCette soirée est ouverte à tou·tes\, adhérent·es ou non de la Solid’\, jeunes pousses ou « potes âgés ». Au plaisir de se rencontrer !\nCovoiturage possible au départ de Clisson : il suffit de demander ! asso@lasolid.fr
URL:https://www.lasolid.fr/evenement/cafe-jardin-chez-catherine-a-la-guyonniere/
CATEGORIES:Café jardin,Environnement - Biodiversité
ATTACH;FMTTYPE=image/png:https://www.lasolid.fr/wp-content/uploads/Capture-decran-2024-08-02-a-15.21.12.png
ORGANIZER;CN="La Solid'":MAILTO:asso@lasolid.fr
END:VEVENT
BEGIN:VEVENT
DTSTART;VALUE=DATE:20240830
DTEND;VALUE=DATE:20240908
DTSTAMP:20260420T133316
CREATED:20240830T154253Z
LAST-MODIFIED:20240905T172831Z
UID:10001769-1724976000-1725753599@www.lasolid.fr
SUMMARY:La Solid' recrute !
DESCRIPTION:LA SOLID’ RECRUTE ! Deux offres d’emploi d’animateur·ice\, à pourvoir dès que possible : \n– un poste d’animateur·ice pour notre Tiers Lieu (profil manuel) à lire ici  POSTE POURVU !\n– un poste d’éducateur·ice en Environnement (profil naturaliste) à lire là. \nMerci de bien vouloir faire circuler les annonces !
URL:https://www.lasolid.fr/evenement/la-solid-recrute-2/
LOCATION:Maison de la solidarité\, 1 rue des filatures\, Clisson\, 44190\, France
CATEGORIES:Atelier des savoirs,Autres,Café jardin,Clubs CPN,Environnement - Biodiversité,Fil Good,Good Steel,Good Wood,Pote Âgé,Rdv des Super Féministes,Tiers Lieu Ateliers Solidaires,Veille environnementale,Verger
ATTACH;FMTTYPE=image/png:https://www.lasolid.fr/wp-content/uploads/envir1.png
ORGANIZER;CN="La Solid'":MAILTO:asso@lasolid.fr
END:VEVENT
END:VCALENDAR