BEGIN:VCALENDAR
VERSION:2.0
PRODID:-//La Solid&#039; - ECPv6.13.2.1//NONSGML v1.0//EN
CALSCALE:GREGORIAN
METHOD:PUBLISH
X-ORIGINAL-URL:https://www.lasolid.fr
X-WR-CALDESC:Évènements pour La Solid&#039;
REFRESH-INTERVAL;VALUE=DURATION:PT1H
X-Robots-Tag:noindex
X-PUBLISHED-TTL:PT1H
BEGIN:VTIMEZONE
TZID:Europe/Paris
BEGIN:DAYLIGHT
TZOFFSETFROM:+0100
TZOFFSETTO:+0200
TZNAME:CEST
DTSTART:20240331T010000
END:DAYLIGHT
BEGIN:STANDARD
TZOFFSETFROM:+0200
TZOFFSETTO:+0100
TZNAME:CET
DTSTART:20241027T010000
END:STANDARD
END:VTIMEZONE
BEGIN:VEVENT
DTSTART;TZID=Europe/Paris:20240601T100000
DTEND;TZID=Europe/Paris:20240601T160000
DTSTAMP:20260420T165434
CREATED:20240213T162451Z
LAST-MODIFIED:20240213T162451Z
UID:10001628-1717236000-1717257600@www.lasolid.fr
SUMMARY:Club CPN intergénérationnel + chantier nature au verger du nid d'oie
DESCRIPTION:La Solid’ ouvre un club Connaître et Protéger la Nature pour adultes et seniors\, animé par Maxime\, au verger pédagogique du Nid d’oie. \nSéance d’identification des insectes le matin (10h-12)\, pique-nique possible le midi + chantier nature d’entretien du site l’après-midi. \nOuvert à tou·tes ! \n \n 
URL:https://www.lasolid.fr/evenement/club-cpn-intergenerationnel-chantier-nature-au-verger-du-nid-doie/
LOCATION:Verger du nid d’oie\, Route de nid d'oie\, Clisson\, 44190\, France
CATEGORIES:Clubs CPN,Environnement - Biodiversité,Verger
ATTACH;FMTTYPE=image/png:https://www.lasolid.fr/wp-content/uploads/Capture-decran-2024-02-13-a-17.22.14.png
ORGANIZER;CN="La Solid'":MAILTO:asso@lasolid.fr
END:VEVENT
BEGIN:VEVENT
DTSTART;TZID=Europe/Paris:20240602T140000
DTEND;TZID=Europe/Paris:20240602T160000
DTSTAMP:20260420T165434
CREATED:20240601T192020Z
LAST-MODIFIED:20240601T192819Z
UID:10001671-1717336800-1717344000@www.lasolid.fr
SUMMARY:ANNULÉ - Papote éco-lucide : cercle d'écoute
DESCRIPTION:PAPOTES DU 2 JUIN 2024 ANNULÉE\n\nEspace libre et confidentiel\, où l’on peut partager ses éco-émotions et être écouté·e sans jugement.\nDe 3 à 8 personnes\, réservation obligatoire auprès de l’association : asso@lasolid.fr. \nSans le minimum de participant.e.s l’événement n’aura pas lieu\, merci de votre compréhension.’\nMerci d’arriver 15 minutes avant le début.\n\n\n\n\n🌍  C’est quoi ? \nLes cercles d’écoute sont des espaces libres d’accès et confidentiels\, ouverts à toutes et tous où chacun.e peut être écouté.e par un groupe de manière non-jugeante et inconditionnelle\, et pratiquer à son tour une véritable écoute. Dans un cercle d’écoute\, vous pouvez déposer\, en toute sécurité et sans jugement\, ce qui se vit intérieurement\, éventuellement ce qui est blessé\, tourmenté\, bouleversé – ou choisir de rester en silence. Un cercle d’écoute est un espace libre mais ne vise ni à donner des conseils\, ni à résoudre des problèmes. Ce n’est pas un lieu d’interaction ni d’interpellation\, ni de questions-réponses. \n🦋 C’est pour qui ? \nS’adresse aux personnes qui souhaitent partager leur émotions vis-à-vis des effondrements en cours (dérèglements climatiques\, extinction massive du vivant…)\, de l’inaction des dirigeants et la répression de celles et ceux qui agissent. Les ‘éco-anxieux’ sont des gens normaux dans un monde malade ! \n☀️ Déroulé \nUn.e animateur.rice bénévole veille à ce que la parole ne soit pas monopolisée et que le cadre soit bien respecté. Il débute par un tour de présentation et d’humeur du jour. Si nécessaire\, il peut demander à la personne venant de s’exprimer de préciser ses propos\, et relancer la parole par des questions. Plus d’infos sur la méthode d’animation. \n\n–\n\nPour en savoir plus sur les émotions liées à la crise environnementale\, nous recommandons cette formation en ligne accessible à prix libre : https://www.carbone4.com/training/eco-anxiety-emotions.\nCet événement ne se substitue pas à l’accompagnement d’un professionnel de santé. En cas de détresse psychologique liée à l’éco-anxiété\, il est recommandé de consulter.\n\n\n\n\n\nPapotes 2024\n\nDimanche 10 mars\, dimanche 7 avril\, dimanche 19 mai\, dimanche 2 juin de 14h à 16h.
URL:https://www.lasolid.fr/evenement/papote-eco-lucide-cercle-decoute-4/
LOCATION:Maison de la solidarité\, 1 rue des filatures\, Clisson\, 44190\, France
CATEGORIES:Atelier des savoirs,Environnement - Biodiversité,Réunions,Tiers Lieu Ateliers Solidaires,Veille environnementale
ATTACH;FMTTYPE=image/jpeg:https://www.lasolid.fr/wp-content/uploads/femme-couvrant-visage-fleurs-fraiches.jpg
ORGANIZER;CN="La Solid'":MAILTO:asso@lasolid.fr
END:VEVENT
BEGIN:VEVENT
DTSTART;TZID=Europe/Paris:20240608T150000
DTEND;TZID=Europe/Paris:20240608T170000
DTSTAMP:20260420T165434
CREATED:20240215T142220Z
LAST-MODIFIED:20240524T200422Z
UID:10001649-1717858800-1717866000@www.lasolid.fr
SUMMARY:Assemblée Générale
DESCRIPTION:AG ordinaire de la Solid’\, ouverte à tou·tes. Accueil dès 14h45 à la maison de la solidarité de Clisson. \nOrdre du jour : \n– Accueil à 14h45\n \n– Bilan moral\n \n– Bilan d’activités\n \n– Point budget \n– Validation du montant de l’adhésion 2024-2025 \n– Projet associatif : validation des valeurs\, du modèle de gouvernance et du modèle économique (cf travaux réalisés et validés lors du CA du 4 mai).\n \n– Ajustements des statuts et du règlement intérieur\n \n– Élection du bureau collégial 2024-2025 : appel à candidatures\, notamment de femmes !\n \n– Festiverde : validation de la convention inter-associative\, de la programmation du festival et de son budget prévisionnel. \nNos adhérent·es recevront quelques jours avant les éléments détaillés à valider. \nSi tu souhaites présenter ta candidature au bureau collégial\, prends connaissance de ce que ça implique là\, et idéalement prends contact avant avec les bénévoles : bureau@lasolid.fr. \nÀ partir de 17h :  verre de l’amitié offert par La Solid’\, accompagné d’un set musical de JusdeCoco. Histoire de nous échauffer avant la soirée… \nNous invitons nos adhérent·es à poursuivre la soirée à Boussay sur le festival TOPO(S)\, Danses et Paysages\, place de la mairie. Festival programmé par le Quatrain\, gratuit et ouvert à tou·tes.
URL:https://www.lasolid.fr/evenement/assemblee-generale/
LOCATION:Maison de la solidarité\, 1 rue des filatures\, Clisson\, 44190\, France
CATEGORIES:Autres,Environnement - Biodiversité,Réunions,Tiers Lieu Ateliers Solidaires,Vélo
ATTACH;FMTTYPE=image/jpeg:https://www.lasolid.fr/wp-content/uploads/IMG20210830191728-1-scaled.jpg
ORGANIZER;CN="La Solid'":MAILTO:asso@lasolid.fr
END:VEVENT
BEGIN:VEVENT
DTSTART;TZID=Europe/Paris:20240610T183000
DTEND;TZID=Europe/Paris:20240610T203000
DTSTAMP:20260420T165434
CREATED:20240516T143339Z
LAST-MODIFIED:20240516T143339Z
UID:10001698-1718044200-1718051400@www.lasolid.fr
SUMMARY:Réunion Veille environnementale
DESCRIPTION:Merci de te signaler avant de te déplacer : nous t’informerons du lieu de rendez-vous et des dossiers en cours. \nNouvelles et nouveaux bénévoles bienvenu·es : les dossiers sont nombreux !
URL:https://www.lasolid.fr/evenement/reunion-veille-environnementale-6/2024-06-10/
CATEGORIES:Environnement - Biodiversité,Veille environnementale
ATTACH;FMTTYPE=image/jpeg:https://www.lasolid.fr/wp-content/uploads/20221008_105018.jpg
ORGANIZER;CN="La Solid'":MAILTO:asso@lasolid.fr
END:VEVENT
BEGIN:VEVENT
DTSTART;TZID=Europe/Paris:20240610T183000
DTEND;TZID=Europe/Paris:20240610T203000
DTSTAMP:20260420T165434
CREATED:20240610T185352Z
LAST-MODIFIED:20240610T185352Z
UID:10001710-1718044200-1718051400@www.lasolid.fr
SUMMARY:Réunion Veille environnementale
DESCRIPTION:Merci de te signaler avant de te déplacer : nous t’informerons du lieu de rendez-vous et des dossiers en cours. \nNouvelles et nouveaux bénévoles bienvenu·es : les dossiers sont nombreux !
URL:https://www.lasolid.fr/evenement/reunion-veille-environnementale-7/2024-06-10/
CATEGORIES:Environnement - Biodiversité,Veille environnementale
ATTACH;FMTTYPE=image/jpeg:https://www.lasolid.fr/wp-content/uploads/20221008_105018.jpg
ORGANIZER;CN="La Solid'":MAILTO:asso@lasolid.fr
END:VEVENT
BEGIN:VEVENT
DTSTART;TZID=Europe/Paris:20240610T183000
DTEND;TZID=Europe/Paris:20240610T203000
DTSTAMP:20260420T165434
CREATED:20240725T134959Z
LAST-MODIFIED:20240725T135202Z
UID:10001736-1718044200-1718051400@www.lasolid.fr
SUMMARY:Réunion Veille environnementale
DESCRIPTION:Merci de te signaler avant de te déplacer : nous t’informerons du lieu de rendez-vous et des dossiers en cours. \nNouvelles et nouveaux bénévoles bienvenu·es : les dossiers sont nombreux !
URL:https://www.lasolid.fr/evenement/reunion-veille-environnementale-8/2024-06-10/
CATEGORIES:Environnement - Biodiversité,Veille environnementale
ATTACH;FMTTYPE=image/jpeg:https://www.lasolid.fr/wp-content/uploads/20221008_105018.jpg
ORGANIZER;CN="La Solid'":MAILTO:asso@lasolid.fr
END:VEVENT
BEGIN:VEVENT
DTSTART;TZID=Europe/Paris:20240610T183000
DTEND;TZID=Europe/Paris:20240610T203000
DTSTAMP:20260420T165434
CREATED:20240828T154555Z
LAST-MODIFIED:20241004T213259Z
UID:10001765-1718044200-1718051400@www.lasolid.fr
SUMMARY:Réunion Veille environnementale
DESCRIPTION:Merci de te signaler avant de te déplacer : nous t’informerons du lieu de rendez-vous et des dossiers en cours. \nNouvelles et nouveaux bénévoles bienvenu·es : les dossiers sont nombreux !
URL:https://www.lasolid.fr/evenement/reunion-veille-environnementale-10/2024-06-10/
CATEGORIES:Environnement - Biodiversité,Veille environnementale
ATTACH;FMTTYPE=image/jpeg:https://www.lasolid.fr/wp-content/uploads/20221008_105018.jpg
ORGANIZER;CN="La Solid'":MAILTO:asso@lasolid.fr
END:VEVENT
BEGIN:VEVENT
DTSTART;TZID=Europe/Paris:20240616T140000
DTEND;TZID=Europe/Paris:20240616T170000
DTSTAMP:20260420T165434
CREATED:20240213T171126Z
LAST-MODIFIED:20240529T202452Z
UID:10001633-1718546400-1718557200@www.lasolid.fr
SUMMARY:Fresque du climat gratuite
DESCRIPTION:Fresque du climat animée par Isabelle et Eloïne\, bénévoles de La Solid’\, ouverte à tou·tes et gratuite. \nDe 4 à 14 personnes \nInscription ici : \nhttps://association.climatefresk.org/training_sessions/088a55de-3600-43e3-a5e0-c124c5cdb15e/show_public?language=fr&tenant_token=36bd2274d3982262c0021755 \n\n🌍 L’objectif\nFace à l’urgence climatique\, l’objectif de la Fresque est de former le plus grand nombre aux enjeux pour que chacun.e puisse décrypter les informations et agir efficacement sur le plan individuel et collectif. La Fresque du Climat permet aux novices comme aux expert·es de découvrir ou approfondir leur connaissance de ce sujet.\n✏️ L’atelier\nPendant 3h\, l’atelier rassemble des participant·es et fait appel à la créativité et à l’intelligence collective du groupe pour reconstituer les liens de cause à effet.\nUn.e animateur.rice bénévole encadre les équipes afin de les guider durant l’atelier\, d’assurer une bonne communication entre les membres et de donner des explications supplémentaires.\n☀️ Déroulé\nRéflexion (1h30) : découvrir et mettre en lien les cartes pour co-construire la fresque.\nCréativité (30min) : décompresser\, s’approprier la fresque et créer un esprit d’équipe en l’illustrant.\nDebrief (1h) : échanger sur ses émotions\, questions\, et dessiner des solutions individuelles et collectives.
URL:https://www.lasolid.fr/evenement/fresque-du-climat-gratuite-2/
LOCATION:Maison de la solidarité\, 1 rue des filatures\, Clisson\, 44190\, France
CATEGORIES:Atelier des savoirs,Clubs CPN,Environnement - Biodiversité,Tiers Lieu Ateliers Solidaires,Veille environnementale
ATTACH;FMTTYPE=image/jpeg:https://www.lasolid.fr/wp-content/uploads/Affiche-Fresque-1606241-scaled.jpg
ORGANIZER;CN="La Solid'":MAILTO:asso@lasolid.fr
END:VEVENT
BEGIN:VEVENT
DTSTART;TZID=Europe/Paris:20240622T143000
DTEND;TZID=Europe/Paris:20240622T173000
DTSTAMP:20260420T165434
CREATED:20240307T155210Z
LAST-MODIFIED:20240610T211905Z
UID:10001668-1719066600-1719077400@www.lasolid.fr
SUMMARY:Marche du temps profond
DESCRIPTION:Avec l’Atelier des Savoirs de La Solid’. \n4\,6 km de promenade contée\, pour revivre les 4\,6 milliards d’années de l’existence de la Terre\, avec des points d’arrêt sur les moments-clefs d’évolution de la Terre et de la vie. \nSi des parents souhaitent venir avec leurs enfants : échange téléphonique préalable. \nLieu donné après inscription\, en ligne ici ou par message au 02 85 52 45 21. \nGratuit pour les membres de La Solid’\, prix libre pour les autres
URL:https://www.lasolid.fr/evenement/marche-du-temps-profond/
CATEGORIES:Atelier des savoirs,Environnement - Biodiversité,Tiers Lieu Ateliers Solidaires
ATTACH;FMTTYPE=image/jpeg:https://www.lasolid.fr/wp-content/uploads/adult-1867702_1280.jpg
ORGANIZER;CN="La Solid'":MAILTO:asso@lasolid.fr
END:VEVENT
BEGIN:VEVENT
DTSTART;TZID=Europe/Paris:20240623T133000
DTEND;TZID=Europe/Paris:20240623T180000
DTSTAMP:20260420T165434
CREATED:20240213T171907Z
LAST-MODIFIED:20241112T225902Z
UID:10001643-1719149400-1719165600@www.lasolid.fr
SUMMARY:Rando Clean'up au départ de Gétigné
DESCRIPTION:En plus de prendre l’air et de se dégourdir nos jambes\, on prend soin de la nature en ramassant et triant les déchets croisés en chemin.\n\nRando clean up du 23 juin\n\nRandonnée clean up organisée dans le cadre de l’association Clissonnaise ‘La Solid’.\n\nEn plus de prendre l’air et de nous dégourdir les jambes\, nous prenons soin de la nature en ramassant et triant les déchets croisés en chemin.\n\n📅\nRendez-vous dimanche 23 juin\, Rue du Pont Ligneau\, 44190 Gétigné. Départ de la marche 13h30\, merci d’arriver 5 minutes avant le départ. Retour prévu vers 18h.\n\nPour proposer/demander un covoiturage auprès des autres participant.e.s rendez-vous sur Meetup (gratuit) :\nhttps://www.meetup.com/randonantes/events/299288157/\n\n🥾 L’équipement\n\nPrévoir sacs poubelle\, paire de gants pour le clean up. Prévoir collation et boire pour la pause. Prévoir une paire de chaussures de marche et une tenue adaptée aux conditions météorologiques.\n\n🧭 L’itinéraire\n\nBoucle de 15km d’un bon pas\, au départ de Gétigné\, à la découverte de moulins et d’une friche industrielle.\n\nTracé : https://www.komoot.fr/tour/1427935836?ref=aso&share_token=a4FgZDCJZbwRLBmfvBtrgazcSvLxEncq54hybk48Nj2wvDACHv\n\n\n\n\n\n  \nUn.e animateur.rice bénévole distribue le matériel et guide les participant·es sur le parcours.\nL’animateur.rice n’est pas responsable en cas de blessure\, ni de vos enfants dans le cadre d’une sortie « famille ».
URL:https://www.lasolid.fr/evenement/rando-clean-up/
CATEGORIES:Environnement - Biodiversité,Tiers Lieu Ateliers Solidaires,Veille environnementale
ATTACH;FMTTYPE=image/jpeg:https://www.lasolid.fr/wp-content/uploads/gens-nettoient-ordures-nature.jpg
ORGANIZER;CN="La Solid'":MAILTO:asso@lasolid.fr
END:VEVENT
END:VCALENDAR